Workbook

Sheet 14
J2: Datos
J3: Estadísticos
J4: del Consejo General
A6: Año | B6: Fecha | C6: Tipo de la sesión | F6: Acuerdos | G6: Resoluciones | H6: Dictámenes | I6: Informes | J6: Observaciones
C7: Ord. | D7: Ext. | E7: Esp.
A9: 2014 | B9: 4 de abril | D9: X | J9: - Instalación del Consejo General del Instituto Nacional Electoral y Toma de Protesta del Consejero Presidente del Consejo General designado por la Cámara de Diputados del H. Congreso de la Unión. (No se contabiliza)
B10: 11 de abril | D10: X | F10: 9 | J10: - INE/CG01/2014 Designación del C. Edmundo Jacobo Molina como Secretario Ejecutivo del Consejo General del Instituto Nacional Electoral. (Se contabiliza como Acuerdo) - INE/CG02/2014 Designación del C. René Miranda Jaimes como titular de la Dirección Ejecutiva del Registro Federal de Electores. (Se contabiliza como Acuerdo) - INE/CG03/2014 Designación del C. Alberto García Sarubbi como titular de la Coordinación de Comunicación Social. (Se contabiliza como Acuerdo) - INE/CG04/2014 Designación del C. Jorge Humberto Torres Antuñano como titular de la Unidad Técnica de Servicios de Informática. (Se contabiliza como Acuerdo)
B11: 15 de abril | D11: X | F11: 2
B12: 29 de abril | D12: X | F12: 3 | I12: 2
B13: 21 de mayo | D13: X | J13: - Toma de Protesta del Contralor General designado por la Cámara de Diputados del Congreso de la Unión. (No se contabiliza)
B14: 21 de mayo | D14: X | F14: 2 | G14: 12 | I14: 2
B15: 30 de mayo | D15: X | F15: 5 | G15: 8 | I15: 2 | J15: - Primer Informe Trimestral de Actividades de la Junta General Ejecutiva, correspondiente a los meses de enero, febrero y marzo de 2014.
B16: 6 de junio | D16: X | F16: 5 | G16: 1 | I16: 2
B17: 20 de junio | D17: X | F17: 12 | G17: 8 | I17: 1 | J17: - INE/CG56/2014 Programa y Calendario Anuales de Trabajo 2014 de la Comisión de Fiscalización. (Se contabiliza como Acuerdo)
B18: 20 de junio | D18: X | F18: 2
B19: 2 de julio | C19: X | F19: 4 | G19: 11 | I19: 3
B20: 2 de julio | D20: X | F20: 2
B21: 9 de julio | D21: X | F21: 7 | G21: 3 | I21: 1 | J21: - INE/CG87/2014 Programa de Trabajo de la Comisión de Vinculación con los Organismos Públicos Locales. (Se contabiliza como Acuerdo)
B22: 14 de julio | D22: X | F22: 6 | G22: 3 | I22: 1 | J22: - Estudio Muestral sobre las características de los votos nulos en la Elección Presidencial de 2006. (Se contabiliza como Informe) - INE/CG99/2014 Designacoón de la Licenciada Cecilia del Carmen Azuara Arai como titular de la Unidad Técnica de Servicios de Información y Documentación. (Se contabiliza como Acuerdo) - INE/CG102/2014 Programa Anual de Trabajo 2014 de la Comisión de Capacitación Electoral y Educación Cívica. (Se contabiliza como Acuerdo)
B23: 14 de julio | D23: X | F23: 1 | G23: 4 | I23: 2 | J23: - Agenda de Trabajo para la elaboración de los Lineamientos generales que se recomiendan a los noticieros respecto de la información y difusión de las actividades de precampaña y campaña de los Partidos Políticos y de los Candidatos Independientes en el Proceso Electoral Federal 2014-2015. (Se contabiliza como Informe)
B24: 13 de agosto | D24: X | F24: 6 | G24: 4
B25: 20 de agosto | D25: X | F25: 1 | G25: 12 | I25: 3
B26: 27 de agosto | D26: X | F26: 5 | G26: 3
B27: 27 de agosto | D27: X | F27: 1
B28: 3 de septiembre | D28: X | F28: 2 | G28: 8 | I28: 2
B29: 10 de septiembre | D29: X | F29: 4 | G29: 1 | I29: 4
B30: 25 de septiembre | D30: X | F30: 2 | G30: 3
B31: 30 de septiembre | D31: X | F31: 13 | G31: 7 | I31: 1
A32: 2014 | B32: 7 de octubre | D32: X | J32: - Intervenciones con motivo del inicio del Proceso Electoral Federal 2014-2015. (No se contabiliza)
B33: 7 de octubre | D33: X | F33: 10 | G33: 10 | I33: 3
B34: 7 de octubre | D34: X | F34: 1
B35: 15 de octubre | D35: X | F35: 8 | G35: 2 | J35: - Adecuaciones al Programa de Trabajo de la Comisión de Prerrogativas y Partidos Políticos derivadas de la Reforma Político-Electoral. (Se contabiliza como Acuerdo)
B36: 15 de octubre | D36: X | F36: 2 | J36: - Programa de Trabajo de la Comisión de Capacitación y Organización Electoral para el Proceso Electoral 2014-2015. (Se contabiliza como Acuerdo)
B37: 22 de octubre | D37: X | F37: 4 | G37: 8 | H37: 1 | I37: 1
B38: 29 de octubre | C38: X | F38: 5 | I38: 6 | J38: - Diagnóstico de Patrones de participación atípicos en las Elecciones Federales de 2012. (Se contabiliza como Informe)
B39: 29 de octubre | D39: X | F39: 6 | J39: - INE/CG234/2014 Designación del C. Patricio Ballados Villagómez como titular de la Dirección Ejecutiva de Prerrogativas y Partidos Políticos. (Se contabiliza como Acuerdo) - INE/CG235/2014 Designación del C. Bogart Cristóbal Montiel como titular de la Dirección Ejecutiva de Administración. (Se contabiliza como Acuerdo) - INE/CG236/2014 Designación del C. Carlos Alberto Ferrer Silva como titular de la Unidad Técnica de lo Contencioso Electoral. (Se contabiliza como Acuerdo) - INE/CG237/2014 Designación de la C. Olga Alicia Castro Ramírez como titular de la Unidad Técnica de Vinculación con los Organismos Públicos Locales. (Se contabiliza como Acuerdo)
B40: 5 de noviembre | D40: X | F40: 4 | G40: 9 | H40: 1 | I40: 1
B41: 10 de noviembre | D41: X | F41: 1
B42: 19 de noviembre | D42: X | F42: 21 | G42: 4 | I42: 2
B43: 19 de noviembre | D43: X | F43: 1 | I43: 1
...

Sheet 15
J2: Datos
J3: Estadísticos
J4: del Consejo General
A6: Año | B6: Fecha | C6: Tipo de la sesión | F6: Acuerdos | G6: Resoluciones | H6: Dictámenes | I6: Informes | J6: Observaciones
C7: Ord. | D7: Ext. | E7: Esp.
A9: 2015 | B9: 14 de enero | D9: X | F9: 7 | G9: 5 | J9: - INE/CG09/2014 Designación del Titular de la Dirección Jurídica, Lic. Gabriel Mendoza Elvira. (Se contabiliza como Acuerdo)
B10: 21 de enero | D10: X | F10: 1 | I10: 1
B11: 21 de enero | D11: X | F11: 1
B12: 21 de enero | D12: X | F12: 3
B13: 28 de enero | C13: X | F13: 5 | G13: 9 | I13: 7
B14: 28 de enero | D14: X | F14: 11 | G14: 4
B15: 28 de enero | D15: X | F15: 3 | I15: 2
B16: 28 de enero | D16: X | G16: 2
B17: 3 de febrero | D17: X | F17: 2 | G17: 1 | H17: 1 | J17: - INE/CG54/2014 Informe Anual en Materia de Transparencia y Acceso a la Información relativo al año 2014 del Instituto Nacional Electoral. (Se contabiliza como Acuerdo)
B18: 18 de febrero | D18: X | F18: 10 | I18: 2 | J18: - INE/CG56/2014 Octavo Informe Semestral de la Estrategia Nacional de Educación Cívica para el Desarrollo de la Cultura Política Democrática en México 2011-2015. (Se contabiliza como Acuerdo)
B19: 25 de febreo | C19: X | F19: 11 | I19: 12 | J19: - Cuarto Informe Trimestral de Actividades de la Junta General Ejecutiva, correspondiente a los meses de octubre, noviembre y diciembre de 2014. - Informe Anual de Actividades de la Junta General Ejecutiva correspondiente al año 2014. - INE/CG70/2014 Programa General de atención e información para los Visitantes Extranjeros que acudan a conocer las modalidades del Proceso Electoral Federal 2014–2015, que se presenta en cumplimiento a lo ordenado en el Acuerdo INE/CG/204/2014. (Se contabiliza como Acuerdo)
B20: 1 de marzo | D20: X | F20: 6 | J20: - INE/CG82/2014 Designación del C. Eduardo Gurza Curiel como Titular de la Unidad Técnica de Fiscalización. (Se contabiliza como Acuerdo)
B21: 6 de marzo | D21: X | F21: 2 | G21: 1
B22: 11 de marzo | D22: X | F22: 6 | I22: 7
B23: 25 de marzo | C23: X | F23: 7 | G23: 18 | I23: 12
B24: 25 de marzo | D24: X | F24: 2 | G24: 2 | J24: - Esta sesión inició y terminó en la madrugada del día 26 de marzo.
B25: 1 de abril | D25: X | F25: 9 | G25: 2 | H25: 2 | I25: 2
B26: 1 de abril | D26: X | F26: 15 | G26: 13
B27: 4 de abril | E27: X | F27: 3
B28: 4 de abril | D28: X | F28: 1
B29: 8 de abril | D29: X | F29: 3 | G29: 1 | H29: 1
B30: 15 de abril | D30: X | F30: 6 | G30: 12 | H30: 12 | I30: 3
B31: 22 de abril | D31: X | F31: 4 | G31: 3 | H31: 4 | I31: 2
B32: 29 de abril | C32: X | F32: 2 | G32: 8 | H32: 3 | I32: 10
B33: 29 de abril | D33: X | F33: 1 | G33: 3
B34: 29 de abril | D34: X | F34: 2
B35: 6 de mayo | D35: X | F35: 11 | G35: 2 | H35: 2 | I35: 4
B36: 6 de mayo | D36: X | F36: 3
B37: 13 de mayo | D37: X | F37: 5 | G37: 8 | H37: 6
B38: 13 de mayo | D38: X | F38: 8
B39: 20 de mayo | D39: X | F39: 10 | G39: 16 | H39: 4
B40: 20 de mayo | D40: X | F40: 3 | I40: 1
A41: 2015 | B41: 27 de mayo | C41: X | F41: 4 | G41: 7 | H41: 1 | I41: 10 | J41: - Obtención de las dos muestras aleatorias simples de cuatro casillas por cada distrito electoral federal para la verificación de las medidas de seguridad incorporadas en la documentación electoral y la certificación de las características y calidad del líquido indeleble, utilizados en las elecciones del 2015. (No se contabiliza)
B42: 27 de mayo | D42: X | F42: 5 | I42: 1
B43: 31 de mayo | D43: X | G43: 1
...

Sheet 16
J2: Datos
J3: Estadísticos
J4: del Consejo General
A6: Año | B6: Fecha | C6: Tipo de la sesión | F6: Acuerdos | G6: Resoluciones | H6: Dictámenes | I6: Informes | J6: Observaciones
C7: Ord. | D7: Ext. | E7: Esp.
A9: 2016 | B9: 8 de enero | D9: X | F9: 4
B10: 8 de enero | D10: X | F10: 1
B11: 17 de enero | D11: X | F11: 2 | I11: 2 | J11: Jornada Electoral en el estado de Colima.
B12: 27 de enero | D12: X | F12: 19 | G12: 18 | H12: 7 | I12: 3 | J12: - INE/CG44/2016 Informes Anuales que las Comisiones rinden al Consejo General del Instituto Nacional Electoral sobre el desarrollo de sus actividades durante el año 2015. (Se contabiliza como Acuerdo) - INE/CG45/2016 Programas de Trabajo de las Comisiones del Consejo General del Instituto Nacional Electoral para el año 2016. (Se contabiliza como Acuerdo)
B13: 4 de febrero | D13: X | F13: 4 | J13: - Sorteo de las letras que comprenden el alfabeto, a fin de obtener la letra a partir de la cual, con base en el apellido paterno se seleccionará a las y los ciudadanos que integrarán las Mesas Directivas de Casilla. (No se contabiliza)
B14: 8 de febrero | D14: X | F14: 4 | G14: 2 | I14: 2
B15: 8 de febrero | D15: X | F15: 3
B16: 17 de febrero | D16: X | F16: 10 | G16: 2 | I16: 7 | J16: - INE/CG65/2016 Informe Anual en Materia de Transparencia y Acceso a la Información relativo al año 2015 del Instituto Nacional Electoral. (Se contabiliza como Acuerdo)
B17: 19 de febrero | D17: X | F17: 2 | G17: 2
B18: 26 de febrero | C18: X | F18: 8 | G18: 4 | H18: 1 | I18: 9 | J18: - Cuarto Informe Trimestral de Actividades de la Junta General Ejecutiva, correspondiente a los meses de octubre, noviembre y diciembre de 2015. - Informe Anual de Actividades de la Junta General Ejecutiva correspondiente al año 2015.
B19: 26 de febrero | D19: X | F19: 1
B20: 16 de marzo | D20: X | F20: 22 | G20: 13 | H20: 2 | I20: 6
B21: 16 de marzo | D21: X | F21: 1 | J21: - INE/CG132/2016 Designación de la Ingeniera Ana de Gortari Pedroza como Titular de la Unidad Técnica de Planeación. (Se contabiliza como Acuerdo)
B22: 30 de marzo | D22: X | F22: 21 | G22: 17 | H22: 3 | I22: 2
B23: 30 de marzo | D23: X | F23: 2
B24: 30 de marzo | D24: X | F24: 1
B25: 6 de abril | D25: X | F25: 1 | G25: 9 | H25: 2
B26: 6 de abril | D26: X | F26: 4 | G26: 1
B27: 14 de abril | D27: X | F27: 1
B28: 17 de abril | E28: X | F28: 39 | H28: 2
B29: 17 de abril | D29: X | G29: 2 | H29: 4
B30: 20 de abril | D30: X | F30: 2 | G30: 17
B31: 20 de abril | D31: X | F31: 4 | I31: 2
B32: 27 de abril | D32: X | F32: 7 | G32: 11 | H32: 6 | I32: 1
B33: 27 de abril | D33: X | F33: 1 | I33: 1
B34: 4 de mayo | D34: X | F34: 36 | G34: 16 | H34: 6 | I34: 1
B35: 4 de mayo | D35: X | F35: 1 | I35: 1
B36: 11 de mayo | D36: X | F36: 1
B37: 11 de mayo | D37: X | G37: 7 | H37: 6 | I37: 2
B38: 13 de mayo | D38: X | F38: 3
B39: 18 de mayo | D39: X | F39: 14 | G39: 1
B40: 18 de mayo | D40: X | F40: 7 | G40: 7 | H40: 7 | I40: 1
B41: 18 de mayo | D41: X | F41: 1 | I41: 1
B42: 25 de mayo | C42: X | F42: 8 | G42: 6 | H42: 3 | I42: 6
A43: 2016 | B43: 25 de mayo | D43: X | F43: 2 | J43: - Selección de dos muestras aleatorias de Casillas para la verificación de boletas, actas y líquido indeleble de la Elección de Diputadas y Diputados para la Asamblea Constituyente de la Ciudad de México. (No se contabiliza)
...

Sheet 17
J2: Datos
J3: Estadísticos
J4: del Consejo General
A6: Año | B6: Fecha | C6: Tipo de la sesión | F6: Acuerdos | G6: Resoluciones | H6: Dictámenes | I6: Informes | J6: Observaciones
C7: Ord. | D7: Ext. | E7: Esp.
A9: 2017 | B9: 13 de enero | D9: X | F9: 3 | G9: 2 | I9: 0
B10: 26 de enero | D10: X | F10: 9 | G10: 3 | I10: 1 | J10: - INE/CG11/2017 Programas de Trabajo de las Comisiones del Consejo General del Instituto Nacional Electoral para el año 2017. (Se contabiliza como Acuerdo)
B11: 26 de enero | D11: X | F11: 3 | G11: 2 | I11: 1 | J11: - INE/CG18/2017 Programas de Trabajo de las Comisiones del Consejo General del Instituto Nacional Electoral para el año 2017. (Se contabiliza como Acuerdo)
B12: 1 de febrero | D12: X | I12: 0 | J12: - Sorteo de las letras que comprende el alfabeto, a fin de obtener la letra a partir de la cual, con base en el apellido paterno, se seleccionará a los ciudadanos que integrarán las Mesas Directivas de Casilla de los Procesos Electorales Locales 2016-2017. (No se contabiliza)
B13: 24 de febrero | C13: X | F13: 14 | G13: 15 | I13: 8 | J13: - Tercer Informe Trimestral de Actividades de la Junta General Ejecutiva, correspondiente a los meses de julio, agosto y septiembre de 2016. - INE/CG34/2017 Programa Anual de Trabajo del ejercicio 2017 de la Comisión de Fiscalización del Consejo General del Instituto Nacional Electoral. (Se contabiliza como Acuerdo)
B14: 24 de febrero | D14: X | G14: 1 | I14: 1
B15: 7 de marzo | D15: X | G15: 2 | I15: 3
B16: 7 de marzo | D16: X | F16: 2
B17: 15 de marzo | D17: X | F17: 11 | G17: 1 | I17: 4
B18: 15 de marzo | D18: X | F18: 1
B19: 28 de marzo | D19: X | F19: 16 | G19: 16 | I19: 7
B20: 28 de marzo | D20: X | F20: 2 | I20: 1
B21: 5 de abril | D21: X | J21: - Toma de protesta de las y el Consejero Electoral electos por la Cámara de Diputados del H. Congreso de la Unión, Maestra Dania Paola Ravel Cuevas, Maestra Beatriz Claudia Zavala Pérez y Maestro Jaime Rivera Velázquez.
B22: 5 de abril | D22: X | F22: 5
B23: 18 de abril | D23: X | F23: 1 | I23: 3
B24: 18 de abril | D24: X | F24: 1 | G24: 12 | I24: 1
B25: 26 de abril | D25: X | F25: 8 | G25: 5 | H25: 3 | I25: 1
B26: 3 de mayo | D26: X | F26: 9 | G26: 6 | H26: 5 | I26: 4
B27: 3 de mayo | D27: X | F27: 1
B28: 10 de mayo | D28: X | F28: 4 | I28: 1
B29: 24 de mayo | C29: X | F29: 2 | G29: 10 | H29: 2 | I29: 10 | J29: - Cuarto Informe Trimestral de Actividades de la Junta General Ejecutiva, correspondiente a los meses de octubre, noviembre y diciembre de 2016. - Informe Anual de Actividades de la Junta General Ejecutiva correspondiente al año 2016.
B30: 24 de mayo | D30: X | F30: 3 | I30: 3
B31: 4 de junio | D31: X | I31: 1 | J31: - Jornada Electoral.
B32: 28 de junio | D32: X | F32: 23 | G32: 13 | I32: 4
B33: 14 y 17 de julio | D33: X | F33: 6 | G33: 93 | H33: 7 | I33: 2
B34: 17 de julio | D34: X | F34: 1
B35: 20 de julio | D35: X | F35: 7 | G35: 2
B36: 20 de julio | D36: X | F36: 2 | G36: 4
B37: 18 de agosto | D37: X | F37: 2 | I37: 1
A38: 2017 | B38: 28 de agosto | C38: X | F38: 7 | G38: 21 | I38: 5 | J38: - INE/CG361/2017 Estrategia Integral de Promoción del Voto de las y los Mexicanos Residentes en el Extranjero en los Procesos Electorales Locales 2017-2018. (Se contabiliza como Acuerdo)
B39: 28 de agosto | D39: X | F39: 20 | G39: 1 | I39: 1
B40: 5 de septiembre | D40: X | F40: 6 | G40: 3 | I40: 8
B41: 5 de septiembre | D41: X | F41: 1
B42: 8 de septiembre | D42: X | J42: Intervenciones de los miembros del Consejo General con motivo del inicio del Proceso Electoral Federal 2017-2018.
B43: 8 de septiembre | D43: X | F43: 9 | G43: 22 | I43: 7
...

Sheet 18
J2: Datos
J3: Estadísticos
J4: del Consejo General
A6: Año | B6: Fecha | C6: Tipo de la sesión | F6: Acuerdos | G6: Resoluciones | H6: Dictámenes | I6: Informes | J6: Observaciones
C7: Ord. | D7: Ext. | E7: Esp.
A9: 2018 | B9: 5 de enero | D9: X | F9: 3 | G9: 1 | H9: 2 | I9: 6
B10: 5 de enero | D10: X | G10: 1
B11: 10 de enero | D11: X | F11: 9 | G11: 10 | H11: 1 | I11: 5 | J11: INE/CG20/2018 Programa Anual de Trabajo para el año 2018 de la Comisión de Vinculación con los Organismos Públicos Locales. (Se contabiliza como Acuerdo)
B12: 22 de enero | D12: X | F12: 7 | G12: 5 | I12: 4
B13: 31 de enero | C13: X | F13: 27 | G13: 20 | I13: 16 | J13: - Sorteo del mes, que junto con el que sigue en su orden, será tomado como base para la insaculación de los ciudadanos que integrarán las Mesas Directivas de Casilla en el Proceso Electoral 2017-2018, […] (No se contabiliza) - INE/CG40/2018 Informes Anuales que las Comisiones y el Comité de Planeación Institucional rinden al Consejo General del Instituto Nacional Electoral sobre el desarrollo de sus actividades durante el año 2017. (Se contabiliza como Acuerdo) - INE/CG41/2018 Programas de Trabajo de las Comisiones y del Comité de Planeación Institucional del Consejo General del Instituto Nacional Electoral para el año 2018.
B14: 14 de febrero | D14: X | F14: 14 | G14: 6 | H14: 2 | I14: 8 | J14: - INE/CG97/2018 Informe Anual de Actividades de la Comisión Temporal del Voto de los Mexicanos Residentes en el Extranjero en el año 2017. (Se contabiliza como Acuerdo) - INE/CG98/2018 Programa Anual de Trabajo 2018 de la Comisión Temporal del Voto de los Mexicanos Residentes en el Extranjero. (Se contabiliza como Acuerdo)
B15: 19 de febreo | D15: X | F15: 3
B16: 19 de febreo | D16: X | F16: 1
B17: 28 de febrero | C17: X | F17: 13 | G17: 15 | H17: 1 | I17: 13 | J17: - Sorteo de las letras que comprende el alfabeto, a fin de obtener la letra a partir de la cual, con base en el primer apellido, se seleccionará a las y los ciudadanos que serán designados funcionarios de casilla en el Proceso Electoral 2017-2018 […] (No se contabiliza)
B18: 14 de marzo | D18: X | F18: 21 | G18: 4 | H18: 2 | I18: 2
B19: 14 de marzo | D19: X | J19: - Se pospuso la discusión y aprobación del punto único.
B20: 23 de marzo | D20: X | F20: 4 | G20: 57 | H20: 39
B21: 23 de marzo | D21: X | H21: 1
B22: 28 de marzo | C22: X | F22: 2 | G22: 9 | H22: 2 | I22: 11 | J22: - Cuarto Informe Trimestral de Actividades de la Junta General Ejecutiva, correspondiente a los meses de octubre, noviembre y diciembre de 2017.
B23: 28 de marzo | D23: X | F23: 3 | I23: 3 | J23: - Se pospuso la discusión de los Proyectos de Acuerdos identificados en el orden del día como puntos 2 y 3.
B24: 29 de marzo | E24: X | F24: 15
B25: 29 de marzo | D25: X | F25: 1
B26: 4 de abril | D26: X | F26: 7 | G26: 36 | H26: 36
B27: 4 de abril | D27: X | F27: 1 | J27: - Se propuso el retiro del Proyecto de Acuerdo identificado en el orden del día con el número 2.
B28: 5 de abril | D28: X | F28: 2
B29: 10 de abril | D29: X | F29: 4
B30: 16 de abril | D30: X | F30: 1 | J30: - Se propuso la devolución del Proyecto de Acuerdo identificado en el orden del día con el número 2, sin embargo no se ha presentado el Acuerdo de devolución.
B31: 16 de abril | D31: X | F31: 1
B32: 17 de abril | D32: X | F32: 1
B33: 23 de abril | D33: X | F33: 2
B34: 25 de abril | C34: X | F34: 19 | G34: 9 | H34: 5 | I34: 13
B35: 27 de abril | D35: X | F35: 3
A36: 2018 | B36: 4 de mayo | D36: X | F36: 5 | G36: 2 | I36: 2
B37: 4 de mayo | D37: X | F37: 1 | G37: 1
B38: 11 de mayo | D38: X | F38: 12 | G38: 14 | I38: 2
B39: 11 de mayo | D39: X | F39: 1
B40: 28 de mayo | C40: X | F40: 32 | G40: 14 | H40: 2 | I40: 18 | J40: - Informe Anual de Actividades de la Junta General Ejecutiva correspondiente al año 2017. - Selección de las muestras para la verificación de las medidas de seguridad en la documentación electoral y las características y calidad del líquido indeleble. (Se contabiliza como Informe) - Informe sobre la implementación del marco de actuación para la continuidad de operaciones del Proceso Electoral Federal 2018, así como para los procesos extraordinarios que, en su caso, deriven del mismo y que se desprenden de un acuerdo de la propia Junta General Ejecutiva de informar a este Consejo. (Informe agendado en Asuntos Generales y se contabiliza)
B41: 7 de junio | D41: X | F41: 4
B42: 20 de junio | D42: X | F42: 3
B43: 20 de junio | C43: X | F43: 21 | G43: 37 | I43: 18 | J43: - Primer Informe Trimestral de Actividades de la Junta General Ejecutiva, correspondiente a los meses de enero, febrero y marzo de 2018. - Segundo Informe sobre la implementación del marco de actuación para la continuidad de operaciones del Proceso Electoral Federal 2018, así como para los procesos extraordinarios que, en su caso, deriven del mismo, que se presenta a los integrantes del Consejo General del Instituto Nacional Electoral en cumplimiento de los acuerdos INE/CG409/2018 E INE/JGE75/2018. (Informe agendado en Asuntos Generales y se contabiliza) - INE/CG577/2018 Acuerdo del Consejo General del Instituto Nacional Electoral, por el que se aprueba ampliar el plazo para el registro de representantes de Partidos Políticos y Candidaturas Independientes, Generales y ante Mesas Directivas de Casilla, para el Proceso Electoral 2017 – 2018. (IAcuerdo agendado en Asuntos Generales) - Informe sobre el Sistema denominado "candidatas y candidatos, conócelos". (Informe agendado en Asuntos Generales y se contabiliza)
...

Sheet 19
J2: Datos
J3: Estadísticos
J4: del Consejo General
A6: Año | B6: Fecha | C6: Tipo de la sesión | F6: Acuerdos | G6: Resoluciones | H6: Dictámenes | I6: Informes | J6: Observaciones
C7: Ord. | D7: Ext. | E7: Esp.
A9: 2019 | B9: 9 de enero | D9: X | F9: 2
B10: 23 de enero | D10: X | F10: 12 | G10: 18 | H10: 1 | J10: INE/CG03/2019 Informes Anuales que las Comisiones rinden al Consejo General del Instituto Nacional Electoral sobre el desarrollo de sus actividades durante el año 2018. (Se contabiliza como Acuerdo) INE/CG04/2019 Programas de Trabajo de las Comisiones del Consejo General del Instituto Nacional Electoral para el año 2019. (Se contabiliza como Acuerdo)
B11: 23 de enero | D11: X | F11: 1 | I11: 1
B12: 6 de febrero | D12: X | F12: 2 | G12: 3 | I12: 2 | J12: Sorteo de la letra, a partir de la cual, con base en el primer apellido, se seleccionará a las y los ciudadanos que serán designados funcionarios de casilla en el Proceso Electoral 2018-2019. (No se contabiliza)
B13: 6 de febrero | D13: X | F13: 9 | G13: 1 | J13: INE/CG48/2019 Programa de Trabajo de la Comisión Temporal de Vinculación con Mexicanos Residentes en el Extranjero y Análisis de las Modalidades de su Voto (Se contabiliza como Acuerdo)
B14: 6 de febrero | D14: X | F14: 3
B15: 18 de febrero | C15: X | F15: 13 | G15: 11 | H15: 2 | I15: 5
B16: 18 de febrero | D16: X | F16: 2
B17: 5 de marzo | D17: X | F17: 10 | G17: 2 | I17: 2
B18: 12 de marzo | D18: X | G18: 1
B19: 21 de marzo | D19: X | F19: 17 | G19: 14 | I19: 2
B20: 29 de marzo | D20: X | F20: 12 | G20: 16 | H20: 15 | I20: 4 | J20: Cuarto Informe Trimestral de Actividades de la Junta General Ejecutiva, correspondiente a los meses de octubre, noviembre y diciembre de 2018. Informe Anual de Actividades de la Junta General Ejecutiva correspondiente al año 2018.
B21: 10 de abril | D21: X | F21: 12 | G21: 38 | I21: 6
B22: 26 de abril | D22: X | F22: 9 | G22: 9 | H22: 3 | I22: 3 | J22: Reporte de Resultados. Consulta Infantil y Juvenil 2018. (Se contabiliza como Informe)
B23: 26 de abril | D23: X | F23: 3
B24: 2 de mayo | D24: X | F24: 1 | J24: Toma de Protesta del Contralor General designado por la Cámara de Diputados del Congreso de la Unión. (No se contabiliza)
B25: 8 de mayo | D25: X | F25: 2 | I25: 4
B26: 8 de mayo | D26: X | F26: 1
B27: 22 de mayo | C27: X | F27: 10 | G27: 14 | I27: 8 | J27: Selección de dos muestras aleatorias simples de casillas de los 15 Consejos Distritales en el estado de Puebla, para la verificación de las medidas de seguridad en boletas y actas de casilla, y la efectividad del líquido indeleble. (No se contabiliza)
B28: 29 de mayo | D28: X | F28: 1 | I28: 1
B29: 29 de mayo | D29: X | F29: 2
B30: 2 de junio | D30: X | I30: 2 | J30: - Jornada Electoral del Proceso Electoral Local ordinario y extraordinario 2018-2019. - De los informes identificados en el orden del día como puntos 2, 3 no se circuló ningún documento. (Se contabilizan como Informe)
B31: 25 de junio | D31: X | F31: 13 | G31: 17 | I31: 4 | J31: Primer Informe Trimestral de Actividades de la Junta General Ejecutiva, correspondiente a los meses de enero, febrero y marzo de 2019.
B32: 8 de julio | D32: X | F32: 5 | G32: 34 | H32: 6 | I32: 3
B33: 14 de agosto | D33: X | F33: 6 | G33: 24 | I33: 6
B34: 28 de agosto | C34: X | F34: 13 | G34: 13 | I34: 7 | J34: Segundo Informe Trimestral de Actividades de la Junta General Ejecutiva, correspondiente a los meses de abril, mayo y junio de 2019.
A35: 2019 | B35: 28 de agosto | D35: X | F35: 3 | I35: 1
B36: 4 de septiembre | D36: X | F36: 4 | G36: 3 | I36: 1
B37: 18 de septiembre | D37: X | F37: 11 | G37: 8 | I37: 14
B38: 30 de septiembre | D38: X | F38: 13 | G38: 11 | I38: 1 | J38: INE/CG435/2019 Programas de Trabajo de la Comisión Temporal de Vinculación con Mexicanos Residentes en el Extranjero y Análisis de las Modalidades de su Voto, 2019-2021. (Se contabiliza como Acuerdo) 'INE/CG436/2019 Programas de Trabajo de la Comisión Temporal para el Seguimiento de los Procesos Electorales Locales 2019-2020. (Se contabiliza como Acuerdo)
B39: 30 de septiembre | D39: X | F39: 1
B40: 16 de octubre | D40: X | G40: 4
B41: 6 de noviembre | D41: X | F41: 21 | G41: 25 | H41: 3 | I41: 1
B42: 6 de noviembre | D42: X | F42: 1 | G42: 1
B43: 20 de noviembre | C43: X | F43: 5 | G43: 25 | I43: 4 | J43: Tercer Informe Trimestral de Actividades de la Junta General Ejecutiva, correspondiente a los meses de julio, agosto y septiembre de 2019.
...

Sheet 20
J2: Datos
J3: Estadísticos
J4: del Consejo General
A6: Año | B6: Fecha | C6: Tipo de la sesión | F6: Acuerdos | G6: Resoluciones | H6: Dictámenes | I6: Informes | J6: Observaciones
C7: Ord. | D7: Ext. | E7: Esp.
A9: 2020 | B9: 22 de enero | D9: X | F9: 14 | G9: 17 | I9: 5 | J9: INE/CG01/2020 Informes Anuales que las Comisiones rinden al Consejo General del Instituto Nacional Electoral sobre el desarrollo de sus actividades durante el año 2019. (Se contabiliza como Acuerdo) INE/CG02/2020 Programas de Trabajo de las Comisiones del Consejo General del Instituto Nacional Electoral para el año 2020. (Se contabiliza como Acuerdo) Presentación de resultados de la Evaluación del Programa de Asistencia Electoral 2017-2018. (Se contabiliza como Informe)
B10: 22 de enero | D10: X | F10: 4 | J10: INE/CG34/2020 Titular de la Dirección Ejecutiva de Organización Electoral, Ciudadano Sergio Bernal Rojas. (Se contabiliza como Acuerdo) INE/CG35/2020 Titular de la Dirección Ejecutiva del Servicio Profesional Electoral Nacional, Ciudadana Ma. del Refugio García López. (Se contabiliza como Acuerdo)
B11: 6 de febrero | D11: X | F11: 4 | J11: Sorteo de la letra, a partir de la cual, con base en el primer apellido, se seleccionará a las y los ciudadanos que serán designados funcionarios de casilla en el Proceso Electoral 2019-2020. (No se contabiliza)
B12: 6 de febrero | D12: X | F12: 1 | J12: INE/CG40/2020 Designación del C. Edmundo Jacobo Molina como Titular de la Secretaría Ejecutiva del Instituto Nacional Electoral, por un nuevo periodo de seis años.
B13: 21 de febrero | C13: X | F13: 20 | G13: 19 | I13: 10 | J13: Cuarto Informe Trimestral de Actividades de la Junta General Ejecutiva, correspondiente a los meses de octubre, noviembre y diciembre de 2019.
B14: 27 de marzo | D14: X | F14: 1
B15: 27 de marzo | D15: X | F15: 2 | I15: 1
B16: 1 de abril | D16: X | F16: 1
B17: 17 de abril | D17: X | F17: 6
B18: 15 de mayo | D18: X | F18: 7 | I18: 5 | J18: Estudio sobre la Calidad de la Capacitación del Proceso Electoral 2017-2018. (Se contabiliza como Informe)
B19: 28 de mayo | D19: X | F19: 22 | G19: 15 | I19: 11
B20: 11 de junio | D20: X | F20: 3 | I20: 5
B21: 19 de junio | D21: X | F21: 18 | G21: 2 | I21: 2 | J21: INE/CG153/2020 Programa de Trabajo de la Comisión Temporal de Vinculación con Mexicanos Residentes en el Extranjero y Análisis de las Modalidades de su Voto. (Se contabiliza como Acuerdo)
B22: 8 de julio | C22: X | F22: 12 | G22: 1 | I22: 3 | J22: Informe Anual de Actividades de la Junta General Ejecutiva correspondiente al año 2019. Primer Informe Trimestral de Actividades de la Junta General Ejecutiva, correspondiente a los meses de enero, febrero y marzo de 2020.
B23: 23 de julio | D23: X | J23: Toma de protesta de las consejeras y los consejeros electorales electos por la Cámara de Diputados del Honorable Congreso de la Unión, Maestra Norma Irene De La Cruz Magaña, Doctor Uuc-Kib Espadas, Maestro José Martín Fernando Faz Mora y Doctora Carla Astrid Humphrey Jordán.
B24: 30 de julio | D24: X | F24: 17 | I24: 5 | J24: Análisis muestral del llenado de los cuadernillos para hacer las operaciones de escrutinio y cómputo de casilla de las Elecciones Federales de 2018. (Se contabiliza como Informe) Análisis sobre las características geo-electorales de votación de las y los representantes de partidos políticos y candidaturas independientes durante la Jornada Electoral y su impacto sobre los resultados en las elecciones federales de 2018. (Se contabiliza como Informe) Actualización del Estudio del Sistema de Registro de Actas y su efecto en los Cómputos Distritales del Proceso Electoral Federal 2017-2018. (Se contabiliza como Informe)
B25: 7 de agosto | D25: X | F25: 5 | G25: 1
A26: 2020 | B26: 21 de agosto | D26: X | F26: 11 | G26: 10 | H26: 1 | J26: INE/CG202/2020 Plan de trabajo de la Comisión Temporal para el Seguimiento de los Procesos Electorales Locales 2019-2020, con motivo de la reanudación de los procesos electorales en los estados de Coahuila e Hidalgo. (Se contabiliza como Acuerdo)
B27: 21 de agosto | D27: X | F27: 1
B28: 26 de agosto | D28: X | F28: 21 | I28: 3 | J28: Segundo Informe Trimestral de actividades de la Junta General Ejecutiva, correspondiente a los meses de abril, mayo y junio de 2020.
B29: 26 de agosto | D29: X | F29: 2
B30: 31 de agosto | D30: X | F30: 4 | G30: 4 | H30: 4 | I30: 3
B31: 31 de agosto | D31: X | F31: 2
B32: 4 de septiembre | D32: X | F32: 6 | G32: 12 | I32: 4 | J32: INE/CG268/2020 Programa de Trabajo de la Comisión de Igualdad de Género y No Discriminación (CIGYND), 2020-2021. (Se contabiliza como Acuerdo)
B33: 4 de septiembre | D33: X | F33: 2 | G33: 8 | I33: 1
B34: 4 de septiembre | D34: X | F34: 1
B35: 7 de septiembre | D35: X | J35: Intervenciones de los integrantes del Consejo General con motivo del inicio del Proceso Electoral Federal 2020-2021.
B36: 7 de septiembre | D36: X | F36: 4
B37: 7 de septiembre | D37: X | F37: 2 | I37: 1
B38: 11 de septiembre | D38: X | F38: 1 | G38: 2
B39: 18 de septiembre | D39: X | F39: 2
B40: 30 de septiembre | C40: X | F40: 18 | G40: 1 | I40: 14 | J40: INE/CG294/2020 Programa de Trabajo de la Comisión de Capacitación y Organización Electoral para el Proceso Electoral 2020-2021. (Se contabiliza como Acuerdo)
B41: 7 de octubre | D41: X | F41: 1 | G41: 195
B42: 13 de octubre | D42: X | F42: 1
B43: 19 de octubre | D43: X | F43: 1 | G43: 2
...

Sheet 21
J2: Datos
J3: Estadísticos
J4: del Consejo General
A6: Año | B6: Fecha | C6: Tipo de la sesión | F6: Acuerdos | G6: Resoluciones | H6: Dictámenes | I6: Informes | J6: Observaciones
C7: Ord. | D7: Ext. | E7: Esp.
A9: 2021 | B9: 4 de enero | D9: X | F9: 4
B10: 15 de enero | D10: X | F10: 11 | G10: 10 | I10: 3 | J10: INE/CG05/2021 Informes Anuales que las Comisiones rinden al Consejo General del Instituto Nacional Electoral sobre el desarrollo de sus actividades durante el año 2020. (Se contabiliza como Acuerdo) INE/CG06/2021 Programas de Trabajo de las Comisiones del Consejo General del Instituto Nacional Electoral para el año 2021. (Se contabiliza como Acuerdo)
B11: 15 de enero | D11: X | F11: 1
B12: 27 de enero | C12: X | F12: 20 | G12: 37 | I12: 10 | J12: INE/CG27/2021 Informes Anuales que las Comisiones rinden al Consejo General del Instituto Nacional Electoral sobre el desarrollo de sus actividades durante el año 2020. (Se contabiliza como Acuerdo) INE/CG28/2021 Programas de Trabajo de las Comisiones del Consejo General del Instituto Nacional Electoral para el año 2021. (Se contabiliza como Acuerdo) Tres (3) Informes semestrales sobre la situación que guardan los procedimientos de liquidación de los extintos partidos Humanista, Nueva Alianza y Encuentro Social. Julio-diciembre de 2020. (Se contabiliza uno por cada partido)
B13: 3 de febrero | D13: X | F13: 8 | G13: 6 | I13: 5 | J13: Sorteo de las letras que comprenden el alfabeto, a fin de obtener la letra a partir de la cual, con base en el primer apellido, se seleccionará a las y los ciudadanos que integrarán las mesas directivas de casilla en los Procesos Electorales 2020-2021 [...]. (No se contabiliza)
B14: 15 de febrero | D14: X | F14: 5 | G14: 8 | I14: 6
B15: 15 de febrero | D15: X | F15: 2
B16: 26 de febrero | C16: X | F16: 11 | G16: 21 | H16: 11 | I16: 12 | J16: Cuarto Informe Trimestral de Actividades de la Junta General Ejecutiva correspondiente a los meses de octubre, noviembre y diciembre de 2020. Informe Anual de Actividades de la Junta General Ejecutiva correspondiente al año 2020. INE/CG154/2021 e INE/CG155/2021 (Acuerdos de No aprobación)
B17: 26 de febrero | D17: X | F17: 4
B18: 4 de marzo | D18: X | F18: 2 | I18: 3
B19: 19 de marzo | D19: X | F19: 6 | G19: 24 | I19: 1
B20: 19 de marzo | D20: X | F20: 3 | I20: 1
B21: 25 de marzo | C21: X | F21: 9 | G21: 64 | H21: 60 | I21: 12 | J21: El código alfanumérico INE/CG288Bis/2021, correspondiente a la resolución identificada con el apartado 3.3 del orden del día. (Se contabiliza como una resolución más)
B22: 25 de marzo | D22: X | F22: 4 | G22: 2 | I22: 2
B23: 25 de marzo | D23: X | F23: 1 | J23: INE/CG333/2020 Titular de la Dirección Ejecutiva de Administración. C. Ana Laura Martínez de Lara. (Se contabiliza como Acuerdo)
B24: 3 de abril | D24: X | F24: 3
B25: 3 de abril | E25: X | F25: 1
B26: 6 de abril | D26: X | F26: 4 | G26: 6 | H26: 5 | I26: 1
B27: 9 de abril | D27: X | F27: 2
B28: 13 de abril | D28: X | F28: 3 | G28: 1 | I28: 1
B29: 13 de abril | D29: X | F29: 2
B30: 16 de abril | D30: X | F30: 9 | G30: 7 | H30: 1 | I30: 4
B31: 16 de abril | D31: X | F31: 1
B32: 19 de abril | D32: X | F32: 4
B33: 23 de abril | D33: X | F33: 11 | I33: 1
B34: 28 de abril | C34: X | F34: 26 | G34: 2 | H34: 2 | I34: 12
B35: 28 de abril | D35: X | F35: 1
B36: 28 de abril | D36: X | F36: 1
B37: 4 de mayo | D37: X | F37: 12
A38: 2021 | B38: 12 de mayo | D38: X | F38: 6 | G38: 3 | H38: 2 | I38: 2 | J38: Selección de muestras para la verificación de las medidas de seguridad en la documentación electoral y las características y calidad del líquido indeleble. (No se contabiliza)
B39: 12 de mayo | D39: X | F39: 4 | G39: 2 | I39: 1
B40: 20 de mayo | D40: X | F40: 12
B41: 20 de mayo | D41: X | F41: 1 | I41: 1
B42: 26 de mayo | C42: X | F42: 11 | G42: 37 | I42: 15 | J42: Primer Informe Trimestral de Actividades de la Junta General Ejecutiva correspondiente a los meses de enero, febrero y marzo de 2021.
B43: 26 de mayo | D43: X | F43: 2 | I43: 3
...

Sheet 22
J2: Datos
J3: Estadísticos
J4: del Consejo General
A6: Año | B6: Fecha | C6: Tipo de la sesión | F6: Acuerdos | G6: Resoluciones | H6: Dictámenes | I6: Informes | J6: Observaciones
C7: Ord. | D7: Ext. | E7: Esp.
A9: 2022 | B9: 12 de enero | D9: X | F9: 8 | G9: 3 | H9: 2 | J9: Procedimiento mediante el cual se realiza el sorteo del mes, que junto con el que sigue en su orden, será tomado como base para la insaculación de la ciudadanía que integrará las Mesas Directivas de Casilla en el eventual Proceso de Revocación de Mandato 2022 para el Presidente de la República electo para el periodo constitucional 2018-2024. (No se contabiliza) INE/CG01/2022 Informe de Actividades de la Presidencia de la Comisión de Vinculación con los Organismos Públicos Locales 2021. (Se contabiliza como Acuerdo) INE/CG02/2022 Programa Anual de Trabajo de la Comisión de Vinculación con Organismos Públicos Locales para el año 2022. (Se contabiliza como Acuerdo)
B10: 26 de enero | D10: X | F10: 25 | G10: 5 | I10: 10 | J10: Sorteo de la letra, a partir de la cual, con base en el primer apellido, se seleccionará a las y los ciudadanos que integraran las mesas directivas de casilla en el eventual Proceso de Revocación de Mandato 2022 para el Presidente de la República electo para el periodo constitucional 2018-2024 [...] (No se contabiliza) INE/CG14/2022 Informes Anuales que las Comisiones rinden al Consejo General del Instituto Nacional Electoral sobre el desarrollo de sus actividades durante el año 2021. (Se contabiliza como Acuerdo) INE/CG15/2022 Programas de Trabajo de las Comisiones del Consejo General del Instituto Nacional Electoral para el año 2022. (Se contabiliza como Acuerdo) Informes que presenta la Comisión Temporal de Seguimiento de los Procesos Electorales Locales 2021-2022, respecto a los Planes y Calendarios del proceso electoral federal 2020-2021; de la Consulta Popular 2021 y de la elección extraordinaria a senaduría en el estado de Nayarit 2021. (Se contabilizan 3 Informes)
B11: 31 de enero | D11: X | F11: 6 | G11: 1 | I11: 2 | J11: Sorteo de la letra, a partir de la cual, con base en el primer apellido, se seleccionará a las y los ciudadanos que integrarán las Mesas Directivas de Casilla en el Proceso Electoral Local 2021-2022 […] (No se contabiliza) INE/CG44/2022 Informes Anuales que las Comisiones rinden al Consejo General del Instituto Nacional Electoral sobre el desarrollo de sus actividades durante el año 2021. (Se contabiliza como Acuerdo) INE/CG45/2022 Programas de Trabajo de las Comisiones del Consejo General del Instituto Nacional Electoral para el año 2022. (Se contabiliza como Acuerdo)
B12: 4 de febrero | D12: X | F12: 11 | G12: 29 | I12: 1
B13: 21 de febrero | D13: X | F13: 11 | G13: 4 | I13: 4 | J13: INE/CG91/2022 Informe Anual de Actividades de la Comisión de Fiscalización correspondiente al ejercicio 2021. (Se contabiliza como Acuerdo) INE/CG92/2022 Programa Anual de Trabajo de la Comisión de Fiscalización correspondiente al ejercicio 2022. (Se contabiliza como Acuerdo) Cuarto Informe Trimestral de Actividades de la Junta General Ejecutiva correspondiente a los meses de octubre, noviembre y diciembre de 2021. Informe Anual de Actividades de la Junta General Ejecutiva correspondiente al año 2021.
B14: 25 de febrero | C14: X | F14: 10 | G14: 30 | H14: 3 | I14: 11
B15: 18 de marzo | D15: X | F15: 3 | G15: 17 | H15: 14 | I15: 4
B16: 23 de marzo | D16: X | F16: 3 | I16: 5 | J16: Procedimiento muestral para la verificación de las medidas de seguridad en la documentación electoral y del funcionamiento del líquido indeleble, del proceso de Revocación de Mandato 2022. (No se contabiliza)
A17: 2022 | B17: 29 de marzo | D17: X | F17: 10 | G17: 2 | H17: 1
B18: 29 de marzo | D18: X | F18: 1 | I18: 4
B19: 6 de abril | D19: X | F19: 2
B20: 10 y 11 de abril | D20: X | F20: 1 | I20: 5 | J20: Jornada para la Revocación de Mandato. De los informes identificados en el orden del día como puntos 2, 3, 4, 5 y 6 no se circuló ningún documento. (Se contabilizan como Informes)
B21: 27 de abril | D21: X | F21: 14 | G21: 37 | H21: 4 | I21: 8
B22: 9 de mayo | D22: X | F22: 5 | G22: 83 | H22: 1 | I22: 3
B23: 17 de mayo | D23: X | F23: 2
B24: 31 de mayo | C24: X | F24: 5 | G24: 35 | H24: 1 | I24: 14 | J24: Primer Informe Trimestral de Actividades de la Junta General Ejecutiva correspondiente a los meses de enero, febrero y marzo de 2022. De los informes identificados en el orden del día como puntos 2, 3, 4, 5 y 6 no se circuló ningún documento. (Se contabilizan como Informes)
B25: 5 de junio | D25: X | I25: 1 | J25: Jornada Electoral en los estados de Aguascalientes, Durango, Hidalgo, Oaxaca, Quintana Roo y Tamaulipas. Del informe identificado en el orden del día como punto 2 no se circuló ningún documento. (Se contabiliza como Informe)
B26: 30 de junio | D26: X | F26: 14 | G26: 23 | I26: 14
B27: 18 de julio | D27: X | F27: 1
B28: 20 de julio | D28: X | F28: 14 | G28: 143 | H28: 9
B29: 10 de agosto | D29: X | F29: 1 | G29: 1 | H29: 1
B30: 22 de agosto | C30: X | F30: 6 | G30: 6 | I30: 10 | J30: Segundo Informe Trimestral de Actividades de la Junta General Ejecutiva correspondiente a los meses de abril, mayo y junio de 2022. INE/CG608/2022 Informes que las Comisiones rinden al Consejo General del Instituto Nacional Electoral sobre el desarrollo de sus actividades. (Se contabiliza como Acuerdo)
B31: 22 de agosto | D31: X | F31: 6
B32: 7 de septiembre | D32: X | F32: 12 | I32: 12 | J32: INE/CG615/2022 Informes que las Comisiones rinden al Consejo General del Instituto Nacional Electoral sobre el desarrollo de sus actividades. (Se contabiliza como Acuerdo)
B33: 26 de septiembre | D33: X | F33: 5 | G33: 4 | I33: 3
B34: 19 de octubre | D34: X | F34: 19 | G34: 73 | I34: 7 | J34: INE/CG645/2022 Informe de avance de actividades Consejero Electoral, Dr. Ciro Murayama Rendón Presidencia de la Comisión del Registro Federal de Electores. Periodo de septiembre de 2021 a septiembre de 2022. (Se contabiliza como Acuerdo) INE/CG647/2022 Plan de Trabajo de la Comisión de Organización Electoral 2022-2023. (Se contabiliza como Acuerdo) INE/CG648/2022 Programa de Trabajo de la Comisión de Igualdad de Género y No Discriminación. octubre 2022–abril 2023. (Se contabiliza como Acuerdo) INE/CG646/2022 Plan de trabajo de la Comisión Temporal de Seguimiento de los Procesos Electorales Locales 2023. (Se contabiliza como Acuerdo)
B35: 29 de noviembre | C35: X | F35: 19 | G35: 84 | H35: 2 | I35: 10 | J35: Tercer Informe Trimestral de Actividades de la Junta General Ejecutiva, correspondiente a los meses de julio, agosto y septiembre de 2022.
B36: 30 de noviembre | D36: X | F36: 11
B37: 14 de diciembre | D37: X | F37: 26 | G37: 12 | I37: 7
B38: 14 de diciembre | D38: X | G38: 1 | J38: Información que presenta el Consejero Presidente, Dr. Lorenzo Córdova Vianello sobre la Junta General Ejecutiva. (No se contabiliza)
B39: 14 de diciembre | D39: X | F39: 1
A41: Total | B41: =SUM(C41:E41) -> 31 | C41: =COUNTIF(C9:C39,"X") -> 4 | D41: =COUNTIF(D9:D39,"X") -> 27 | E41: =COUNTIF(E9:E39,"X") -> 0 | F41: =SUM(F9:F39) -> 252 | G41: =SUM(G9:G39) -> 593 | H41: =SUM(H9:H39) -> 38 | I41: =SUM(I9:I39) -> 135 | J41: Total de números alfanuméricos asignados: 883 que corresponden a Acuerdos, Resoluciones y Dictámenes. | K41: =SUM(F41:H41) -> 883
A43: % | B43: =F43+G43+H43 -> 1 | F43: =F41/K41 -> 0.28539071 | G43: =G41/K41 -> 0.67157418 | H43: =+H41/K41 -> 0.043035108 | K43: =SUM(F43:I43) -> 1
K44: =+F41+G41+H41 -> 883

Sheet 23
J2: Datos
J3: Estadísticos
J4: del Consejo General
A6: Año | B6: Fecha | C6: Tipo de la sesión | F6: Acuerdos | G6: Resoluciones | H6: Dictámenes | I6: Informes | J6: Observaciones
C7: Ord. | D7: Ext. | E7: Esp.
A9: 2023 | B9: 25 de enero | D9: X | F9: 29 | G9: 12 | I9: 6 | J9: INE/CG01/2023 Informes Anuales que las Comisiones rinden al Consejo General del Instituto Nacional Electoral sobre el desarrollo de sus actividades durante el año 2022. (Se contabiliza como Acuerdo) INE/CG02/2023 Programas Anuales de Trabajo de las Comisiones del Consejo General del Instituto Nacional Electoral para el año 2023. (Se contabiliza como Acuerdo) [...] sorteo de la letra, a partir de la cual, con base en el primer apellido, se seleccionará a la ciudadanía que integrará las Mesas Directivas de Casilla en el Proceso Electoral Local 2022-2023, [...] (No se contabiliza) INE/CG41/2023 Programa Anual de Trabajo 2023 del Órgano Interno de Control. (Se contabiliza como Acuerdo)
B10: 1 de febrero | D10: X | G10: 1 | H10: 1 | J10: Procedimiento muestral para la verificación de las medidas de seguridad en la documentación electoral y la certificación de las características y calidad del líquido indeleble, del Proceso Electoral Extraordinario de una Senaduría de Tamaulipas 2023. (No se contabiliza)
B11: 19 de febrero | D11: X | I11: 1 | J11: Jornada Electoral Extraordinaria en el estado de Tamaulipas. Intervenciones de los integrantes del Consejo General con motivo de la elección extraordinaria para una fórmula de senadores de mayoría relativa en Tamaulipas. (No se contabiliza) Informe del Secretario Ejecutivo sobre la instalación e inicio de las sesiones de los Consejos Locales y Distritales y avance sobre la instalación de las casillas con motivo de la elección extraordinaria para una fórmula de senadores de mayoría relativa en Tamaulipas. (Solo en Actas, se contabiliza como Informe)
B12: 27 de febrero | C12: X | F12: 17 | G12: 69 | I12: 15 | J12: Cuarto Informe Trimestral de Actividades de la Junta General Ejecutiva correspondiente a los meses de octubre, noviembre y diciembre de 2022. Informe Anual de Actividades de la Junta General Ejecutiva correspondiente al año 2022.
B13: 27 de febrero | D13: X | F13: 4 | I13: 1
B14: 3 de marzo | D14: X | F14: 2 | J14: INE/CG134/2023 Nombramiento del C. Roberto Heycher Cardiel Soto como encargado del despacho de la Secretaría Ejecutiva del Instituto Nacional Electoral. (Se contabiliza como Acuerdo)
B15: 13 de marzo | D15: X | I15: 1 | J15: Continuación en el cargo del Secretario Ejecutivo, Edmundo Jacobo Molina.
B16: 16 de marzo | D16: X | F16: 1 | I16: 2
B17: 24 de marzo | D17: X | G17: 19 | H17: 6
B18: 27 de marzo | D18: X | F18: 9 | G18: 8 | I18: 8
B19: 27 de marzo | D19: X | I19: 1
B20: 27 de marzo | D20: X | F20: 1
B21: 30 de marzo | D21: X | F21: 11 | G21: 65 | I21: 13
B22: 30 de marzo | D22: X | F22: 1 | I22: 1
B23: 3 de abril | D23: X | J23: Sesión PROTOCOLARIA (Se contabiliza como sesión extraordinaria) Toma de Protesta de la Consejera Presidenta, Lic. Guadalupe Taddei Zavala, Consejera Presidente. Toma de Protesta de la Consejera y los Consejeros Electorales, Mtra. Rita Bell López Vences; mtro. Arturo Castillo Loza y mtro. Jorge Montaño Ventura.
B24: 10 de abril | D24: X | F24: 1 | G24: 1 | H24: 1
B25: 28 de abril | D25: X | F25: 5 | G25: 25 | I25: 9
B26: 18 de mayo | D26: X | F26: 1
B27: 31 de mayo | C27: X | F27: 21 | G27: 24 | I27: 9 | J27: Se ordenó la devolución de la resolución identificada como apdo. 18.2 y del apartado 22.1. (Se contabilizan como Acuerdos)
B28: 31 de mayo | D28: X | F28: 1 | I28: 1
A29: 2023 | B29: 21 de junio | D29: X | F29: 8 | G29: 37 | I29: 8 | J29: Primer Informe Trimestral de Actividades de la Junta General Ejecutiva correspondiente a los meses de enero, febrero y marzo de 2023. Se ordenó la devolución de la resolución identificada como apdo. 3.8 (Se contabiliza como Acuerdo)
B30: 21 de junio | D30: X | F30: 9 | J30: INE/CG382/2023 Titular de la Dirección Ejecutiva de Capacitación Electoral y Educación Cívica; C. María Elena Cornejo Esparza. (Se contabiliza como Acuerdo) INE/CG383/2023 Titular de la Dirección Ejecutiva del Registro Federal de Electores; C. Alejandro Sosa Durán (Se contabiliza como Acuerdo) INE/CG384/2023 Titular de la Unidad Técnica de lo Contencioso Electoral; C. Manuel Alberto Cruz Martínez (Se contabiliza como Acuerdo) INE/CG385/2023 Titular de la Coordinación de Asuntos Internacionales; C. Marissa Arlene Cabral Porchas (Se contabiliza como Acuerdo) INE/CG386/2023 Titular de la Unidad Técnica de Igualdad de Género y No Discriminación; C. Flor Dessiré León Hérnandez (Se contabiliza como Acuerdo) INE/CG387/2023 Titular de la Dirección del Secretariado; C. Rosa María Bárcena Canuas (Se contabiliza como Acuerdo) INE/CG388/2023 Titular de la Dirección Ejecutiva de Administración; C. Ignacio Ruelas Olvera (Se contabiliza como Acuerdo) INE/CG389/2023 Titular de la Dirección Ejecutiva de Organización Electoral; C. Miguel Ángel Patiño Arroyo (Se contabiliza como Acuerdo) INE/CG390/2023 Titular de la Unidad Técnica de Vinculación con los Organismos Públicos Locales; C. Giancarlo Giordano Garibay (Se contabiliza como Acuerdo)
B31: 7 de julio | D31: X | F31: 1 | G31: 2 | I31: 1
B32: 20 de julio | D32: X | F32: 18 | G32: 33 | H32: 2 | I32: 4 | J32: Se ordenó la devolución de la resolución identificada como apdo. 2.13 (Se contabiliza como Acuerdo)
B33: 26 de julio | D33: X | F33: 2
B34: 18 de agosto | D34: X | F34: 6 | G34: 37 | I34: 2
B35: 25 de agosto | C35: X | F35: 23 | G35: 9 | I35: 13 | J35: Segundo Informe Trimestral de Actividades de la Junta General Ejecutiva correspondiente a los meses de abril, mayo y junio de 2023.
B36: 7 de septiembre | D36: X | J36: Intervenciones de los miembros del Consejo General con motivo del inicio del Proceso Electoral Federal 2023-2024.
B37: 8 de septiembre | D37: X | F37: 7 | G37: 2 | I37: 9
B38: 20 de septiembre | C38: X | F38: 8 | I38: 6 | J38: INE/CG533/2023 Programa de Trabajo de la Comisión Temporal del Voto de las y los Mexicanos Residentes en el Extranjero. (Se contabiliza como Acuerdo) INE/CG539/2023 Programa de Trabajo de la Comisión de Capacitación y Organización Electoral 2023-2024. (Se contabiliza como Acuerdo)
B39: 28 de septiembre | D39: X | F39: 11 | G39: 5 | I39: 2 | J39: INE/CG541/2023 Plan de Trabajo de la Comisión Temporal de Debates. (Se contabiliza como Acuerdo)
B40: 5 de octubre | D40: X | F40: 3
B41: 12 de octubre | D41: X | F41: 3 | I41: 1
B42: 12 de octubre | D42: X | F42: 3
B43: 19 de octubre | D43: X | F43: 3
...

Sheet 24
J2: Datos
J3: Estadísticos
J4: del Consejo General
A6: Año | B6: Fecha | C6: Tipo de la sesión | F6: Acuerdos | G6: Resoluciones | H6: Dictámenes | I6: Informes | J6: Observaciones
C7: Ord. | D7: Ext. | E7: Esp.
A9: 2024 | B9: 11 de enero | D9: X | F9: 4 | G9: 4 | I9: 1 | J9: INE/CG01/2024 Informes Anuales que las Comisiones rinden al Consejo General del Instituto Nacional Electoral sobre el desarrollo de sus actividades durante el año 2023. (Se contabiliza como Acuerdo) INE/CG02/2024 Programas Anuales de Trabajo de las Comisiones del Consejo General del Instituto Nacional Electoral para el año 2024. (Se contabiliza como Acuerdo)
B10: 18 de enero | D10: X | F10: 4 | G10: 18 | I10: 1
B11: 25 de enero | C11: X | F11: 6 | G11: 39 | I11: 14 | J11: INE/CG31/2024 Informes Anuales que las Comisiones rinden al Consejo General del Instituto Nacional Electoral sobre el desarrollo de sus actividades durante el año 2023. (Se contabiliza como Acuerdo) INE/CG32/2024 Programas Anuales de Trabajo de las Comisiones del Consejo General del Instituto Nacional Electoral para el año 2024. (Se contabiliza como Acuerdo) INE/CG53/2024 Programa Anual de Trabajo del Órgano Interno de Control correspondiente al ejercicio 2024. (Se contabiliza como Acuerdo)
B12: 1 de febrero | D12: X | F12: 7 | G12: 12 | J12: […] sorteo de la letra, a partir de la cual, con base en el primer apellido, se seleccionará a la ciudadanía que integrará las Mesas Directivas de Casilla en el Proceso Electoral 2023-2024. (No se contabiliza)
B13: 8 de febrero | D13: X | F13: 2 | G13: 13 | I13: 2
B14: 15 de febrero | D14: X | F14: 4 | G14: 16 | I14: 2
B15: 19 de febrero | D15: X | F15: 2 | G15: 16 | H15: 16 | I15: 1
B16: 21 de febrero | D16: X | F16: 1 | G16: 2
B17: 27 de febrero | C17: X | F17: 14 | G17: 46 | H17: 3 | I17: 13 | J17: Se ordenó la devolución de la resolución identificada como apdo. 7.41 (Se contabiliza como Acuerdo) Cuarto informe trimestral de actividades de la Junta General Ejecutiva, correspondiente a los meses de octubre, noviembre y diciembre de 2023. Informe anual de actividades de la Junta General Ejecutiva 2023.
B18: 29 de febrero | E18: X | F18: 5
B19: 8 de marzo | D19: X | F19: 14 | G19: 12 | H19: 12 | I19: 1
B20: 12 de marzo | D20: X | F20: 1
B21: 14 de marzo | D21: X | F21: 1
B22: 16 de marzo | D22: X | F22: 1
B23: 21 de marzo | D23: X | F23: 6 | G23: 23
B24: 27 de marzo | C24: X | F24: 10 | G24: 20 | H24: 1 | I24: 18
B25: 28 de marzo | D25: X | F25: 1 | G25: 31 | H25: 31
B26: 4 de abril | D26: X | F26: 2 | G26: 3 | I26: 3 | J26: Intervención de la Consejera Presidenta del Consejo General, a diez años del Sistema Nacional de Elecciones y del primer año de gestión, en términos del artículo 7, numeral 1, inciso d) del Reglamento de Sesiones del Consejo General. (Se contabiliza como Informe)
B27: 11 de abril | D27: X | F27: 7 | G27: 32 | I27: 1 | J27: Primer informe trimestral de actividades de la Junta General Ejecutiva, correspondiente a los meses de enero, febrero y marzo de 2024.
B28: 14 de abril | D28: X | F28: 1
B29: 18 de abril | D29: X | F29: 10 | I29: 5 | J29: Procedimiento muestral para la verificación de las medidas de seguridad en la documentación electoral y la certificación de las características y calidad del líquido indeleble del Proceso Electoral Federal 2023-2024. (No se contabiliza)
B30: 30 de abril | C30: X | F30: 12 | G30: 43 | H30: 1 | I30: 15
A31: 2024 | B31: 9 de mayo | D31: X | F31: 3
B32: 16 de mayo | D32: X | F32: 9 | G32: 29 | I32: 7 | J32: Intervención de la Consejera Presidenta del Consejo General y en su caso de las Consejeras y los Consejeros Electorales, en el marco de la próxima conclusión de la etapa de preparación de la elección del proceso electoral 2023-2024, en términos del artículo 225, numeral 2, inciso a) de la Ley General de Instituciones y Procedimientos Electorales. (Se contabiliza como Informe)
B33: 22 de mayo | D33: X | F33: 5
B34: 29 de mayo | C34: X | F34: 12 | G34: 55 | I34: 24
B35: 1 de junio | D35: X | F35: 2
B36: 2 de junio | D36: X | I36: 7 | J36: Jornada Electoral del Proceso Electoral Federal 2023-2024 De los informes identificados en el orden del día como puntos 2 al 8 no se circuló ningún documento. (Se contabilizan como Informes)
B37: 5 y 7 de junio | D37: X | I37: 3 | J37: Sesión Permanente. Cómputos distritales de Pdte., Dip. y Sen. De los informes identificados en el orden del día como puntos 1 al 3 no se circuló ningún documento. (Se contabilizan como Informes)
B38: 7 de junio | D38: X | F38: 1
B39: 9 de junio | D39: X | I39: 3 | J39: Sesión Permanente. Cómputo Local aleatorio de Senadores De los informes identificados en el orden del día como puntos 1 al 3 no se circuló ningún documento. (Se contabilizan como Informes)
B40: 27 de junio | C40: X | F40: 4 | G40: 214 | I40: 19
B41: 18 de julio | D41: X | F41: 2
B42: 22 de julio | D42: X | F42: 6 | G42: 1116 | H42: 59 | I42: 5
B43: 31 de julio | C43: X | F43: 2 | G43: 15 | I43: 12 | J43: Segundo informe trimestral de actividades de la Junta General Ejecutiva, correspondiente a los meses de abril, mayo y junio de 2024.
...

Sheet 25
J2: Datos
J3: Estadísticos
J4: del Consejo General
A6: Año | B6: Fecha | C6: Tipo de la sesión | F6: Acuerdos | G6: Resoluciones | H6: Dictámenes | I6: Informes | J6: Observaciones
C7: Ord. | D7: Ext. | E7: Esp.
A9: 2025 | B9: 13 de enero | D9: X | F9: 5 | I9: 1 | J9: Sesión del Proceso Electoral Extraordinario 2024-2025 para diversos cargos del Poder Judicial de la Federación. Estudio de factibilidad de modificación a la reglamentación interna para el Proceso Electoral Extraordinario del Poder Judicial de la Federación 2024-2025. (Se contabiliza como Informe)
B10: 16 de enero | D10: X | F10: 4 | G10: 9 | J10: INE/CG06/2025 Informes Anuales que las Comisiones rinden al Consejo General del Instituto Nacional Electoral sobre el desarrollo de sus actividades durante el año 2024. (Se contabiliza como Acuerdo) INE/CG07/2025 Programas y Planes Anuales de Trabajo de las Comisiones del Consejo General del Instituto Nacional Electoral para el año 2025. (Se contabiliza como Acuerdo)
B11: 23 de enero (1.a) | D11: X | F11: 2 | G11: 4 | I11: 1 | J11: Sesión del Proceso Electoral Extraordinario 2024-2025 para diversos cargos del Poder Judicial de la Federación.
B12: 23 de enero (2.a) | D12: X | F12: 3 | I12: 2 | J12: INE/CG25/2025 Informes Anuales que las Comisiones rinden al Consejo General del Instituto Nacional Electoral sobre el desarrollo de sus actividades durante el año 2024. (Se contabiliza como Acuerdo) INE/CG26/2025 Programas y Planes Anuales de Trabajo de las Comisiones del Consejo General del Instituto Nacional Electoral para el año 2025. (Se contabiliza como Acuerdo)
B13: 30 de enero (1.a) | D13: X | F13: 12 | G13: 9 | I13: 6 | J13: INE/CG28/2025 Informes Anuales que las Comisiones rinden al Consejo General del Instituto Nacional Electoral sobre el desarrollo de sus actividades durante el año 2024. (Se contabiliza como Acuerdo) INE/CG29/2025 Programas y Planes Anuales de Trabajo de las Comisiones del Consejo General del Instituto Nacional Electoral para el año 2025. (Se contabiliza como Acuerdo) Cuarto informe trimestral de actividades de la Junta General Ejecutiva, correspondiente a los meses de octubre, noviembre y diciembre de 2024. Informe anual de actividades de la Junta General Ejecutiva 2024.
B14: 30 de enero (2.a) | D14: X | F14: 6 | I14: 1 | J14: Sesión del Proceso Electoral Extraordinario 2024-2025 para diversos cargos del Poder Judicial de la Federación.
B15: 5 de febrero (1.a) | D15: X | F15: 1 | J15: […] sorteo de la letra, a partir de la cual, con base en el primer apellido, se seleccionará a la ciudadanía que integrará las Mesas Directivas de Casilla en los Procesos Electorales Locales 2024-2025 y las Mesas Directivas de Casilla Seccionales en el Proceso Electoral Extraordinario del Poder Judicial de la Federación 2024-2025. (No se contabiliza)
B16: 5 de febrero (2.a) | D16: X | F16: 2 | J16: Sesión del Proceso Electoral Extraordinario 2024-2025 para diversos cargos del Poder Judicial de la Federación.
B17: 10 de febrero (1.a) | D17: X | F17: 7 | J17: Sesión del Proceso Electoral Extraordinario 2024-2025 para diversos cargos del Poder Judicial de la Federación.
B18: 10 de febrero (2.a) | D18: X | F18: 1 | J18: Sesión del Proceso Electoral Extraordinario 2024-2025 para diversos cargos del Poder Judicial de la Federación.
B19: 13 de febrero | D19: X | F19: 2 | G19: 10 | I19: 1
B20: 17 de febrero | D20: X | F20: 1 | J20: Sesión del Proceso Electoral Extraordinario 2024-2025 para diversos cargos del Poder Judicial de la Federación.
B21: 19 de febrero (1.a) | D21: X | F21: 13 | G21: 95 | H21: 2 | I21: 2
B22: 19 de febrero (2.a) | D22: X | F22: 3 | I22: 1 | J22: Sesión del Proceso Electoral Extraordinario 2024-2025 para diversos cargos del Poder Judicial de la Federación.
B23: 20 de febrero | D23: X | F23: 2 | I23: 1 | J23: Sesión del Proceso Electoral Extraordinario 2024-2025 para diversos cargos del Poder Judicial de la Federación.
A24: 2025 | B24: 24 de febrero | D24: X | F24: 1
B25: 27 de febrero (1.a) | D25: X | F25: 1 | J25: Sesión del Proceso Electoral Extraordinario 2024-2025 para diversos cargos del Poder Judicial de la Federación.
B26: 27 de febrero (2.a) | D26: X | F26: 1 | I26: 1
B27: 4 de marzo | D27: X | F27: 1 | G27: 1 | H27: 1 | I27: 4
B28: 6 de marzo (1.a) | D28: X | F28: 10 | I28: 2 | J28: Sesión del Proceso Electoral Extraordinario 2024-2025 para diversos cargos del Poder Judicial de la Federación.
B29: 6 de marzo (2.a) | D29: X | F29: 1 | J29: Sesión del Proceso Electoral Extraordinario 2024-2025 para diversos cargos del Poder Judicial de la Federación.
B30: 13 de marzo (1.a) | D30: X | G30: 3 | I30: 2
B31: 13 de marzo (2.a) | D31: X | F31: 9 | I31: 1 | J31: Sesión del Proceso Electoral Extraordinario 2024-2025 para diversos cargos del Poder Judicial de la Federación.
B32: 14 de marzo | D32: X | F32: 1 | J32: Sesión del Proceso Electoral Extraordinario 2024-2025 para diversos cargos del Poder Judicial de la Federación.
B33: 20 de marzo (1.a) | D33: X | F33: 2 | I33: 3 | J33: Sesión del Proceso Electoral Extraordinario 2024-2025 para diversos cargos del Poder Judicial de la Federación.
B34: 20 de marzo (2.a) | D34: X | F34: 1 | I34: 2
B35: 21 de marzo | D35: X | F35: 4 | J35: Sesión del Proceso Electoral Extraordinario 2024-2025 para diversos cargos del Poder Judicial de la Federación.
B36: 26 de marzo | C36: X | F36: 12 | G36: 81 | H36: 2 | I36: 9
B37: 29 de marzo | D37: X | F37: 12 | I37: 1 | J37: Sesión del Proceso Electoral Extraordinario 2024-2025 para diversos cargos del Poder Judicial de la Federación.
B38: 1 de abril | D38: X | F38: 1 | J38: Sesión del Proceso Electoral Extraordinario 2024-2025 para diversos cargos del Poder Judicial de la Federación.
