Workbook

Sheet 14
J2: Datos
J3: Estadísticos
J4: del Consejo General
A6: Año | B6: Fecha | C6: Tipo de la sesión | F6: Acuerdos | G6: Resoluciones | H6: Dictámenes | I6: Informes | J6: Observaciones
C7: Ord. | D7: Ext. | E7: Esp.
A9: 2014 | B9: 4 de abril | D9: X | J9: - Instalación del Consejo General del Instituto Nacional Electoral y Toma de Protesta del Consejero Presidente del Consejo General designado por la Cámara de Diputados del H. Congreso de la Unión. (No se contabiliza)
B10: 11 de abril | D10: X | F10: 9 | J10: - INE/CG01/2014 Designación del C. Edmundo Jacobo Molina como Secretario Ejecutivo del Consejo General del Instituto Nacional Electoral. (Se contabiliza como Acuerdo) - INE/CG02/2014 Designación del C. René Miranda Jaimes como titular de la Dirección Ejecutiva del Registro Federal de Electores. (Se contabiliza como Acuerdo) - INE/CG03/2014 Designación del C. Alberto García Sarubbi como titular de la Coordinación de Comunicación Social. (Se contabiliza como Acuerdo) - INE/CG04/2014 Designación del C. Jorge Humberto Torres Antuñano como titular de la Unidad Técnica de Servicios de Informática. (Se contabiliza como Acuerdo)
B11: 15 de abril | D11: X | F11: 2
B12: 29 de abril | D12: X | F12: 3 | I12: 2
B13: 21 de mayo | D13: X | J13: - Toma de Protesta del Contralor General designado por la Cámara de Diputados del Congreso de la Unión. (No se contabiliza)
B14: 21 de mayo | D14: X | F14: 2 | G14: 12 | I14: 2
B15: 30 de mayo | D15: X | F15: 5 | G15: 8 | I15: 2 | J15: - Primer Informe Trimestral de Actividades de la Junta General Ejecutiva, correspondiente a los meses de enero, febrero y marzo de 2014.
B16: 6 de junio | D16: X | F16: 5 | G16: 1 | I16: 2
B17: 20 de junio | D17: X | F17: 12 | G17: 8 | I17: 1 | J17: - INE/CG56/2014 Programa y Calendario Anuales de Trabajo 2014 de la Comisión de Fiscalización. (Se contabiliza como Acuerdo)
B18: 20 de junio | D18: X | F18: 2
B19: 2 de julio | C19: X | F19: 4 | G19: 11 | I19: 3
B20: 2 de julio | D20: X | F20: 2
B21: 9 de julio | D21: X | F21: 7 | G21: 3 | I21: 1 | J21: - INE/CG87/2014 Programa de Trabajo de la Comisión de Vinculación con los Organismos Públicos Locales. (Se contabiliza como Acuerdo)
B22: 14 de julio | D22: X | F22: 6 | G22: 3 | I22: 1 | J22: - Estudio Muestral sobre las características de los votos nulos en la Elección Presidencial de 2006. (Se contabiliza como Informe) - INE/CG99/2014 Designacoón de la Licenciada Cecilia del Carmen Azuara Arai como titular de la Unidad Técnica de Servicios de Información y Documentación. (Se contabiliza como Acuerdo) - INE/CG102/2014 Programa Anual de Trabajo 2014 de la Comisión de Capacitación Electoral y Educación Cívica. (Se contabiliza como Acuerdo)
B23: 14 de julio | D23: X | F23: 1 | G23: 4 | I23: 2 | J23: - Agenda de Trabajo para la elaboración de los Lineamientos generales que se recomiendan a los noticieros respecto de la información y difusión de las actividades de precampaña y campaña de los Partidos Políticos y de los Candidatos Independientes en el Proceso Electoral Federal 2014-2015. (Se contabiliza como Informe)
B24: 13 de agosto | D24: X | F24: 6 | G24: 4
B25: 20 de agosto | D25: X | F25: 1 | G25: 12 | I25: 3
B26: 27 de agosto | D26: X | F26: 5 | G26: 3
B27: 27 de agosto | D27: X | F27: 1
B28: 3 de septiembre | D28: X | F28: 2 | G28: 8 | I28: 2
B29: 10 de septiembre | D29: X | F29: 4 | G29: 1 | I29: 4
B30: 25 de septiembre | D30: X | F30: 2 | G30: 3
B31: 30 de septiembre | D31: X | F31: 13 | G31: 7 | I31: 1
A32: 2014 | B32: 7 de octubre | D32: X | J32: - Intervenciones con motivo del inicio del Proceso Electoral Federal 2014-2015. (No se contabiliza)
B33: 7 de octubre | D33: X | F33: 10 | G33: 10 | I33: 3
B34: 7 de octubre | D34: X | F34: 1
B35: 15 de octubre | D35: X | F35: 8 | G35: 2 | J35: - Adecuaciones al Programa de Trabajo de la Comisión de Prerrogativas y Partidos Políticos derivadas de la Reforma Político-Electoral. (Se contabiliza como Acuerdo)
B36: 15 de octubre | D36: X | F36: 2 | J36: - Programa de Trabajo de la Comisión de Capacitación y Organización Electoral para el Proceso Electoral 2014-2015. (Se contabiliza como Acuerdo)
B37: 22 de octubre | D37: X | F37: 4 | G37: 8 | H37: 1 | I37: 1
B38: 29 de octubre | C38: X | F38: 5 | I38: 6 | J38: - Diagnóstico de Patrones de participación atípicos en las Elecciones Federales de 2012. (Se contabiliza como Informe)
B39: 29 de octubre | D39: X | F39: 6 | J39: - INE/CG234/2014 Designación del C. Patricio Ballados Villagómez como titular de la Dirección Ejecutiva de Prerrogativas y Partidos Políticos. (Se contabiliza como Acuerdo) - INE/CG235/2014 Designación del C. Bogart Cristóbal Montiel como titular de la Dirección Ejecutiva de Administración. (Se contabiliza como Acuerdo) - INE/CG236/2014 Designación del C. Carlos Alberto Ferrer Silva como titular de la Unidad Técnica de lo Contencioso Electoral. (Se contabiliza como Acuerdo) - INE/CG237/2014 Designación de la C. Olga Alicia Castro Ramírez como titular de la Unidad Técnica de Vinculación con los Organismos Públicos Locales. (Se contabiliza como Acuerdo)
B40: 5 de noviembre | D40: X | F40: 4 | G40: 9 | H40: 1 | I40: 1
B41: 10 de noviembre | D41: X | F41: 1
B42: 19 de noviembre | D42: X | F42: 21 | G42: 4 | I42: 2
B43: 19 de noviembre | D43: X | F43: 1 | I43: 1
B44: 26 de noviembre | C44: X | G44: 4 | I44: 7
B45: 26 de noviembre | D45: X | F45: 1 | G45: 1
B46: 26 de noviembre | D46: X | F46: 2
B47: 3 de diciembre | D47: X | F47: 1 | I47: 2
B48: 3 de diciembre | D48: X | F48: 3
B49: 10 de diciembre | D49: X | F49: 3 | G49: 9 | H49: 1 | I49: 1
B50: 10 de diciembre | D50: X | F50: 1
B51: 10 de diciembre | D51: X | F51: 2
B52: 18 de diciembre | C52: X | F52: 11 | G52: 23 | I52: 7 | J52: - Plan Operativo de la Consulta Infantil y Juvenil 2015. (Se contabiliza como Acuerdo) - Sorteo del mes calendario para la Integración de Mesas Directivas de Casillas y Capacitación Electoral. (No se contabiliza)
B53: 18 de diciembre | D53: X | F53: 3 | G53: 1 | I53: 1
B54: 18 de diciembre | D54: X | F54: 1
B55: 18 de diciembre | D55: X | F55: 1
B56: 23 de diciembre | D56: X | F56: 2
B57: 24 de diciembre | D57: X | F57: 1
A59: Total | B59: =SUM(C59:E59) -> 49 | C59: =COUNTIF(C9:C57,"X") -> 4 | D59: =COUNTIF(D9:D57,"X") -> 45 | E59: =COUNTIF(E9:E57,"X") -> 0 | F59: =SUM(F9:F57) -> 189 | G59: =SUM(G9:G57) -> 159 | H59: =SUM(H9:H57) -> 3 | I59: =SUM(I9:I57) -> 58 | J59: Total de números alfanuméricos asignados: 351 que corresponden a Acuerdos, Resoluciones y Dictámenes. | K59: =SUM(F59:H59) -> 351
A61: % | B61: =F61+G61+H61 -> 1 | F61: =F59/K59 -> 0.53846154 | G61: =G59/K59 -> 0.45299145 | H61: =H59/K59 -> 0.0085470085 | K61: =SUM(F61:I61) -> 1
K62: =+F59+G59+H59 -> 351
F64: Acuerdos | G64: =F59 -> 189
F65: Resoluciones | G65: =G59 -> 159
F66: Dictámenes | G66: 3
G67: =SUM(G64:G66) -> 351

Sheet 15
J2: Datos
J3: Estadísticos
J4: del Consejo General
A6: Año | B6: Fecha | C6: Tipo de la sesión | F6: Acuerdos | G6: Resoluciones | H6: Dictámenes | I6: Informes | J6: Observaciones
C7: Ord. | D7: Ext. | E7: Esp.
A9: 2015 | B9: 14 de enero | D9: X | F9: 7 | G9: 5 | J9: - INE/CG09/2014 Designación del Titular de la Dirección Jurídica, Lic. Gabriel Mendoza Elvira. (Se contabiliza como Acuerdo)
B10: 21 de enero | D10: X | F10: 1 | I10: 1
B11: 21 de enero | D11: X | F11: 1
B12: 21 de enero | D12: X | F12: 3
B13: 28 de enero | C13: X | F13: 5 | G13: 9 | I13: 7
B14: 28 de enero | D14: X | F14: 11 | G14: 4
B15: 28 de enero | D15: X | F15: 3 | I15: 2
B16: 28 de enero | D16: X | G16: 2
B17: 3 de febrero | D17: X | F17: 2 | G17: 1 | H17: 1 | J17: - INE/CG54/2014 Informe Anual en Materia de Transparencia y Acceso a la Información relativo al año 2014 del Instituto Nacional Electoral. (Se contabiliza como Acuerdo)
B18: 18 de febrero | D18: X | F18: 10 | I18: 2 | J18: - INE/CG56/2014 Octavo Informe Semestral de la Estrategia Nacional de Educación Cívica para el Desarrollo de la Cultura Política Democrática en México 2011-2015. (Se contabiliza como Acuerdo)
B19: 25 de febreo | C19: X | F19: 11 | I19: 12 | J19: - Cuarto Informe Trimestral de Actividades de la Junta General Ejecutiva, correspondiente a los meses de octubre, noviembre y diciembre de 2014. - Informe Anual de Actividades de la Junta General Ejecutiva correspondiente al año 2014. - INE/CG70/2014 Programa General de atención e información para los Visitantes Extranjeros que acudan a conocer las modalidades del Proceso Electoral Federal 2014–2015, que se presenta en cumplimiento a lo ordenado en el Acuerdo INE/CG/204/2014. (Se contabiliza como Acuerdo)
B20: 1 de marzo | D20: X | F20: 6 | J20: - INE/CG82/2014 Designación del C. Eduardo Gurza Curiel como Titular de la Unidad Técnica de Fiscalización. (Se contabiliza como Acuerdo)
B21: 6 de marzo | D21: X | F21: 2 | G21: 1
B22: 11 de marzo | D22: X | F22: 6 | I22: 7
B23: 25 de marzo | C23: X | F23: 7 | G23: 18 | I23: 12
B24: 25 de marzo | D24: X | F24: 2 | G24: 2 | J24: - Esta sesión inició y terminó en la madrugada del día 26 de marzo.
B25: 1 de abril | D25: X | F25: 9 | G25: 2 | H25: 2 | I25: 2
B26: 1 de abril | D26: X | F26: 15 | G26: 13
B27: 4 de abril | E27: X | F27: 3
B28: 4 de abril | D28: X | F28: 1
B29: 8 de abril | D29: X | F29: 3 | G29: 1 | H29: 1
B30: 15 de abril | D30: X | F30: 6 | G30: 12 | H30: 12 | I30: 3
B31: 22 de abril | D31: X | F31: 4 | G31: 3 | H31: 4 | I31: 2
B32: 29 de abril | C32: X | F32: 2 | G32: 8 | H32: 3 | I32: 10
B33: 29 de abril | D33: X | F33: 1 | G33: 3
B34: 29 de abril | D34: X | F34: 2
B35: 6 de mayo | D35: X | F35: 11 | G35: 2 | H35: 2 | I35: 4
B36: 6 de mayo | D36: X | F36: 3
B37: 13 de mayo | D37: X | F37: 5 | G37: 8 | H37: 6
B38: 13 de mayo | D38: X | F38: 8
B39: 20 de mayo | D39: X | F39: 10 | G39: 16 | H39: 4
B40: 20 de mayo | D40: X | F40: 3 | I40: 1
A41: 2015 | B41: 27 de mayo | C41: X | F41: 4 | G41: 7 | H41: 1 | I41: 10 | J41: - Obtención de las dos muestras aleatorias simples de cuatro casillas por cada distrito electoral federal para la verificación de las medidas de seguridad incorporadas en la documentación electoral y la certificación de las características y calidad del líquido indeleble, utilizados en las elecciones del 2015. (No se contabiliza)
B42: 27 de mayo | D42: X | F42: 5 | I42: 1
B43: 31 de mayo | D43: X | G43: 1
B44: 3 de junio | D44: X | F44: 2 | G44: 3 | H44: 5 | I44: 10
B45: 3 de junio | D45: X | F45: 5 | I45: 2
B46: 5 de junio | D46: X | F46: 4
B47: 7 de junio | D47: X | F47: 1 | I47: 5 | J47: - Jornada Electoral.
B48: 10 de junio | D48: X | I48: 2 | J48: - Continuación de la Jornada Electoral.
B49: 14 de junio | D49: X | F49: 1 | I49: 4 | J49: - Continuación de la Jornada Electoral.
B50: 17 de junio | D50: X | F50: 3 | G50: 40 | H50: 2
B51: 24 de junio | C51: X | F51: 12 | I51: 11
B52: 13 de julio | D52: X | F52: 6 | G52: 23 | I52: 7
B53: 20 de julio | D53: X | G53: 51 | H53: 17
B54: 29 de julio | C54: X | F54: 7 | G54: 4 | H54: 1 | I54: 11 | J54: - Primer Informe Trimestral de Actividades de la Junta General Ejecutiva, correspondiente a los meses de enero, febrero y marzo de 2015.
B55: 12 de agosto | D55: X | F55: 2 | G55: 124 | H55: 1 | I55: 3
B56: 12 de agosto | D56: X | F56: 1 | G56: 145 | H56: 17
B57: 23 de agosto | D57: X | F57: 1
B58: 28 de agosto | C58: X | F58: 1 | G58: 1 | I58: 9 | J58: - Segundo Informe Trimestral de Actividades de la Junta General Ejecutiva, correspondiente a los meses de abril, mayo y junio de 2015.
B59: 2 de septiembre | D59: X | F59: 14 | G59: 8 | H59: 1 | I59: 1
B60: 2 de septiembre | D60: X | F60: 1 | G60: 2
B61: 30 de septiembre | D61: X | F61: 18 | G61: 10 | I61: 5
B62: 30 de septiembre | D62: X | F62: 1
B63: 9 de octubre | D63: X | F63: 3 | G63: 1
B64: 14 de octubre | D64: X | F64: 4 | G64: 24 | I64: 1
B65: 14 de octubre | D65: X | F65: 3
B66: 23 de octubre | D66: X | F66: 4 | G66: 1
B67: 30 de octubre | D67: X | F67: 24 | G67: 10 | I67: 1 | J67: - INE/CG924/2015 Programa de Trabajo de la Comisión de Capacitación Electoral y Educación Cívica (noviembre–diciembre 2015). (Se contabiliza como Acuerdo)
B68: 6 de noviembre | D68: X | F68: 2 | G68: 2 | J68: - Terminó el día 7 de noviembre.
B69: 6 de noviembre | E69: X | F69: 1 | J69: - Inició y terminó el día 7 de noviembre.
B70: 11 de noviembre | D70: X | F70: 15 | G70: 7 | J70: - INE/CG959/2015 Designacoón del Ciudadano Roberto Heycher Cardiel Soto como titular de la Dirección Ejecutiva de Capacitación Electoral y Educación Cívica. (Se contabiliza como Acuerdo) - INE/CG960/2015 Designacoón del Ciudadano Miguel Ángel Patiño Arroyodel como titular de la Unidad Técnica de Vinculación con los Organismos Públicos Locales. (Se contabiliza como Acuerdo)
B71: 11 de noviembre | D71: X | F71: 3
A72: 2015 | B72: 26 de noviembre | C72: X | F72: 11 | G72: 17 | H72: 1 | I72: 4 | J72: - INE/CG983/2015 Designación de la Titular de la Unidad Técnica de Igualdad de Género y no Discriminación, Ciudadana Mónica Maccise Duayhe. (Se contabiliza como Acuerdo) - Tercer Informe Trimestral de Actividades de la Junta General Ejecutiva, correspondiente a los meses de julio, agosto y septiembre de 2015.
B73: 26 de noviembre | D73: X | F73: 5 | G73: 1
B74: 26 de noviembre | D74: X | F74: 1
B75: 6 de diciembre | D75: X | F75: 1 | I75: 2 | J75: - Jornada Electoral Extraordinaria en el estado de Aguascalientes.
B76: 6 de diciembre | D76: X | F76: 1
B77: 9 de diciembre | D77: X | F77: 4 | G77: 4 | I77: 1 | J77: - Informe Final de la Jornada Electoral Extraordinaria en el estado de Aguscalientes.
B78: 9 de diciembre | D78: X | F78: 5
B79: 16 de diciembre | D79: X | F79: 29 | G79: 28 | H79: 7 | I79: 8 | J79: - Sorteo del mes calendario para la Integración de Mesas Directivas de Casillas y Capacitación Electoral, correspondiente a los Procesos Electorales Locales 2015-2016. (No se contabiliza)
B80: 16 de diciembre | D80: X | F80: 2
A82: Total | B82: =SUM(C82:E82) -> 72 | C82: =COUNTIF(C9:C80,"X") -> 9 | D82: =COUNTIF(D9:D80,"X") -> 61 | E82: =COUNTIF(E9:E80,"X") -> 2 | F82: =SUM(F9:F80) -> 370 | G82: =SUM(G9:G80) -> 624 | H82: =SUM(H9:H80) -> 88 | I82: =SUM(I9:I80) -> 163 | J82: Total de números alfanuméricos asignados: 1082 que corresponden a Acuerdos, Resoluciones y Dictámenes. | K82: =SUM(F82:H82) -> 1082
A84: % | B84: =F84+G84+H84 -> 1 | F84: =F82/K82 -> 0.34195933 | G84: =G82/K82 -> 0.5767098 | H84: =+H82/K82 -> 0.081330869 | K84: =SUM(F84:I84) -> 1
K85: =+F82+G82+H82 -> 1082

Sheet 16
J2: Datos
J3: Estadísticos
J4: del Consejo General
A6: Año | B6: Fecha | C6: Tipo de la sesión | F6: Acuerdos | G6: Resoluciones | H6: Dictámenes | I6: Informes | J6: Observaciones
C7: Ord. | D7: Ext. | E7: Esp.
A9: 2016 | B9: 8 de enero | D9: X | F9: 4
B10: 8 de enero | D10: X | F10: 1
B11: 17 de enero | D11: X | F11: 2 | I11: 2 | J11: Jornada Electoral en el estado de Colima.
B12: 27 de enero | D12: X | F12: 19 | G12: 18 | H12: 7 | I12: 3 | J12: - INE/CG44/2016 Informes Anuales que las Comisiones rinden al Consejo General del Instituto Nacional Electoral sobre el desarrollo de sus actividades durante el año 2015. (Se contabiliza como Acuerdo) - INE/CG45/2016 Programas de Trabajo de las Comisiones del Consejo General del Instituto Nacional Electoral para el año 2016. (Se contabiliza como Acuerdo)
B13: 4 de febrero | D13: X | F13: 4 | J13: - Sorteo de las letras que comprenden el alfabeto, a fin de obtener la letra a partir de la cual, con base en el apellido paterno se seleccionará a las y los ciudadanos que integrarán las Mesas Directivas de Casilla. (No se contabiliza)
B14: 8 de febrero | D14: X | F14: 4 | G14: 2 | I14: 2
B15: 8 de febrero | D15: X | F15: 3
B16: 17 de febrero | D16: X | F16: 10 | G16: 2 | I16: 7 | J16: - INE/CG65/2016 Informe Anual en Materia de Transparencia y Acceso a la Información relativo al año 2015 del Instituto Nacional Electoral. (Se contabiliza como Acuerdo)
B17: 19 de febrero | D17: X | F17: 2 | G17: 2
B18: 26 de febrero | C18: X | F18: 8 | G18: 4 | H18: 1 | I18: 9 | J18: - Cuarto Informe Trimestral de Actividades de la Junta General Ejecutiva, correspondiente a los meses de octubre, noviembre y diciembre de 2015. - Informe Anual de Actividades de la Junta General Ejecutiva correspondiente al año 2015.
B19: 26 de febrero | D19: X | F19: 1
B20: 16 de marzo | D20: X | F20: 22 | G20: 13 | H20: 2 | I20: 6
B21: 16 de marzo | D21: X | F21: 1 | J21: - INE/CG132/2016 Designación de la Ingeniera Ana de Gortari Pedroza como Titular de la Unidad Técnica de Planeación. (Se contabiliza como Acuerdo)
B22: 30 de marzo | D22: X | F22: 21 | G22: 17 | H22: 3 | I22: 2
B23: 30 de marzo | D23: X | F23: 2
B24: 30 de marzo | D24: X | F24: 1
B25: 6 de abril | D25: X | F25: 1 | G25: 9 | H25: 2
B26: 6 de abril | D26: X | F26: 4 | G26: 1
B27: 14 de abril | D27: X | F27: 1
B28: 17 de abril | E28: X | F28: 39 | H28: 2
B29: 17 de abril | D29: X | G29: 2 | H29: 4
B30: 20 de abril | D30: X | F30: 2 | G30: 17
B31: 20 de abril | D31: X | F31: 4 | I31: 2
B32: 27 de abril | D32: X | F32: 7 | G32: 11 | H32: 6 | I32: 1
B33: 27 de abril | D33: X | F33: 1 | I33: 1
B34: 4 de mayo | D34: X | F34: 36 | G34: 16 | H34: 6 | I34: 1
B35: 4 de mayo | D35: X | F35: 1 | I35: 1
B36: 11 de mayo | D36: X | F36: 1
B37: 11 de mayo | D37: X | G37: 7 | H37: 6 | I37: 2
B38: 13 de mayo | D38: X | F38: 3
B39: 18 de mayo | D39: X | F39: 14 | G39: 1
B40: 18 de mayo | D40: X | F40: 7 | G40: 7 | H40: 7 | I40: 1
B41: 18 de mayo | D41: X | F41: 1 | I41: 1
B42: 25 de mayo | C42: X | F42: 8 | G42: 6 | H42: 3 | I42: 6
A43: 2016 | B43: 25 de mayo | D43: X | F43: 2 | J43: - Selección de dos muestras aleatorias de Casillas para la verificación de boletas, actas y líquido indeleble de la Elección de Diputadas y Diputados para la Asamblea Constituyente de la Ciudad de México. (No se contabiliza)
B44: 31 de mayo | D44: X | F44: 2 | G44: 13 | H44: 10 | I44: 1 | J44: - Primer Informe Trimestral de Actividades de la Junta General Ejecutiva, correspondiente a los meses de enero, febrero y marzo de 2016.
B45: 31 de mayo | D45: X | F45: 5 | G45: 10 | I45: 4
B46: 31 de mayo | D46: X | F46: 1
B47: 5 de junio | D47: X | F47: 1 | I47: 3 | J47: - Jornada Electoral.
B48: 8 de junio | D48: X | I48: 2 | J48: - Continuación de la Jornada Electoral.
B49: 15 de junio | D49: X | F49: 9 | G49: 7
B50: 29 de junio | D50: X | F50: 9 | G50: 21 | I50: 4
B51: 14 de julio | D51: X | F51: 2 | G51: 75 | H51: 14 | I51: 7
B52: 23 de agosto | D52: X | F52: 1 | J52: - Validez de la Elección y se asignan Diputados por el Principio de Representación Proporcional a la Asamblea Constituyente de la Ciudad de México.
B53: 26 de agosto | C53: X | F53: 8 | G53: 13 | I53: 6
B54: 26 de agosto | D54: X | F54: 19 | G54: 2 | J54: - INE/CG643/2016 Designación del Titular de la Coordinación Nacional de Comunicación Social, Ciudadano Rubén Álvarez Mendiola. (Se contabiliza como Acuerdo)
B55: 7 de septiembre | D55: X | F55: 22 | I55: 16
B56: 28 de septiembre | D56: X | F56: 27 | G56: 20 | I56: 3 | J56: - INE/CG694/2016 Programas de Trabajo de las Comisiones del Consejo General del Instituto Nacional Electoral para el año 2016 y 2017. (Se contabiliza como Acuerdo)
B57: 28 de septiembre | D57: X | F57: 3
B58: 14 de octubre | D58: X | F58: 22 | G58: 13 | I58: 3 | J58: - INE/CG721/2016 Programa de Trabajo de la Comisión Temporal para el Seguimiento a las Actividades de los Procesos Electorales Locales 2016-2017. (Se contabiliza como Acuerdo)
B59: 14 de octubre | D59: X | F59: 1
B60: 24 de octubre | D60: X | F60: 14 | G60: 3 | H60: 1
B61: 24 de octubre | D61: X | F61: 1
B62: 24 de octubre | D62: X | F62: 1 | G62: 1
B63: 16 de noviembre | C63: X | F63: 13 | G63: 11 | I63: 6
B64: 25 de noviembre | D64: X | F64: 2 | G64: 2 | H64: 3 | I64: 3
B65: 14 de diciembre | D65: X | F65: 11 | G65: 12 | H65: 26 | I65: 4 | J65: - INE/CG852/2016 Programa de Trabajo de la Comisión de Prerrogativas y Partidos Políticos para el periodo de septiembre 2016 a agosto de 2017. (Se contabiliza como Acuerdo) - Sorteo del mes, que junto con el que sigue en su orden, será tomado como base para la insaculación de los ciudadanos que integrarán las Mesas Directivas de Casilla en los Procesos Electorales Locales 2016-2017. (No se contabiliza)
B66: 21 de diciembre | D66: X | F66: 17 | G66: 8 | H66: 2 | I66: 3
B67: 21 de diciembre | D67: X | F67: 3 | G67: 1
A69: Total | B69: =SUM(C69:E69) -> 59 | C69: =COUNTIF(C9:C67,"X") -> 4 | D69: =COUNTIF(D9:D67,"X") -> 54 | E69: =COUNTIF(E9:E67,"X") -> 1 | F69: =SUM(F9:F67) -> 431 | G69: =SUM(G9:G67) -> 347 | H69: =SUM(H9:H67) -> 105 | I69: =SUM(I9:I67) -> 112 | J69: Total de números alfanuméricos asignados: 883 que corresponden a Acuerdos, Resoluciones y Dictámenes. | K69: =SUM(F69:H69) -> 883
A71: % | B71: =F71+G71+H71 -> 1 | F71: =F69/K69 -> 0.48810872 | G71: =G69/K69 -> 0.39297848 | H71: =+H69/K69 -> 0.1189128 | K71: =SUM(F71:I71) -> 1
K72: =+F69+G69+H69 -> 883

Sheet 17
J2: Datos
J3: Estadísticos
J4: del Consejo General
A6: Año | B6: Fecha | C6: Tipo de la sesión | F6: Acuerdos | G6: Resoluciones | H6: Dictámenes | I6: Informes | J6: Observaciones
C7: Ord. | D7: Ext. | E7: Esp.
A9: 2017 | B9: 13 de enero | D9: X | F9: 3 | G9: 2 | I9: 0
B10: 26 de enero | D10: X | F10: 9 | G10: 3 | I10: 1 | J10: - INE/CG11/2017 Programas de Trabajo de las Comisiones del Consejo General del Instituto Nacional Electoral para el año 2017. (Se contabiliza como Acuerdo)
B11: 26 de enero | D11: X | F11: 3 | G11: 2 | I11: 1 | J11: - INE/CG18/2017 Programas de Trabajo de las Comisiones del Consejo General del Instituto Nacional Electoral para el año 2017. (Se contabiliza como Acuerdo)
B12: 1 de febrero | D12: X | I12: 0 | J12: - Sorteo de las letras que comprende el alfabeto, a fin de obtener la letra a partir de la cual, con base en el apellido paterno, se seleccionará a los ciudadanos que integrarán las Mesas Directivas de Casilla de los Procesos Electorales Locales 2016-2017. (No se contabiliza)
B13: 24 de febrero | C13: X | F13: 14 | G13: 15 | I13: 8 | J13: - Tercer Informe Trimestral de Actividades de la Junta General Ejecutiva, correspondiente a los meses de julio, agosto y septiembre de 2016. - INE/CG34/2017 Programa Anual de Trabajo del ejercicio 2017 de la Comisión de Fiscalización del Consejo General del Instituto Nacional Electoral. (Se contabiliza como Acuerdo)
B14: 24 de febrero | D14: X | G14: 1 | I14: 1
B15: 7 de marzo | D15: X | G15: 2 | I15: 3
B16: 7 de marzo | D16: X | F16: 2
B17: 15 de marzo | D17: X | F17: 11 | G17: 1 | I17: 4
B18: 15 de marzo | D18: X | F18: 1
B19: 28 de marzo | D19: X | F19: 16 | G19: 16 | I19: 7
B20: 28 de marzo | D20: X | F20: 2 | I20: 1
B21: 5 de abril | D21: X | J21: - Toma de protesta de las y el Consejero Electoral electos por la Cámara de Diputados del H. Congreso de la Unión, Maestra Dania Paola Ravel Cuevas, Maestra Beatriz Claudia Zavala Pérez y Maestro Jaime Rivera Velázquez.
B22: 5 de abril | D22: X | F22: 5
B23: 18 de abril | D23: X | F23: 1 | I23: 3
B24: 18 de abril | D24: X | F24: 1 | G24: 12 | I24: 1
B25: 26 de abril | D25: X | F25: 8 | G25: 5 | H25: 3 | I25: 1
B26: 3 de mayo | D26: X | F26: 9 | G26: 6 | H26: 5 | I26: 4
B27: 3 de mayo | D27: X | F27: 1
B28: 10 de mayo | D28: X | F28: 4 | I28: 1
B29: 24 de mayo | C29: X | F29: 2 | G29: 10 | H29: 2 | I29: 10 | J29: - Cuarto Informe Trimestral de Actividades de la Junta General Ejecutiva, correspondiente a los meses de octubre, noviembre y diciembre de 2016. - Informe Anual de Actividades de la Junta General Ejecutiva correspondiente al año 2016.
B30: 24 de mayo | D30: X | F30: 3 | I30: 3
B31: 4 de junio | D31: X | I31: 1 | J31: - Jornada Electoral.
B32: 28 de junio | D32: X | F32: 23 | G32: 13 | I32: 4
B33: 14 y 17 de julio | D33: X | F33: 6 | G33: 93 | H33: 7 | I33: 2
B34: 17 de julio | D34: X | F34: 1
B35: 20 de julio | D35: X | F35: 7 | G35: 2
B36: 20 de julio | D36: X | F36: 2 | G36: 4
B37: 18 de agosto | D37: X | F37: 2 | I37: 1
A38: 2017 | B38: 28 de agosto | C38: X | F38: 7 | G38: 21 | I38: 5 | J38: - INE/CG361/2017 Estrategia Integral de Promoción del Voto de las y los Mexicanos Residentes en el Extranjero en los Procesos Electorales Locales 2017-2018. (Se contabiliza como Acuerdo)
B39: 28 de agosto | D39: X | F39: 20 | G39: 1 | I39: 1
B40: 5 de septiembre | D40: X | F40: 6 | G40: 3 | I40: 8
B41: 5 de septiembre | D41: X | F41: 1
B42: 8 de septiembre | D42: X | J42: Intervenciones de los miembros del Consejo General con motivo del inicio del Proceso Electoral Federal 2017-2018.
B43: 8 de septiembre | D43: X | F43: 9 | G43: 22 | I43: 7
B44: 12 de septiembre | D44: X | F44: 2
B45: 12 de septiembre | D45: X | G45: 1
B46: 29 de septiembre | C46: X | F46: 9 | G46: 1 | I46: 14 | J46: - INE/CG439/2017 Programa de Trabajo de la Comisión de Capacitación y Organización Electoral para el Proceso Electoral 2017-2018. (Se contabiliza como Acuerdo) - Primer Informe Trimestral de Actividades de la Junta General Ejecutiva, correspondiente a los meses de enero, febrero y marzo de 2017.
B47: 29 de septiembre | D47: X | J47: - El punto único fue retirado del orden del día.
B48: 5 de octubre | D48: X | F48: 8 | G48: 3 | I48: 1
B49: 7 de octubre | D49: X | F49: 1
B50: 20 de octubre | D50: X | F50: 16 | G50: 6 | I50: 3
B51: 24 de octubre | D51: X | F51: 1
B52: 30 de octubre | C52: X | F52: 17 | G52: 12 | I52: 8 | J52: - Segundo Informe Trimestral de Actividades de la Junta General Ejecutiva, correspondiente a los meses de abril, mayo y junio de 2017.
B53: 8 de noviembre | D53: X | F53: 4 | G53: 2
B54: 8 de noviembre | D54: X | F54: 1
B55: 22 de noviembre | C55: X | F55: 15 | G55: 18 | H55: 25 | I55: 5 | J55: -Tercer Informe Trimestral de Actividades de la Junta General Ejecutiva, correspondiente a los meses de julio, agosto y septiembre de 2017.
B56: 29 de noviembre | D56: X | F56: 1
B57: 29 de noviembre | D57: X | G57: 1
B58: 8 de diciembre | D58: X | F58: 9 | G58: 14 | I58: 13
B59: 8 de diciembre | D59: X | J59: - Se pospuso la discusión y aprobación del punto único.
B60: 18 de diciembre | C60: X | F60: 9 | G60: 13 | I60: 7 | J60: - INE/CG619/2017 Designación del Titular de la Unidad Técnica de Fiscalización, Ciudadano Lizandro Núñez Picazo. (Se contabiliza como Acuerdo)
B61: 22 de diciembre | D61: X | F61: 4 | G61: 4 | I61: 5
B62: 22 de diciembre | D62: X | F62: 3 | G62: 5 | I62: 4
A64: Total | B64: =SUM(C64:E64) -> 54 | C64: =COUNTIF(C9:C62,"X") -> 7 | D64: =COUNTIF(D9:D62,"X") -> 47 | E64: =COUNTIF(E9:E62,"X") -> 0 | F64: =SUM(F9:F62) -> 279 | G64: =SUM(G9:G62) -> 314 | H64: =SUM(H9:H62) -> 42 | I64: =SUM(I9:I62) -> 138 | J64: Total de números alfanuméricos asignados: 635 que corresponden a Acuerdos, Resoluciones y Dictámenes. | K64: =SUM(F64:H64) -> 635
A66: % | B66: =F66+G66+H66 -> 1 | F66: =F64/K64 -> 0.43937008 | G66: =G64/K64 -> 0.49448819 | H66: =+H64/K64 -> 0.066141732 | K66: =SUM(F66:I66) -> 1
K67: =+F64+G64+H64 -> 635

Sheet 18
J2: Datos
J3: Estadísticos
J4: del Consejo General
A6: Año | B6: Fecha | C6: Tipo de la sesión | F6: Acuerdos | G6: Resoluciones | H6: Dictámenes | I6: Informes | J6: Observaciones
C7: Ord. | D7: Ext. | E7: Esp.
A9: 2018 | B9: 5 de enero | D9: X | F9: 3 | G9: 1 | H9: 2 | I9: 6
B10: 5 de enero | D10: X | G10: 1
B11: 10 de enero | D11: X | F11: 9 | G11: 10 | H11: 1 | I11: 5 | J11: INE/CG20/2018 Programa Anual de Trabajo para el año 2018 de la Comisión de Vinculación con los Organismos Públicos Locales. (Se contabiliza como Acuerdo)
B12: 22 de enero | D12: X | F12: 7 | G12: 5 | I12: 4
B13: 31 de enero | C13: X | F13: 27 | G13: 20 | I13: 16 | J13: - Sorteo del mes, que junto con el que sigue en su orden, será tomado como base para la insaculación de los ciudadanos que integrarán las Mesas Directivas de Casilla en el Proceso Electoral 2017-2018, […] (No se contabiliza) - INE/CG40/2018 Informes Anuales que las Comisiones y el Comité de Planeación Institucional rinden al Consejo General del Instituto Nacional Electoral sobre el desarrollo de sus actividades durante el año 2017. (Se contabiliza como Acuerdo) - INE/CG41/2018 Programas de Trabajo de las Comisiones y del Comité de Planeación Institucional del Consejo General del Instituto Nacional Electoral para el año 2018.
B14: 14 de febrero | D14: X | F14: 14 | G14: 6 | H14: 2 | I14: 8 | J14: - INE/CG97/2018 Informe Anual de Actividades de la Comisión Temporal del Voto de los Mexicanos Residentes en el Extranjero en el año 2017. (Se contabiliza como Acuerdo) - INE/CG98/2018 Programa Anual de Trabajo 2018 de la Comisión Temporal del Voto de los Mexicanos Residentes en el Extranjero. (Se contabiliza como Acuerdo)
B15: 19 de febreo | D15: X | F15: 3
B16: 19 de febreo | D16: X | F16: 1
B17: 28 de febrero | C17: X | F17: 13 | G17: 15 | H17: 1 | I17: 13 | J17: - Sorteo de las letras que comprende el alfabeto, a fin de obtener la letra a partir de la cual, con base en el primer apellido, se seleccionará a las y los ciudadanos que serán designados funcionarios de casilla en el Proceso Electoral 2017-2018 […] (No se contabiliza)
B18: 14 de marzo | D18: X | F18: 21 | G18: 4 | H18: 2 | I18: 2
B19: 14 de marzo | D19: X | J19: - Se pospuso la discusión y aprobación del punto único.
B20: 23 de marzo | D20: X | F20: 4 | G20: 57 | H20: 39
B21: 23 de marzo | D21: X | H21: 1
B22: 28 de marzo | C22: X | F22: 2 | G22: 9 | H22: 2 | I22: 11 | J22: - Cuarto Informe Trimestral de Actividades de la Junta General Ejecutiva, correspondiente a los meses de octubre, noviembre y diciembre de 2017.
B23: 28 de marzo | D23: X | F23: 3 | I23: 3 | J23: - Se pospuso la discusión de los Proyectos de Acuerdos identificados en el orden del día como puntos 2 y 3.
B24: 29 de marzo | E24: X | F24: 15
B25: 29 de marzo | D25: X | F25: 1
B26: 4 de abril | D26: X | F26: 7 | G26: 36 | H26: 36
B27: 4 de abril | D27: X | F27: 1 | J27: - Se propuso el retiro del Proyecto de Acuerdo identificado en el orden del día con el número 2.
B28: 5 de abril | D28: X | F28: 2
B29: 10 de abril | D29: X | F29: 4
B30: 16 de abril | D30: X | F30: 1 | J30: - Se propuso la devolución del Proyecto de Acuerdo identificado en el orden del día con el número 2, sin embargo no se ha presentado el Acuerdo de devolución.
B31: 16 de abril | D31: X | F31: 1
B32: 17 de abril | D32: X | F32: 1
B33: 23 de abril | D33: X | F33: 2
B34: 25 de abril | C34: X | F34: 19 | G34: 9 | H34: 5 | I34: 13
B35: 27 de abril | D35: X | F35: 3
A36: 2018 | B36: 4 de mayo | D36: X | F36: 5 | G36: 2 | I36: 2
B37: 4 de mayo | D37: X | F37: 1 | G37: 1
B38: 11 de mayo | D38: X | F38: 12 | G38: 14 | I38: 2
B39: 11 de mayo | D39: X | F39: 1
B40: 28 de mayo | C40: X | F40: 32 | G40: 14 | H40: 2 | I40: 18 | J40: - Informe Anual de Actividades de la Junta General Ejecutiva correspondiente al año 2017. - Selección de las muestras para la verificación de las medidas de seguridad en la documentación electoral y las características y calidad del líquido indeleble. (Se contabiliza como Informe) - Informe sobre la implementación del marco de actuación para la continuidad de operaciones del Proceso Electoral Federal 2018, así como para los procesos extraordinarios que, en su caso, deriven del mismo y que se desprenden de un acuerdo de la propia Junta General Ejecutiva de informar a este Consejo. (Informe agendado en Asuntos Generales y se contabiliza)
B41: 7 de junio | D41: X | F41: 4
B42: 20 de junio | D42: X | F42: 3
B43: 20 de junio | C43: X | F43: 21 | G43: 37 | I43: 18 | J43: - Primer Informe Trimestral de Actividades de la Junta General Ejecutiva, correspondiente a los meses de enero, febrero y marzo de 2018. - Segundo Informe sobre la implementación del marco de actuación para la continuidad de operaciones del Proceso Electoral Federal 2018, así como para los procesos extraordinarios que, en su caso, deriven del mismo, que se presenta a los integrantes del Consejo General del Instituto Nacional Electoral en cumplimiento de los acuerdos INE/CG409/2018 E INE/JGE75/2018. (Informe agendado en Asuntos Generales y se contabiliza) - INE/CG577/2018 Acuerdo del Consejo General del Instituto Nacional Electoral, por el que se aprueba ampliar el plazo para el registro de representantes de Partidos Políticos y Candidaturas Independientes, Generales y ante Mesas Directivas de Casilla, para el Proceso Electoral 2017 – 2018. (IAcuerdo agendado en Asuntos Generales) - Informe sobre el Sistema denominado "candidatas y candidatos, conócelos". (Informe agendado en Asuntos Generales y se contabiliza)
B44: 30 de junio | D44: X | F44: 1
B45: 1 de julio | D45: X | I45: 6 | J45: - Jornada Electoral del Proceso Electoral Federal 2017-2018. - De los informes identificados en el orden del día como puntos 2, 3, 4, 6 y 7 no se circuló ningún documento. (Se contabilizan como Informe)
B46: 4 y 6 de julio | D46: X | I46: 3 | J46: - Continuación de la Jornada Electoral del Proceso Electoral Federal 2017-2018 - De los informes identificados en el orden del día como puntos 1 y 2 no se circuló ningún documento. (Se contabilizan como Informe)
B47: 8 de julio | D47: X | I47: 3 | J47: - Para esta sesión no se circuló ningún documento. - De los informes identificados en el orden del día como puntos 1, 2 y 3 no se circuló ningún documento. (Se contabilizan como Informe)
B48: 18 de julio | C48: X | F48: 11 | G48: 70 | I48: 10
B49: 6 de agosto | D49: X | F49: 4 | G49: 483 | H49: 31 | I49: 1
B50: 23 de agosto | C50: X | F50: 9 | G50: 35 | I50: 13
B51: 23 de agosto | D51: X | F51: 2
B52: 28 de agosto | D52: X | F52: 3
B53: 4 de septiembre | D53: X | F53: 6 | I53: 1
A54: 2018 | B54: 12 de septiembre | D54: X | F54: 45 | G54: 27 | H54: 2 | I54: 16
B55: 12 de septiembre | D55: X | G55: 1
B56: 14 de septiembre | D56: X | F56: 9
B57: 10 de octubre | D57: X | F57: 20 | G57: 5 | J57: - Programa de Trabajo de la Comisión de Capacitación Electoral y Educación Cívica (octubre-diciembre 2018). (Se contabilizan como IAcuerdo)
B58: 17 de octubre | D58: X | F58: 5 | G58: 22 | I58: 1 | J58: - Segundo Informe Trimestral de Actividades de la Junta General Ejecutiva, correspondiente a los meses de abril, mayo y junio de 2018.
B59: 31 de octubre | D59: X | F59: 7 | G59: 16 | I59: 5
B60: 14 de noviembre | D60: X | F60: 14 | G60: 16 | I60: 3 | J60: - Escrito de los partidos políticos Revolucionario Institucional, Verde Ecologista de México, del Trabajo, Movimiento Ciudadano y de la Revolución Democrática, para su análisis y discusión. (Se contabiliza como Informe)
B61: 28 de noviembre | C61: X | F61: 6 | G61: 1 | I61: 8
B62: 7 de diciembre | D62: X | F62: 8 | G62: 7 | H62: 1 | I62: 1
B63: 7 de diciembre | D63: X | G63: 2
B64: 19 de diciembre | D64: X | F64: 20 | G64: 32 | H64: 1 | I64: 4 | J64: - Sorteo del mes, que junto con el que sigue en su orden, será tomado como base para la insaculación de los ciudadanos que integrarán las Mesas Directivas de Casilla en el Proceso Electoral 2018-2019, […] (No se contabiliza) - Tercer Informe Trimestral de Actividades de la Junta General Ejecutiva, correspondiente a los meses de julio, agosto y septiembre de 2018.
B65: 19 de diciembre | D65: X | F65: 1 | G65: 1 | H65: 1 | J65: - INE/CG1502/2018 Designación de la Titular de la Dirección del Secretariado, Ciudadana Daniela Casar García. (Se contabiliza como Acuerdo)
B66: 19 de diciembre | D66: X | G66: 1
A68: Total | B68: =SUM(C68:E68) -> 58 | C68: =COUNTIF(C9:C66,"X") -> 9 | D68: =COUNTIF(D9:D66,"X") -> 48 | E68: =COUNTIF(E9:E66,"X") -> 1 | F68: =SUM(F9:F66) -> 414 | G68: =SUM(G9:G66) -> 960 | H68: =SUM(H9:H66) -> 129 | I68: =SUM(I9:I66) -> 196 | J68: Total de números alfanuméricos asignados: 1503 que corresponden a Acuerdos, Resoluciones y Dictámenes. | K68: =SUM(F68:H68) -> 1503
A70: % | B70: =F70+G70+H70 -> 1 | F70: =F68/K68 -> 0.2754491 | G70: =G68/K68 -> 0.63872255 | H70: =+H68/K68 -> 0.085828343 | K70: =SUM(F70:I70) -> 1
K71: =+F68+G68+H68 -> 1503

Sheet 19
J2: Datos
J3: Estadísticos
J4: del Consejo General
A6: Año | B6: Fecha | C6: Tipo de la sesión | F6: Acuerdos | G6: Resoluciones | H6: Dictámenes | I6: Informes | J6: Observaciones
C7: Ord. | D7: Ext. | E7: Esp.
A9: 2019 | B9: 9 de enero | D9: X | F9: 2
B10: 23 de enero | D10: X | F10: 12 | G10: 18 | H10: 1 | J10: INE/CG03/2019 Informes Anuales que las Comisiones rinden al Consejo General del Instituto Nacional Electoral sobre el desarrollo de sus actividades durante el año 2018. (Se contabiliza como Acuerdo) INE/CG04/2019 Programas de Trabajo de las Comisiones del Consejo General del Instituto Nacional Electoral para el año 2019. (Se contabiliza como Acuerdo)
B11: 23 de enero | D11: X | F11: 1 | I11: 1
B12: 6 de febrero | D12: X | F12: 2 | G12: 3 | I12: 2 | J12: Sorteo de la letra, a partir de la cual, con base en el primer apellido, se seleccionará a las y los ciudadanos que serán designados funcionarios de casilla en el Proceso Electoral 2018-2019. (No se contabiliza)
B13: 6 de febrero | D13: X | F13: 9 | G13: 1 | J13: INE/CG48/2019 Programa de Trabajo de la Comisión Temporal de Vinculación con Mexicanos Residentes en el Extranjero y Análisis de las Modalidades de su Voto (Se contabiliza como Acuerdo)
B14: 6 de febrero | D14: X | F14: 3
B15: 18 de febrero | C15: X | F15: 13 | G15: 11 | H15: 2 | I15: 5
B16: 18 de febrero | D16: X | F16: 2
B17: 5 de marzo | D17: X | F17: 10 | G17: 2 | I17: 2
B18: 12 de marzo | D18: X | G18: 1
B19: 21 de marzo | D19: X | F19: 17 | G19: 14 | I19: 2
B20: 29 de marzo | D20: X | F20: 12 | G20: 16 | H20: 15 | I20: 4 | J20: Cuarto Informe Trimestral de Actividades de la Junta General Ejecutiva, correspondiente a los meses de octubre, noviembre y diciembre de 2018. Informe Anual de Actividades de la Junta General Ejecutiva correspondiente al año 2018.
B21: 10 de abril | D21: X | F21: 12 | G21: 38 | I21: 6
B22: 26 de abril | D22: X | F22: 9 | G22: 9 | H22: 3 | I22: 3 | J22: Reporte de Resultados. Consulta Infantil y Juvenil 2018. (Se contabiliza como Informe)
B23: 26 de abril | D23: X | F23: 3
B24: 2 de mayo | D24: X | F24: 1 | J24: Toma de Protesta del Contralor General designado por la Cámara de Diputados del Congreso de la Unión. (No se contabiliza)
B25: 8 de mayo | D25: X | F25: 2 | I25: 4
B26: 8 de mayo | D26: X | F26: 1
B27: 22 de mayo | C27: X | F27: 10 | G27: 14 | I27: 8 | J27: Selección de dos muestras aleatorias simples de casillas de los 15 Consejos Distritales en el estado de Puebla, para la verificación de las medidas de seguridad en boletas y actas de casilla, y la efectividad del líquido indeleble. (No se contabiliza)
B28: 29 de mayo | D28: X | F28: 1 | I28: 1
B29: 29 de mayo | D29: X | F29: 2
B30: 2 de junio | D30: X | I30: 2 | J30: - Jornada Electoral del Proceso Electoral Local ordinario y extraordinario 2018-2019. - De los informes identificados en el orden del día como puntos 2, 3 no se circuló ningún documento. (Se contabilizan como Informe)
B31: 25 de junio | D31: X | F31: 13 | G31: 17 | I31: 4 | J31: Primer Informe Trimestral de Actividades de la Junta General Ejecutiva, correspondiente a los meses de enero, febrero y marzo de 2019.
B32: 8 de julio | D32: X | F32: 5 | G32: 34 | H32: 6 | I32: 3
B33: 14 de agosto | D33: X | F33: 6 | G33: 24 | I33: 6
B34: 28 de agosto | C34: X | F34: 13 | G34: 13 | I34: 7 | J34: Segundo Informe Trimestral de Actividades de la Junta General Ejecutiva, correspondiente a los meses de abril, mayo y junio de 2019.
A35: 2019 | B35: 28 de agosto | D35: X | F35: 3 | I35: 1
B36: 4 de septiembre | D36: X | F36: 4 | G36: 3 | I36: 1
B37: 18 de septiembre | D37: X | F37: 11 | G37: 8 | I37: 14
B38: 30 de septiembre | D38: X | F38: 13 | G38: 11 | I38: 1 | J38: INE/CG435/2019 Programas de Trabajo de la Comisión Temporal de Vinculación con Mexicanos Residentes en el Extranjero y Análisis de las Modalidades de su Voto, 2019-2021. (Se contabiliza como Acuerdo) 'INE/CG436/2019 Programas de Trabajo de la Comisión Temporal para el Seguimiento de los Procesos Electorales Locales 2019-2020. (Se contabiliza como Acuerdo)
B39: 30 de septiembre | D39: X | F39: 1
B40: 16 de octubre | D40: X | G40: 4
B41: 6 de noviembre | D41: X | F41: 21 | G41: 25 | H41: 3 | I41: 1
B42: 6 de noviembre | D42: X | F42: 1 | G42: 1
B43: 20 de noviembre | C43: X | F43: 5 | G43: 25 | I43: 4 | J43: Tercer Informe Trimestral de Actividades de la Junta General Ejecutiva, correspondiente a los meses de julio, agosto y septiembre de 2019.
B44: 20 de noviembre | D44: X | F44: 1 | I44: 1
B45: 11 de diciembre | D45: X | F45: 5 | G45: 18 | I45: 1 | J45: INE/CG566/2019 Programa Anual de Trabajo 2020 del Órgano Interno de Control. (Se contabiliza como Acuerdo)
B46: 16 de diciembre | D46: X | F46: 2 | I46: 1
B47: 16 de diciembre | D47: X | F47: 1
A49: Total | B49: =SUM(C49:E49) -> 39 | C49: =COUNTIF(C9:C47,"X") -> 4 | D49: =COUNTIF(D9:D47,"X") -> 35 | E49: =COUNTIF(E9:E47,"X") -> 0 | F49: =SUM(F9:F47) -> 229 | G49: =SUM(G9:G47) -> 310 | H49: =SUM(H9:H47) -> 30 | I49: =SUM(I9:I47) -> 85 | J49: Total de números alfanuméricos asignados: 569 que corresponden a Acuerdos, Resoluciones y Dictámenes. | K49: =SUM(F49:H49) -> 569
A51: % | B51: =F51+G51+H51 -> 1 | F51: =F49/K49 -> 0.40246046 | G51: =G49/K49 -> 0.54481547 | H51: =+H49/K49 -> 0.052724077 | K51: =SUM(F51:I51) -> 1
K52: =+F49+G49+H49 -> 569

Sheet 20
J2: Datos
J3: Estadísticos
J4: del Consejo General
A6: Año | B6: Fecha | C6: Tipo de la sesión | F6: Acuerdos | G6: Resoluciones | H6: Dictámenes | I6: Informes | J6: Observaciones
C7: Ord. | D7: Ext. | E7: Esp.
A9: 2020 | B9: 22 de enero | D9: X | F9: 14 | G9: 17 | I9: 5 | J9: INE/CG01/2020 Informes Anuales que las Comisiones rinden al Consejo General del Instituto Nacional Electoral sobre el desarrollo de sus actividades durante el año 2019. (Se contabiliza como Acuerdo) INE/CG02/2020 Programas de Trabajo de las Comisiones del Consejo General del Instituto Nacional Electoral para el año 2020. (Se contabiliza como Acuerdo) Presentación de resultados de la Evaluación del Programa de Asistencia Electoral 2017-2018. (Se contabiliza como Informe)
B10: 22 de enero | D10: X | F10: 4 | J10: INE/CG34/2020 Titular de la Dirección Ejecutiva de Organización Electoral, Ciudadano Sergio Bernal Rojas. (Se contabiliza como Acuerdo) INE/CG35/2020 Titular de la Dirección Ejecutiva del Servicio Profesional Electoral Nacional, Ciudadana Ma. del Refugio García López. (Se contabiliza como Acuerdo)
B11: 6 de febrero | D11: X | F11: 4 | J11: Sorteo de la letra, a partir de la cual, con base en el primer apellido, se seleccionará a las y los ciudadanos que serán designados funcionarios de casilla en el Proceso Electoral 2019-2020. (No se contabiliza)
B12: 6 de febrero | D12: X | F12: 1 | J12: INE/CG40/2020 Designación del C. Edmundo Jacobo Molina como Titular de la Secretaría Ejecutiva del Instituto Nacional Electoral, por un nuevo periodo de seis años.
B13: 21 de febrero | C13: X | F13: 20 | G13: 19 | I13: 10 | J13: Cuarto Informe Trimestral de Actividades de la Junta General Ejecutiva, correspondiente a los meses de octubre, noviembre y diciembre de 2019.
B14: 27 de marzo | D14: X | F14: 1
B15: 27 de marzo | D15: X | F15: 2 | I15: 1
B16: 1 de abril | D16: X | F16: 1
B17: 17 de abril | D17: X | F17: 6
B18: 15 de mayo | D18: X | F18: 7 | I18: 5 | J18: Estudio sobre la Calidad de la Capacitación del Proceso Electoral 2017-2018. (Se contabiliza como Informe)
B19: 28 de mayo | D19: X | F19: 22 | G19: 15 | I19: 11
B20: 11 de junio | D20: X | F20: 3 | I20: 5
B21: 19 de junio | D21: X | F21: 18 | G21: 2 | I21: 2 | J21: INE/CG153/2020 Programa de Trabajo de la Comisión Temporal de Vinculación con Mexicanos Residentes en el Extranjero y Análisis de las Modalidades de su Voto. (Se contabiliza como Acuerdo)
B22: 8 de julio | C22: X | F22: 12 | G22: 1 | I22: 3 | J22: Informe Anual de Actividades de la Junta General Ejecutiva correspondiente al año 2019. Primer Informe Trimestral de Actividades de la Junta General Ejecutiva, correspondiente a los meses de enero, febrero y marzo de 2020.
B23: 23 de julio | D23: X | J23: Toma de protesta de las consejeras y los consejeros electorales electos por la Cámara de Diputados del Honorable Congreso de la Unión, Maestra Norma Irene De La Cruz Magaña, Doctor Uuc-Kib Espadas, Maestro José Martín Fernando Faz Mora y Doctora Carla Astrid Humphrey Jordán.
B24: 30 de julio | D24: X | F24: 17 | I24: 5 | J24: Análisis muestral del llenado de los cuadernillos para hacer las operaciones de escrutinio y cómputo de casilla de las Elecciones Federales de 2018. (Se contabiliza como Informe) Análisis sobre las características geo-electorales de votación de las y los representantes de partidos políticos y candidaturas independientes durante la Jornada Electoral y su impacto sobre los resultados en las elecciones federales de 2018. (Se contabiliza como Informe) Actualización del Estudio del Sistema de Registro de Actas y su efecto en los Cómputos Distritales del Proceso Electoral Federal 2017-2018. (Se contabiliza como Informe)
B25: 7 de agosto | D25: X | F25: 5 | G25: 1
A26: 2020 | B26: 21 de agosto | D26: X | F26: 11 | G26: 10 | H26: 1 | J26: INE/CG202/2020 Plan de trabajo de la Comisión Temporal para el Seguimiento de los Procesos Electorales Locales 2019-2020, con motivo de la reanudación de los procesos electorales en los estados de Coahuila e Hidalgo. (Se contabiliza como Acuerdo)
B27: 21 de agosto | D27: X | F27: 1
B28: 26 de agosto | D28: X | F28: 21 | I28: 3 | J28: Segundo Informe Trimestral de actividades de la Junta General Ejecutiva, correspondiente a los meses de abril, mayo y junio de 2020.
B29: 26 de agosto | D29: X | F29: 2
B30: 31 de agosto | D30: X | F30: 4 | G30: 4 | H30: 4 | I30: 3
B31: 31 de agosto | D31: X | F31: 2
B32: 4 de septiembre | D32: X | F32: 6 | G32: 12 | I32: 4 | J32: INE/CG268/2020 Programa de Trabajo de la Comisión de Igualdad de Género y No Discriminación (CIGYND), 2020-2021. (Se contabiliza como Acuerdo)
B33: 4 de septiembre | D33: X | F33: 2 | G33: 8 | I33: 1
B34: 4 de septiembre | D34: X | F34: 1
B35: 7 de septiembre | D35: X | J35: Intervenciones de los integrantes del Consejo General con motivo del inicio del Proceso Electoral Federal 2020-2021.
B36: 7 de septiembre | D36: X | F36: 4
B37: 7 de septiembre | D37: X | F37: 2 | I37: 1
B38: 11 de septiembre | D38: X | F38: 1 | G38: 2
B39: 18 de septiembre | D39: X | F39: 2
B40: 30 de septiembre | C40: X | F40: 18 | G40: 1 | I40: 14 | J40: INE/CG294/2020 Programa de Trabajo de la Comisión de Capacitación y Organización Electoral para el Proceso Electoral 2020-2021. (Se contabiliza como Acuerdo)
B41: 7 de octubre | D41: X | F41: 1 | G41: 195
B42: 13 de octubre | D42: X | F42: 1
B43: 19 de octubre | D43: X | F43: 1 | G43: 2
B44: 28 de octubre | C44: X | F44: 30 | G44: 14 | I44: 9 | J44: Se ordenó la devolución de 9 resoluciones. (Se contabilizan como Acuerdos)
B45: 6 de noviembre | D45: X | F45: 9 | G45: 3 | H45: 1 | I45: 3
B46: 6 de noviembre | D46: X | F46: 1
B47: 18 de noviembre | D47: X | F47: 5 | G47: 1 | I47: 5
B48: 18 de noviembre | D48: X | F48: 1
B49: 26 de noviembre | C49: X | F49: 4 | G49: 51 | H49: 2 | I49: 8 | J49: Tercer Informe Trimestral de Actividades de la Junta General Ejecutiva correspondiente a los meses de julio, agosto y septiembre de 2020.
B50: 7 de diciembre | D50: X | F50: 1
B51: 7 de diciembre | D51: X | F51: 7 | G51: 1 | I51: 1
B52: 15 de diciembre | C52: X | F52: 7 | G52: 31 | H52: 3 | I52: 10
B53: 15 de diciembre | D53: X | F53: 1 | G53: 4 | I53: 1
B54: 21 de diciembre | D54: X | F54: 5 | G54: 8 | I54: 5 | J54: INE/CG690/2020 Programa Anual de Trabajo 2021 del Órgano Interno de Control. (Se contabiliza como Acuerdo)
B55: 21 de diciembre | D55: X | F55: 2 | J55: INE/CG702/2020 Titular de la Unidad Técnica de Fiscalización. C. Jacqueline Vargas Arellanes. (Se contabiliza como Acuerdo) INE/CG703/2020 Titular de la Unidad Técnica de Igualdad de Género y No Discriminación. C. Laura Liselotte Correa de la Torre. (Se contabiliza como Acuerdo)
A57: Total | B57: =SUM(C57:E57) -> 47 | C57: =COUNTIF(C9:C55,"X") -> 6 | D57: =COUNTIF(D9:D55,"X") -> 41 | E57: =COUNTIF(E9:E55,"X") -> 0 | F57: =SUM(F9:F55) -> 290 | G57: =SUM(G9:G55) -> 402 | H57: =SUM(H9:H55) -> 11 | I57: =SUM(I9:I55) -> 115 | J57: Total de números alfanuméricos asignados: 703 que corresponden a Acuerdos, Resoluciones y Dictámenes. | K57: =SUM(F57:H57) -> 703
A59: % | B59: =F59+G59+H59 -> 1 | F59: =F57/K57 -> 0.41251778 | G59: =G57/K57 -> 0.57183499 | H59: =+H57/K57 -> 0.015647226 | K59: =SUM(F59:I59) -> 1
K60: =+F57+G57+H57 -> 703

Sheet 21
J2: Datos
J3: Estadísticos
J4: del Consejo General
A6: Año | B6: Fecha | C6: Tipo de la sesión | F6: Acuerdos | G6: Resoluciones | H6: Dictámenes | I6: Informes | J6: Observaciones
C7: Ord. | D7: Ext. | E7: Esp.
A9: 2021 | B9: 4 de enero | D9: X | F9: 4
B10: 15 de enero | D10: X | F10: 11 | G10: 10 | I10: 3 | J10: INE/CG05/2021 Informes Anuales que las Comisiones rinden al Consejo General del Instituto Nacional Electoral sobre el desarrollo de sus actividades durante el año 2020. (Se contabiliza como Acuerdo) INE/CG06/2021 Programas de Trabajo de las Comisiones del Consejo General del Instituto Nacional Electoral para el año 2021. (Se contabiliza como Acuerdo)
B11: 15 de enero | D11: X | F11: 1
B12: 27 de enero | C12: X | F12: 20 | G12: 37 | I12: 10 | J12: INE/CG27/2021 Informes Anuales que las Comisiones rinden al Consejo General del Instituto Nacional Electoral sobre el desarrollo de sus actividades durante el año 2020. (Se contabiliza como Acuerdo) INE/CG28/2021 Programas de Trabajo de las Comisiones del Consejo General del Instituto Nacional Electoral para el año 2021. (Se contabiliza como Acuerdo) Tres (3) Informes semestrales sobre la situación que guardan los procedimientos de liquidación de los extintos partidos Humanista, Nueva Alianza y Encuentro Social. Julio-diciembre de 2020. (Se contabiliza uno por cada partido)
B13: 3 de febrero | D13: X | F13: 8 | G13: 6 | I13: 5 | J13: Sorteo de las letras que comprenden el alfabeto, a fin de obtener la letra a partir de la cual, con base en el primer apellido, se seleccionará a las y los ciudadanos que integrarán las mesas directivas de casilla en los Procesos Electorales 2020-2021 [...]. (No se contabiliza)
B14: 15 de febrero | D14: X | F14: 5 | G14: 8 | I14: 6
B15: 15 de febrero | D15: X | F15: 2
B16: 26 de febrero | C16: X | F16: 11 | G16: 21 | H16: 11 | I16: 12 | J16: Cuarto Informe Trimestral de Actividades de la Junta General Ejecutiva correspondiente a los meses de octubre, noviembre y diciembre de 2020. Informe Anual de Actividades de la Junta General Ejecutiva correspondiente al año 2020. INE/CG154/2021 e INE/CG155/2021 (Acuerdos de No aprobación)
B17: 26 de febrero | D17: X | F17: 4
B18: 4 de marzo | D18: X | F18: 2 | I18: 3
B19: 19 de marzo | D19: X | F19: 6 | G19: 24 | I19: 1
B20: 19 de marzo | D20: X | F20: 3 | I20: 1
B21: 25 de marzo | C21: X | F21: 9 | G21: 64 | H21: 60 | I21: 12 | J21: El código alfanumérico INE/CG288Bis/2021, correspondiente a la resolución identificada con el apartado 3.3 del orden del día. (Se contabiliza como una resolución más)
B22: 25 de marzo | D22: X | F22: 4 | G22: 2 | I22: 2
B23: 25 de marzo | D23: X | F23: 1 | J23: INE/CG333/2020 Titular de la Dirección Ejecutiva de Administración. C. Ana Laura Martínez de Lara. (Se contabiliza como Acuerdo)
B24: 3 de abril | D24: X | F24: 3
B25: 3 de abril | E25: X | F25: 1
B26: 6 de abril | D26: X | F26: 4 | G26: 6 | H26: 5 | I26: 1
B27: 9 de abril | D27: X | F27: 2
B28: 13 de abril | D28: X | F28: 3 | G28: 1 | I28: 1
B29: 13 de abril | D29: X | F29: 2
B30: 16 de abril | D30: X | F30: 9 | G30: 7 | H30: 1 | I30: 4
B31: 16 de abril | D31: X | F31: 1
B32: 19 de abril | D32: X | F32: 4
B33: 23 de abril | D33: X | F33: 11 | I33: 1
B34: 28 de abril | C34: X | F34: 26 | G34: 2 | H34: 2 | I34: 12
B35: 28 de abril | D35: X | F35: 1
B36: 28 de abril | D36: X | F36: 1
B37: 4 de mayo | D37: X | F37: 12
A38: 2021 | B38: 12 de mayo | D38: X | F38: 6 | G38: 3 | H38: 2 | I38: 2 | J38: Selección de muestras para la verificación de las medidas de seguridad en la documentación electoral y las características y calidad del líquido indeleble. (No se contabiliza)
B39: 12 de mayo | D39: X | F39: 4 | G39: 2 | I39: 1
B40: 20 de mayo | D40: X | F40: 12
B41: 20 de mayo | D41: X | F41: 1 | I41: 1
B42: 26 de mayo | C42: X | F42: 11 | G42: 37 | I42: 15 | J42: Primer Informe Trimestral de Actividades de la Junta General Ejecutiva correspondiente a los meses de enero, febrero y marzo de 2021.
B43: 26 de mayo | D43: X | F43: 2 | I43: 3
B44: 29 de mayo | D44: X | F44: 1
B45: 2 de junio | D45: X | F45: 5 | I45: 2
B46: 2 de junio | D46: X | F46: 1 | I46: 1
B47: 5 de junio | D47: X | F47: 3 | I47: 1
B48: 6 de junio | D48: X | I48: 5 | J48: - Jornada Electoral del Proceso Electoral Federal 2020-2021. - De los informes identificados en el orden del día como puntos 2, 4, 5 y 6 no se circuló ningún documento. (Se contabilizan como Informe)
B49: 9 y 13 de junio | D49: X | F49: 2 | I49: 5 | J49: - Continuación de la Jornada Electoral del Proceso Electoral Federal 2020-2021. - De los informes identificados en el orden del día como puntos 5 y 7 no se circuló ningún documento. (Se contabilizan como Informe)
B50: 18 de junio | D50: X | F50: 3 | G50: 22 | I50: 3
B51: 30 de junio | C51: X | F51: 13 | G51: 61 | I51: 19 | J51: Del análisis realizado por la Dirección de Procedimientos Ordinarios Sancionadores de la UTCE, se modificó el dictamen INE/CG621/2021 derivado de inconsistencias que se consideraron corregir para proceder a la notificación a las partes interesadas; quedando como Resolución INE/CG621/2021.
B52: 14 de julio | D52: X | F52: 5 | G52: 124
B53: 14 de julio | D53: X | G53: 66
B54: 22 de julio | D54: X | F54: 5 | G54: 525 | H54: 66 | I54: 4 | J54: Se ordenó la devolución de una resolución (apdo. 1.219). (Se contabiliza como Acuerdo)
B55: 28 de julio | C55: X | F55: 2 | I55: 9
B56: 1 y 2 de agosto | D56: X | F56: 1 | I56: 4 | J56: - Jornada para la Consulta Popular. - De los informes identificados en el orden del día como puntos 2, 3, 4 y 5 no se circuló ningún documento. (Se contabilizan como Informe)
B57: 11 de agosto | D57: X | F57: 4 | G57: 7 | I57: 2
B58: 11 de agosto | D58: X | F58: 1
B59: 23 de agosto | D59: X | F59: 6 | G59: 3 | I59: 11
B60: 27 de agosto | C60: X | F60: 30 | I60: 12 | J60: Se ordenó la devolución de una resolución (pto. 9). (Se contabiliza como Acuerdo) INE/CG1448/2021 Programa de Trabajo de la Comisión del Voto de las Mexicanas y los Mexicanos Residentes en el Extranjero. (Se contabiliza como Acuerdo). INE/CG1468/2021 Informes que las Comisiones al Consejo General del Instituto Nacional Electoral sobre el desarrollo de sus actividades. (Se contabiliza como Acuerdo). Segundo Informe Trimestral de Actividades de la Junta General Ejecutiva, correspondiente a los meses de abril, mayo y junio de 2021.
B61: 31 de agosto | D61: X | F61: 1
A62: 2021 | B62: 1 de septiembre | D62: X | F62: 16 | G62: 4 | I62: 1 | J62: INE/CG1475/2021 Informes que las Comisiones rinden al Consejo General del Instituto Nacional Electoral sobre el desarrollo de sus actividades. (Se contabiliza como Acuerdo). Se retiro del orden del día el punto 5 (apartados 5.1 y 5.2)
B63: 1 de septiembre | D63: X | F63: 2 | G63: 1 | I63: 1
B64: 3 de septiembre | D64: X | F64: 19 | G64: 2 | J64: INE/CG1498/2021 Informe Anual de actividades de la Comisión del Servicio Profesional Electoral Nacional, correspondiente al período del 30 de julio de 2020 al 31 de agosto de 2021. (Se contabiliza como Acuerdo).
B65: 13 de septiembre | D65: X | F65: 4
B66: 30 de septiembre | D66: X | F66: 22 | G66: 22 | I66: 4 | J66: INE/CG1550/2021 Programas de Trabajo de las Comisiones del Consejo General del Instituto Nacional Electoral 2021-2022. (Se contabiliza como Acuerdo). Presentación de la Estrategia Integral de Promoción del Voto de las Mexicanas y los Mexicanos Residentes en el Extranjero 2021-2023. (Se contabiliza como Informe).
B67: 30 de septiembre | D67: X | F67: 3 | G67: 1 | H67: 3
B68: 4 de octubre | D68: X | F68: 13
B69: 11 de octubre | D69: X | F69: 2
B70: 11 de octubre | D70: X | F70: 8
B71: 20 de octubre | D71: X | F71: 16 | G71: 1 | J71: INE/CG1597/2021 Plan de Trabajo de la Comisión de Organización Electoral 2021-2022. (Se contabiliza como Acuerdo). INE/CG1604/2021 Programa Anual de Trabajo de la Comisión de Igualdad de Género y No Discriminación para el periodo 2021-2022. (Se contabiliza como Acuerdo).
B72: 20 de octubre | D72: X | F72: 1 | G72: 1
B73: 26 de octubre | D73: X | F73: 1
B74: 29 de octubre | D74: X | F74: 24 | G74: 2 | H74: 2 | I74: 3
B75: 1 de noviembre | E75: X | F75: 1
B76: 10 de noviembre | D76: X | F76: 2
B77: 17 de noviembre | C77: X | F77: 11 | G77: 60 | H77: 4 | I77: 10 | J77: Tercer Informe Trimestral de Actividades de la Junta General Ejecutiva, correspondiente a los meses de julio, agosto y septiembre de 2021.
B78: 19 de noviembre | D78: X | G78: 1 | H78: 1
B79: 30 de noviembre | D79: X | F79: 6 | G79: 7 | H79: 1 | I79: 5
B80: 5 de diciembre | D80: X | I80: 1 | J80: Jornada Extraordinaria en Nayarit. Del informe identificado en el orden del día como puntos 2 no se circuló ningún documento. (Se contabilizan como Informe)
B81: 10 de diciembre | D81: X | F81: 11 | G81: 7 | H81: 2 | I81: 3 | J81: Sorteo del mes, que junto con el que sigue en su orden, será tomado como base para la insaculación de la ciudadanía que integrará las Mesas Directivas de Casilla en los Procesos Electorales Locales 2021-2022. (No se contabiliza)
B82: 17 de diciembre | D82: X | F82: 16 | G82: 17 | H82: 4 | I82: 12 | J82: Estudio del funcionamiento de las casillas especiales en el Proceso Electoral 2020-2021. (Se contabilizan como Informe) Reporte parcial de los resultados de la Consulta Infantil y Juvenil 2021. (Se contabilizan como Informe) INE/CG1789/2021 Programa Anual de Trabajo 2022 del Órgano Interno de Control. (Se contabiliza como Acuerdo).
A83: 2021 | B83: 17 de diciembre | D83: X | F83: 1
B84: 17 de diciembre | D84: X | F84: 1
B85: 30 de diciembre | D85: X | F85: 1
A87: Total | B87: =SUM(C87:E87) -> 77 | C87: =COUNTIF(C9:C85,"X") -> 9 | D87: =COUNTIF(D9:D85,"X") -> 66 | E87: =COUNTIF(E9:E85,"X") -> 2 | F87: =SUM(F9:F85) -> 471 | G87: =SUM(G9:G85) -> 1164 | H87: =SUM(H9:H85) -> 164 | I87: =SUM(I9:I85) -> 214 | J87: Total de números alfanuméricos asignados: 1799 que corresponden a Acuerdos, Resoluciones y Dictámenes. | K87: =SUM(F87:H87) -> 1799
A89: % | B89: =F89+G89+H89 -> 1 | F89: =F87/K87 -> 0.26181212 | G89: =G87/K87 -> 0.64702613 | H89: =+H87/K87 -> 0.091161757 | K89: =SUM(F89:I89) -> 1
K90: =+F87+G87+H87 -> 1799

Sheet 22
J2: Datos
J3: Estadísticos
J4: del Consejo General
A6: Año | B6: Fecha | C6: Tipo de la sesión | F6: Acuerdos | G6: Resoluciones | H6: Dictámenes | I6: Informes | J6: Observaciones
C7: Ord. | D7: Ext. | E7: Esp.
A9: 2022 | B9: 12 de enero | D9: X | F9: 8 | G9: 3 | H9: 2 | J9: Procedimiento mediante el cual se realiza el sorteo del mes, que junto con el que sigue en su orden, será tomado como base para la insaculación de la ciudadanía que integrará las Mesas Directivas de Casilla en el eventual Proceso de Revocación de Mandato 2022 para el Presidente de la República electo para el periodo constitucional 2018-2024. (No se contabiliza) INE/CG01/2022 Informe de Actividades de la Presidencia de la Comisión de Vinculación con los Organismos Públicos Locales 2021. (Se contabiliza como Acuerdo) INE/CG02/2022 Programa Anual de Trabajo de la Comisión de Vinculación con Organismos Públicos Locales para el año 2022. (Se contabiliza como Acuerdo)
B10: 26 de enero | D10: X | F10: 25 | G10: 5 | I10: 10 | J10: Sorteo de la letra, a partir de la cual, con base en el primer apellido, se seleccionará a las y los ciudadanos que integraran las mesas directivas de casilla en el eventual Proceso de Revocación de Mandato 2022 para el Presidente de la República electo para el periodo constitucional 2018-2024 [...] (No se contabiliza) INE/CG14/2022 Informes Anuales que las Comisiones rinden al Consejo General del Instituto Nacional Electoral sobre el desarrollo de sus actividades durante el año 2021. (Se contabiliza como Acuerdo) INE/CG15/2022 Programas de Trabajo de las Comisiones del Consejo General del Instituto Nacional Electoral para el año 2022. (Se contabiliza como Acuerdo) Informes que presenta la Comisión Temporal de Seguimiento de los Procesos Electorales Locales 2021-2022, respecto a los Planes y Calendarios del proceso electoral federal 2020-2021; de la Consulta Popular 2021 y de la elección extraordinaria a senaduría en el estado de Nayarit 2021. (Se contabilizan 3 Informes)
B11: 31 de enero | D11: X | F11: 6 | G11: 1 | I11: 2 | J11: Sorteo de la letra, a partir de la cual, con base en el primer apellido, se seleccionará a las y los ciudadanos que integrarán las Mesas Directivas de Casilla en el Proceso Electoral Local 2021-2022 […] (No se contabiliza) INE/CG44/2022 Informes Anuales que las Comisiones rinden al Consejo General del Instituto Nacional Electoral sobre el desarrollo de sus actividades durante el año 2021. (Se contabiliza como Acuerdo) INE/CG45/2022 Programas de Trabajo de las Comisiones del Consejo General del Instituto Nacional Electoral para el año 2022. (Se contabiliza como Acuerdo)
B12: 4 de febrero | D12: X | F12: 11 | G12: 29 | I12: 1
B13: 21 de febrero | D13: X | F13: 11 | G13: 4 | I13: 4 | J13: INE/CG91/2022 Informe Anual de Actividades de la Comisión de Fiscalización correspondiente al ejercicio 2021. (Se contabiliza como Acuerdo) INE/CG92/2022 Programa Anual de Trabajo de la Comisión de Fiscalización correspondiente al ejercicio 2022. (Se contabiliza como Acuerdo) Cuarto Informe Trimestral de Actividades de la Junta General Ejecutiva correspondiente a los meses de octubre, noviembre y diciembre de 2021. Informe Anual de Actividades de la Junta General Ejecutiva correspondiente al año 2021.
B14: 25 de febrero | C14: X | F14: 10 | G14: 30 | H14: 3 | I14: 11
B15: 18 de marzo | D15: X | F15: 3 | G15: 17 | H15: 14 | I15: 4
B16: 23 de marzo | D16: X | F16: 3 | I16: 5 | J16: Procedimiento muestral para la verificación de las medidas de seguridad en la documentación electoral y del funcionamiento del líquido indeleble, del proceso de Revocación de Mandato 2022. (No se contabiliza)
A17: 2022 | B17: 29 de marzo | D17: X | F17: 10 | G17: 2 | H17: 1
B18: 29 de marzo | D18: X | F18: 1 | I18: 4
B19: 6 de abril | D19: X | F19: 2
B20: 10 y 11 de abril | D20: X | F20: 1 | I20: 5 | J20: Jornada para la Revocación de Mandato. De los informes identificados en el orden del día como puntos 2, 3, 4, 5 y 6 no se circuló ningún documento. (Se contabilizan como Informes)
B21: 27 de abril | D21: X | F21: 14 | G21: 37 | H21: 4 | I21: 8
B22: 9 de mayo | D22: X | F22: 5 | G22: 83 | H22: 1 | I22: 3
B23: 17 de mayo | D23: X | F23: 2
B24: 31 de mayo | C24: X | F24: 5 | G24: 35 | H24: 1 | I24: 14 | J24: Primer Informe Trimestral de Actividades de la Junta General Ejecutiva correspondiente a los meses de enero, febrero y marzo de 2022. De los informes identificados en el orden del día como puntos 2, 3, 4, 5 y 6 no se circuló ningún documento. (Se contabilizan como Informes)
B25: 5 de junio | D25: X | I25: 1 | J25: Jornada Electoral en los estados de Aguascalientes, Durango, Hidalgo, Oaxaca, Quintana Roo y Tamaulipas. Del informe identificado en el orden del día como punto 2 no se circuló ningún documento. (Se contabiliza como Informe)
B26: 30 de junio | D26: X | F26: 14 | G26: 23 | I26: 14
B27: 18 de julio | D27: X | F27: 1
B28: 20 de julio | D28: X | F28: 14 | G28: 143 | H28: 9
B29: 10 de agosto | D29: X | F29: 1 | G29: 1 | H29: 1
B30: 22 de agosto | C30: X | F30: 6 | G30: 6 | I30: 10 | J30: Segundo Informe Trimestral de Actividades de la Junta General Ejecutiva correspondiente a los meses de abril, mayo y junio de 2022. INE/CG608/2022 Informes que las Comisiones rinden al Consejo General del Instituto Nacional Electoral sobre el desarrollo de sus actividades. (Se contabiliza como Acuerdo)
B31: 22 de agosto | D31: X | F31: 6
B32: 7 de septiembre | D32: X | F32: 12 | I32: 12 | J32: INE/CG615/2022 Informes que las Comisiones rinden al Consejo General del Instituto Nacional Electoral sobre el desarrollo de sus actividades. (Se contabiliza como Acuerdo)
B33: 26 de septiembre | D33: X | F33: 5 | G33: 4 | I33: 3
B34: 19 de octubre | D34: X | F34: 19 | G34: 73 | I34: 7 | J34: INE/CG645/2022 Informe de avance de actividades Consejero Electoral, Dr. Ciro Murayama Rendón Presidencia de la Comisión del Registro Federal de Electores. Periodo de septiembre de 2021 a septiembre de 2022. (Se contabiliza como Acuerdo) INE/CG647/2022 Plan de Trabajo de la Comisión de Organización Electoral 2022-2023. (Se contabiliza como Acuerdo) INE/CG648/2022 Programa de Trabajo de la Comisión de Igualdad de Género y No Discriminación. octubre 2022–abril 2023. (Se contabiliza como Acuerdo) INE/CG646/2022 Plan de trabajo de la Comisión Temporal de Seguimiento de los Procesos Electorales Locales 2023. (Se contabiliza como Acuerdo)
B35: 29 de noviembre | C35: X | F35: 19 | G35: 84 | H35: 2 | I35: 10 | J35: Tercer Informe Trimestral de Actividades de la Junta General Ejecutiva, correspondiente a los meses de julio, agosto y septiembre de 2022.
B36: 30 de noviembre | D36: X | F36: 11
B37: 14 de diciembre | D37: X | F37: 26 | G37: 12 | I37: 7
B38: 14 de diciembre | D38: X | G38: 1 | J38: Información que presenta el Consejero Presidente, Dr. Lorenzo Córdova Vianello sobre la Junta General Ejecutiva. (No se contabiliza)
B39: 14 de diciembre | D39: X | F39: 1
A41: Total | B41: =SUM(C41:E41) -> 31 | C41: =COUNTIF(C9:C39,"X") -> 4 | D41: =COUNTIF(D9:D39,"X") -> 27 | E41: =COUNTIF(E9:E39,"X") -> 0 | F41: =SUM(F9:F39) -> 252 | G41: =SUM(G9:G39) -> 593 | H41: =SUM(H9:H39) -> 38 | I41: =SUM(I9:I39) -> 135 | J41: Total de números alfanuméricos asignados: 883 que corresponden a Acuerdos, Resoluciones y Dictámenes. | K41: =SUM(F41:H41) -> 883
A43: % | B43: =F43+G43+H43 -> 1 | F43: =F41/K41 -> 0.28539071 | G43: =G41/K41 -> 0.67157418 | H43: =+H41/K41 -> 0.043035108 | K43: =SUM(F43:I43) -> 1
K44: =+F41+G41+H41 -> 883

Sheet 23
J2: Datos
J3: Estadísticos
J4: del Consejo General
A6: Año | B6: Fecha | C6: Tipo de la sesión | F6: Acuerdos | G6: Resoluciones | H6: Dictámenes | I6: Informes | J6: Observaciones
C7: Ord. | D7: Ext. | E7: Esp.
A9: 2023 | B9: 25 de enero | D9: X | F9: 29 | G9: 12 | I9: 6 | J9: INE/CG01/2023 Informes Anuales que las Comisiones rinden al Consejo General del Instituto Nacional Electoral sobre el desarrollo de sus actividades durante el año 2022. (Se contabiliza como Acuerdo) INE/CG02/2023 Programas Anuales de Trabajo de las Comisiones del Consejo General del Instituto Nacional Electoral para el año 2023. (Se contabiliza como Acuerdo) [...] sorteo de la letra, a partir de la cual, con base en el primer apellido, se seleccionará a la ciudadanía que integrará las Mesas Directivas de Casilla en el Proceso Electoral Local 2022-2023, [...] (No se contabiliza) INE/CG41/2023 Programa Anual de Trabajo 2023 del Órgano Interno de Control. (Se contabiliza como Acuerdo)
B10: 1 de febrero | D10: X | G10: 1 | H10: 1 | J10: Procedimiento muestral para la verificación de las medidas de seguridad en la documentación electoral y la certificación de las características y calidad del líquido indeleble, del Proceso Electoral Extraordinario de una Senaduría de Tamaulipas 2023. (No se contabiliza)
B11: 19 de febrero | D11: X | I11: 1 | J11: Jornada Electoral Extraordinaria en el estado de Tamaulipas. Intervenciones de los integrantes del Consejo General con motivo de la elección extraordinaria para una fórmula de senadores de mayoría relativa en Tamaulipas. (No se contabiliza) Informe del Secretario Ejecutivo sobre la instalación e inicio de las sesiones de los Consejos Locales y Distritales y avance sobre la instalación de las casillas con motivo de la elección extraordinaria para una fórmula de senadores de mayoría relativa en Tamaulipas. (Solo en Actas, se contabiliza como Informe)
B12: 27 de febrero | C12: X | F12: 17 | G12: 69 | I12: 15 | J12: Cuarto Informe Trimestral de Actividades de la Junta General Ejecutiva correspondiente a los meses de octubre, noviembre y diciembre de 2022. Informe Anual de Actividades de la Junta General Ejecutiva correspondiente al año 2022.
B13: 27 de febrero | D13: X | F13: 4 | I13: 1
B14: 3 de marzo | D14: X | F14: 2 | J14: INE/CG134/2023 Nombramiento del C. Roberto Heycher Cardiel Soto como encargado del despacho de la Secretaría Ejecutiva del Instituto Nacional Electoral. (Se contabiliza como Acuerdo)
B15: 13 de marzo | D15: X | I15: 1 | J15: Continuación en el cargo del Secretario Ejecutivo, Edmundo Jacobo Molina.
B16: 16 de marzo | D16: X | F16: 1 | I16: 2
B17: 24 de marzo | D17: X | G17: 19 | H17: 6
B18: 27 de marzo | D18: X | F18: 9 | G18: 8 | I18: 8
B19: 27 de marzo | D19: X | I19: 1
B20: 27 de marzo | D20: X | F20: 1
B21: 30 de marzo | D21: X | F21: 11 | G21: 65 | I21: 13
B22: 30 de marzo | D22: X | F22: 1 | I22: 1
B23: 3 de abril | D23: X | J23: Sesión PROTOCOLARIA (Se contabiliza como sesión extraordinaria) Toma de Protesta de la Consejera Presidenta, Lic. Guadalupe Taddei Zavala, Consejera Presidente. Toma de Protesta de la Consejera y los Consejeros Electorales, Mtra. Rita Bell López Vences; mtro. Arturo Castillo Loza y mtro. Jorge Montaño Ventura.
B24: 10 de abril | D24: X | F24: 1 | G24: 1 | H24: 1
B25: 28 de abril | D25: X | F25: 5 | G25: 25 | I25: 9
B26: 18 de mayo | D26: X | F26: 1
B27: 31 de mayo | C27: X | F27: 21 | G27: 24 | I27: 9 | J27: Se ordenó la devolución de la resolución identificada como apdo. 18.2 y del apartado 22.1. (Se contabilizan como Acuerdos)
B28: 31 de mayo | D28: X | F28: 1 | I28: 1
A29: 2023 | B29: 21 de junio | D29: X | F29: 8 | G29: 37 | I29: 8 | J29: Primer Informe Trimestral de Actividades de la Junta General Ejecutiva correspondiente a los meses de enero, febrero y marzo de 2023. Se ordenó la devolución de la resolución identificada como apdo. 3.8 (Se contabiliza como Acuerdo)
B30: 21 de junio | D30: X | F30: 9 | J30: INE/CG382/2023 Titular de la Dirección Ejecutiva de Capacitación Electoral y Educación Cívica; C. María Elena Cornejo Esparza. (Se contabiliza como Acuerdo) INE/CG383/2023 Titular de la Dirección Ejecutiva del Registro Federal de Electores; C. Alejandro Sosa Durán (Se contabiliza como Acuerdo) INE/CG384/2023 Titular de la Unidad Técnica de lo Contencioso Electoral; C. Manuel Alberto Cruz Martínez (Se contabiliza como Acuerdo) INE/CG385/2023 Titular de la Coordinación de Asuntos Internacionales; C. Marissa Arlene Cabral Porchas (Se contabiliza como Acuerdo) INE/CG386/2023 Titular de la Unidad Técnica de Igualdad de Género y No Discriminación; C. Flor Dessiré León Hérnandez (Se contabiliza como Acuerdo) INE/CG387/2023 Titular de la Dirección del Secretariado; C. Rosa María Bárcena Canuas (Se contabiliza como Acuerdo) INE/CG388/2023 Titular de la Dirección Ejecutiva de Administración; C. Ignacio Ruelas Olvera (Se contabiliza como Acuerdo) INE/CG389/2023 Titular de la Dirección Ejecutiva de Organización Electoral; C. Miguel Ángel Patiño Arroyo (Se contabiliza como Acuerdo) INE/CG390/2023 Titular de la Unidad Técnica de Vinculación con los Organismos Públicos Locales; C. Giancarlo Giordano Garibay (Se contabiliza como Acuerdo)
B31: 7 de julio | D31: X | F31: 1 | G31: 2 | I31: 1
B32: 20 de julio | D32: X | F32: 18 | G32: 33 | H32: 2 | I32: 4 | J32: Se ordenó la devolución de la resolución identificada como apdo. 2.13 (Se contabiliza como Acuerdo)
B33: 26 de julio | D33: X | F33: 2
B34: 18 de agosto | D34: X | F34: 6 | G34: 37 | I34: 2
B35: 25 de agosto | C35: X | F35: 23 | G35: 9 | I35: 13 | J35: Segundo Informe Trimestral de Actividades de la Junta General Ejecutiva correspondiente a los meses de abril, mayo y junio de 2023.
B36: 7 de septiembre | D36: X | J36: Intervenciones de los miembros del Consejo General con motivo del inicio del Proceso Electoral Federal 2023-2024.
B37: 8 de septiembre | D37: X | F37: 7 | G37: 2 | I37: 9
B38: 20 de septiembre | C38: X | F38: 8 | I38: 6 | J38: INE/CG533/2023 Programa de Trabajo de la Comisión Temporal del Voto de las y los Mexicanos Residentes en el Extranjero. (Se contabiliza como Acuerdo) INE/CG539/2023 Programa de Trabajo de la Comisión de Capacitación y Organización Electoral 2023-2024. (Se contabiliza como Acuerdo)
B39: 28 de septiembre | D39: X | F39: 11 | G39: 5 | I39: 2 | J39: INE/CG541/2023 Plan de Trabajo de la Comisión Temporal de Debates. (Se contabiliza como Acuerdo)
B40: 5 de octubre | D40: X | F40: 3
B41: 12 de octubre | D41: X | F41: 3 | I41: 1
B42: 12 de octubre | D42: X | F42: 3
B43: 19 de octubre | D43: X | F43: 3
A44: 2023 | B44: 24 de octubre | D44: X | F44: 1
B45: 26 de octubre | C45: X | F45: 8 | G45: 20 | I45: 9
B46: 3 de noviembre | D46: X | F46: 7 | G46: 2 | I46: 1
B47: 9 de noviembre | D47: X | F47: 5
B48: 16 de noviembre | D48: X | F48: 3 | I48: 2
B49: 22 de noviembre | C49: X | F49: 5 | G49: 5 | I49: 9
B50: 25 de noviembre | D50: X | F50: 1
B51: 1 de diciembre | D51: X | F51: 4 | G51: 9 | H51: 2 | I51: 7 | J51: Tercer informe trimestral de actividades de la Junta General Ejecutiva, correspondiente a los meses de julio, agosto y septiembre de 2023.
B52: 7 de diciembre | D52: X | F52: 7 | G52: 10 | J52: [...] sorteo del mes, que junto con el que le sigue en su orden, serán tomados como base para la insaculación de la ciudadanía que integrará las Mesas Directivas de Casilla en los procesos electorales 2023-2024. (No se contabiliza)
B53: 15 de diciembre | C53: X | F53: 12 | G53: 16 | H53: 1 | I53: 16 | J53: Se ordenó la devolución de las resoluciones identificadas como apdos. 7.6, 7.9 y 8.5 (Se contabilizan como Acuerdos) Presentación del Programa de Trabajo del Comité Técnico de Evaluación del Padrón Electoral 2023-2024. (Se contabiliza como Informe)
B54: 21 de diciembre | D54: X | F54: 1 | G54: 2 | I54: 1
A56: Total | B56: =SUM(C56:E56) -> 46 | C56: =COUNTIF(C9:C54,"X") -> 7 | D56: =COUNTIF(D9:D54,"X") -> 39 | E56: =COUNTIF(E9:E54,"X") -> 0 | F56: =SUM(F9:F54) -> 263 | G56: =SUM(G9:G54) -> 413 | H56: =SUM(H9:H54) -> 13 | I56: =SUM(I9:I54) -> 159 | J56: Total de números alfanuméricos asignados: 689 que corresponden a Acuerdos, Resoluciones y Dictámenes. | K56: =SUM(F56:H56) -> 689
A58: % | B58: =F58+G58+H58 -> 1 | F58: =F56/K56 -> 0.38171263 | G58: =G56/K56 -> 0.59941945 | H58: =+H56/K56 -> 0.018867925 | K58: =SUM(F58:I58) -> 1

Sheet 24
J2: Datos
J3: Estadísticos
J4: del Consejo General
A6: Año | B6: Fecha | C6: Tipo de la sesión | F6: Acuerdos | G6: Resoluciones | H6: Dictámenes | I6: Informes | J6: Observaciones
C7: Ord. | D7: Ext. | E7: Esp.
A9: 2024 | B9: 11 de enero | D9: X | F9: 4 | G9: 4 | I9: 1 | J9: INE/CG01/2024 Informes Anuales que las Comisiones rinden al Consejo General del Instituto Nacional Electoral sobre el desarrollo de sus actividades durante el año 2023. (Se contabiliza como Acuerdo) INE/CG02/2024 Programas Anuales de Trabajo de las Comisiones del Consejo General del Instituto Nacional Electoral para el año 2024. (Se contabiliza como Acuerdo)
B10: 18 de enero | D10: X | F10: 4 | G10: 18 | I10: 1
B11: 25 de enero | C11: X | F11: 6 | G11: 39 | I11: 14 | J11: INE/CG31/2024 Informes Anuales que las Comisiones rinden al Consejo General del Instituto Nacional Electoral sobre el desarrollo de sus actividades durante el año 2023. (Se contabiliza como Acuerdo) INE/CG32/2024 Programas Anuales de Trabajo de las Comisiones del Consejo General del Instituto Nacional Electoral para el año 2024. (Se contabiliza como Acuerdo) INE/CG53/2024 Programa Anual de Trabajo del Órgano Interno de Control correspondiente al ejercicio 2024. (Se contabiliza como Acuerdo)
B12: 1 de febrero | D12: X | F12: 7 | G12: 12 | J12: […] sorteo de la letra, a partir de la cual, con base en el primer apellido, se seleccionará a la ciudadanía que integrará las Mesas Directivas de Casilla en el Proceso Electoral 2023-2024. (No se contabiliza)
B13: 8 de febrero | D13: X | F13: 2 | G13: 13 | I13: 2
B14: 15 de febrero | D14: X | F14: 4 | G14: 16 | I14: 2
B15: 19 de febrero | D15: X | F15: 2 | G15: 16 | H15: 16 | I15: 1
B16: 21 de febrero | D16: X | F16: 1 | G16: 2
B17: 27 de febrero | C17: X | F17: 14 | G17: 46 | H17: 3 | I17: 13 | J17: Se ordenó la devolución de la resolución identificada como apdo. 7.41 (Se contabiliza como Acuerdo) Cuarto informe trimestral de actividades de la Junta General Ejecutiva, correspondiente a los meses de octubre, noviembre y diciembre de 2023. Informe anual de actividades de la Junta General Ejecutiva 2023.
B18: 29 de febrero | E18: X | F18: 5
B19: 8 de marzo | D19: X | F19: 14 | G19: 12 | H19: 12 | I19: 1
B20: 12 de marzo | D20: X | F20: 1
B21: 14 de marzo | D21: X | F21: 1
B22: 16 de marzo | D22: X | F22: 1
B23: 21 de marzo | D23: X | F23: 6 | G23: 23
B24: 27 de marzo | C24: X | F24: 10 | G24: 20 | H24: 1 | I24: 18
B25: 28 de marzo | D25: X | F25: 1 | G25: 31 | H25: 31
B26: 4 de abril | D26: X | F26: 2 | G26: 3 | I26: 3 | J26: Intervención de la Consejera Presidenta del Consejo General, a diez años del Sistema Nacional de Elecciones y del primer año de gestión, en términos del artículo 7, numeral 1, inciso d) del Reglamento de Sesiones del Consejo General. (Se contabiliza como Informe)
B27: 11 de abril | D27: X | F27: 7 | G27: 32 | I27: 1 | J27: Primer informe trimestral de actividades de la Junta General Ejecutiva, correspondiente a los meses de enero, febrero y marzo de 2024.
B28: 14 de abril | D28: X | F28: 1
B29: 18 de abril | D29: X | F29: 10 | I29: 5 | J29: Procedimiento muestral para la verificación de las medidas de seguridad en la documentación electoral y la certificación de las características y calidad del líquido indeleble del Proceso Electoral Federal 2023-2024. (No se contabiliza)
B30: 30 de abril | C30: X | F30: 12 | G30: 43 | H30: 1 | I30: 15
A31: 2024 | B31: 9 de mayo | D31: X | F31: 3
B32: 16 de mayo | D32: X | F32: 9 | G32: 29 | I32: 7 | J32: Intervención de la Consejera Presidenta del Consejo General y en su caso de las Consejeras y los Consejeros Electorales, en el marco de la próxima conclusión de la etapa de preparación de la elección del proceso electoral 2023-2024, en términos del artículo 225, numeral 2, inciso a) de la Ley General de Instituciones y Procedimientos Electorales. (Se contabiliza como Informe)
B33: 22 de mayo | D33: X | F33: 5
B34: 29 de mayo | C34: X | F34: 12 | G34: 55 | I34: 24
B35: 1 de junio | D35: X | F35: 2
B36: 2 de junio | D36: X | I36: 7 | J36: Jornada Electoral del Proceso Electoral Federal 2023-2024 De los informes identificados en el orden del día como puntos 2 al 8 no se circuló ningún documento. (Se contabilizan como Informes)
B37: 5 y 7 de junio | D37: X | I37: 3 | J37: Sesión Permanente. Cómputos distritales de Pdte., Dip. y Sen. De los informes identificados en el orden del día como puntos 1 al 3 no se circuló ningún documento. (Se contabilizan como Informes)
B38: 7 de junio | D38: X | F38: 1
B39: 9 de junio | D39: X | I39: 3 | J39: Sesión Permanente. Cómputo Local aleatorio de Senadores De los informes identificados en el orden del día como puntos 1 al 3 no se circuló ningún documento. (Se contabilizan como Informes)
B40: 27 de junio | C40: X | F40: 4 | G40: 214 | I40: 19
B41: 18 de julio | D41: X | F41: 2
B42: 22 de julio | D42: X | F42: 6 | G42: 1116 | H42: 59 | I42: 5
B43: 31 de julio | C43: X | F43: 2 | G43: 15 | I43: 12 | J43: Segundo informe trimestral de actividades de la Junta General Ejecutiva, correspondiente a los meses de abril, mayo y junio de 2024.
B44: 31 de julio | D44: X | F44: 1 | G44: 73 | I44: 1
B45: 23 de agosto | D45: X | F45: 4 | G45: 9
B46: 29 de agosto | C46: X | F46: 10 | G46: 22 | I46: 3
B47: 5 de septiembre | D47: X | F47: 10 | G47: 39 | I47: 28
B48: 12 de septiembre | D48: X | G48: 3
B49: 12 de septiembre | D49: X | F49: 3 | G49: 1
B50: 19 de septiembre | D50: X | F50: 8 | G50: 9 | H50: 3 | I50: 1 | J50: INE/CG2231/2024 Programa de Trabajo de la Comisión de Capacitación Electoral y Educación Cívica septiembre a diciembre de 2024. (Se contabiliza como acuerdo) INE/CG2236/2024 Programa de Trabajo de la Comisión Temporal para el Seguimiento de los Procesos electorales Locales 2024-2025. (Se contabiliza como acuerdo)
B51: 19 de septiembre | D51: X | F51: 1
B52: 23 de septiembre | D52: X | F52: 3 | J52: Inicio del Proceso Electoral Extraordinario 2024-2025 para diversos cargos del Poder Judicial de la Federación.
B53: 26 de septiembre | C53: X | F53: 23 | G53: 6 | I53: 6 | J53: INE/CG2245/2024 Programa de Trabajo de la Comisión de Organización Electoral del periodo de septiembre a diciembre 2024. (Se contabiliza como acuerdo) INE/CG2247/2024 Programa de Trabajo de la Comisión Temporal del Voto de las y los Mexicanos Residentes en el Extranjero, para el periodo del 5 de septiembre de 2024 hasta la primera semana del mes de septiembre de 2025. (Se contabiliza como acuerdo)
B54: 29 de septiembre | D54: X | F54: 7
A55: 2024 | B55: 24 de octubre | D55: X | F55: 5
B56: 30 de octubre | D56: X | F56: 13 | G56: 23 | I56: 5
B57: 4 de noviembre | D57: X | F57: 2
B58: 14 de noviembre | D58: X | F58: 21 | G58: 12 | H58: 3 | I58: 3
B59: 21 de noviembre | D59: X | F59: 5 | J59: Sesión del Proceso Electoral Extraordinario 2024-2025 para diversos cargos del Poder Judicial de la Federación.
B60: 27 de noviembre | D60: X | F60: 22 | G60: 8 | I60: 2
B61: 27 de noviembre | D61: X | F61: 1 | I61: 5
B62: 28 de noviembre | D62: X | F62: 1
B63: 13 de diciembre | D63: X | F63: 7 | G63: 61 | H63: 3 | I63: 1
B64: 13 de diciembre | D64: X | F64: 5 | J64: Sesión del Proceso Electoral Extraordinario 2024-2025 para diversos cargos del Poder Judicial de la Federación.
B65: 20 de diciembre | C65: X | F65: 14 | G65: 8 | H65: 2 | I65: 10 | J65: […] sorteo del mes, que junto con el que le sigue en su orden, serán tomados como base para la insaculación de la ciudadanía que integrarán las Mesas Directivas de Casilla en los Procesos Electorales Locales 2024-2025 y en el Proceso Electoral Extraordinario del Poder Judicial de la Federación 2024-2025. (No se contabiliza) Tercer informe trimestral de actividades de la Junta General Ejecutiva, correspondiente a los meses de julio, agosto y septiembre de 2024.
B66: 20 de diciembre | D66: X | F66: 4 | I66: 2 | J66: Sesión del Proceso Electoral Extraordinario 2024-2025 para diversos cargos del Poder Judicial de la Federación.
B67: 30 de diciembre | D67: X | F67: 1
B68: 30 de diciembre | D68: X | F68: 2 | J68: Sesión del Proceso Electoral Extraordinario 2024-2025 para diversos cargos del Poder Judicial de la Federación.
A70: Total | B70: =SUM(C70:E70) -> 60 | C70: =COUNTIF(C9:C68,"X") -> 10 | D70: =COUNTIF(D9:D68,"X") -> 49 | E70: =COUNTIF(E9:E68,"X") -> 1 | F70: =SUM(F9:F68) -> 334 | G70: =SUM(G9:G68) -> 2033 | H70: =SUM(H9:H68) -> 134 | I70: =SUM(I9:I68) -> 224 | J70: Total de números alfanuméricos asignados: 2501 que corresponden a Acuerdos, Resoluciones y Dictámenes. | K70: =SUM(F70:H70) -> 2501
A72: % | B72: =F72+G72+H72 -> 1 | F72: =F70/K70 -> 0.13354658 | G72: =G70/K70 -> 0.81287485 | H72: =+H70/K70 -> 0.053578569 | K72: =SUM(F72:I72) -> 1

Sheet 25
J2: Datos
J3: Estadísticos
J4: del Consejo General
A6: Año | B6: Fecha | C6: Tipo de la sesión | F6: Acuerdos | G6: Resoluciones | H6: Dictámenes | I6: Informes | J6: Observaciones
C7: Ord. | D7: Ext. | E7: Esp.
A9: 2025 | B9: 13 de enero | D9: X | F9: 5 | I9: 1 | J9: Sesión del Proceso Electoral Extraordinario 2024-2025 para diversos cargos del Poder Judicial de la Federación. Estudio de factibilidad de modificación a la reglamentación interna para el Proceso Electoral Extraordinario del Poder Judicial de la Federación 2024-2025. (Se contabiliza como Informe)
B10: 16 de enero | D10: X | F10: 4 | G10: 9 | J10: INE/CG06/2025 Informes Anuales que las Comisiones rinden al Consejo General del Instituto Nacional Electoral sobre el desarrollo de sus actividades durante el año 2024. (Se contabiliza como Acuerdo) INE/CG07/2025 Programas y Planes Anuales de Trabajo de las Comisiones del Consejo General del Instituto Nacional Electoral para el año 2025. (Se contabiliza como Acuerdo)
B11: 23 de enero (1.a) | D11: X | F11: 2 | G11: 4 | I11: 1 | J11: Sesión del Proceso Electoral Extraordinario 2024-2025 para diversos cargos del Poder Judicial de la Federación.
B12: 23 de enero (2.a) | D12: X | F12: 3 | I12: 2 | J12: INE/CG25/2025 Informes Anuales que las Comisiones rinden al Consejo General del Instituto Nacional Electoral sobre el desarrollo de sus actividades durante el año 2024. (Se contabiliza como Acuerdo) INE/CG26/2025 Programas y Planes Anuales de Trabajo de las Comisiones del Consejo General del Instituto Nacional Electoral para el año 2025. (Se contabiliza como Acuerdo)
B13: 30 de enero (1.a) | D13: X | F13: 12 | G13: 9 | I13: 6 | J13: INE/CG28/2025 Informes Anuales que las Comisiones rinden al Consejo General del Instituto Nacional Electoral sobre el desarrollo de sus actividades durante el año 2024. (Se contabiliza como Acuerdo) INE/CG29/2025 Programas y Planes Anuales de Trabajo de las Comisiones del Consejo General del Instituto Nacional Electoral para el año 2025. (Se contabiliza como Acuerdo) Cuarto informe trimestral de actividades de la Junta General Ejecutiva, correspondiente a los meses de octubre, noviembre y diciembre de 2024. Informe anual de actividades de la Junta General Ejecutiva 2024.
B14: 30 de enero (2.a) | D14: X | F14: 6 | I14: 1 | J14: Sesión del Proceso Electoral Extraordinario 2024-2025 para diversos cargos del Poder Judicial de la Federación.
B15: 5 de febrero (1.a) | D15: X | F15: 1 | J15: […] sorteo de la letra, a partir de la cual, con base en el primer apellido, se seleccionará a la ciudadanía que integrará las Mesas Directivas de Casilla en los Procesos Electorales Locales 2024-2025 y las Mesas Directivas de Casilla Seccionales en el Proceso Electoral Extraordinario del Poder Judicial de la Federación 2024-2025. (No se contabiliza)
B16: 5 de febrero (2.a) | D16: X | F16: 2 | J16: Sesión del Proceso Electoral Extraordinario 2024-2025 para diversos cargos del Poder Judicial de la Federación.
B17: 10 de febrero (1.a) | D17: X | F17: 7 | J17: Sesión del Proceso Electoral Extraordinario 2024-2025 para diversos cargos del Poder Judicial de la Federación.
B18: 10 de febrero (2.a) | D18: X | F18: 1 | J18: Sesión del Proceso Electoral Extraordinario 2024-2025 para diversos cargos del Poder Judicial de la Federación.
B19: 13 de febrero | D19: X | F19: 2 | G19: 10 | I19: 1
B20: 17 de febrero | D20: X | F20: 1 | J20: Sesión del Proceso Electoral Extraordinario 2024-2025 para diversos cargos del Poder Judicial de la Federación.
B21: 19 de febrero (1.a) | D21: X | F21: 13 | G21: 95 | H21: 2 | I21: 2
B22: 19 de febrero (2.a) | D22: X | F22: 3 | I22: 1 | J22: Sesión del Proceso Electoral Extraordinario 2024-2025 para diversos cargos del Poder Judicial de la Federación.
B23: 20 de febrero | D23: X | F23: 2 | I23: 1 | J23: Sesión del Proceso Electoral Extraordinario 2024-2025 para diversos cargos del Poder Judicial de la Federación.
A24: 2025 | B24: 24 de febrero | D24: X | F24: 1
B25: 27 de febrero (1.a) | D25: X | F25: 1 | J25: Sesión del Proceso Electoral Extraordinario 2024-2025 para diversos cargos del Poder Judicial de la Federación.
B26: 27 de febrero (2.a) | D26: X | F26: 1 | I26: 1
B27: 4 de marzo | D27: X | F27: 1 | G27: 1 | H27: 1 | I27: 4
B28: 6 de marzo (1.a) | D28: X | F28: 10 | I28: 2 | J28: Sesión del Proceso Electoral Extraordinario 2024-2025 para diversos cargos del Poder Judicial de la Federación.
B29: 6 de marzo (2.a) | D29: X | F29: 1 | J29: Sesión del Proceso Electoral Extraordinario 2024-2025 para diversos cargos del Poder Judicial de la Federación.
B30: 13 de marzo (1.a) | D30: X | G30: 3 | I30: 2
B31: 13 de marzo (2.a) | D31: X | F31: 9 | I31: 1 | J31: Sesión del Proceso Electoral Extraordinario 2024-2025 para diversos cargos del Poder Judicial de la Federación.
B32: 14 de marzo | D32: X | F32: 1 | J32: Sesión del Proceso Electoral Extraordinario 2024-2025 para diversos cargos del Poder Judicial de la Federación.
B33: 20 de marzo (1.a) | D33: X | F33: 2 | I33: 3 | J33: Sesión del Proceso Electoral Extraordinario 2024-2025 para diversos cargos del Poder Judicial de la Federación.
B34: 20 de marzo (2.a) | D34: X | F34: 1 | I34: 2
B35: 21 de marzo | D35: X | F35: 4 | J35: Sesión del Proceso Electoral Extraordinario 2024-2025 para diversos cargos del Poder Judicial de la Federación.
B36: 26 de marzo | C36: X | F36: 12 | G36: 81 | H36: 2 | I36: 9
B37: 29 de marzo | D37: X | F37: 12 | I37: 1 | J37: Sesión del Proceso Electoral Extraordinario 2024-2025 para diversos cargos del Poder Judicial de la Federación.
B38: 1 de abril | D38: X | F38: 1 | J38: Sesión del Proceso Electoral Extraordinario 2024-2025 para diversos cargos del Poder Judicial de la Federación.
B39: 2 de abril | D39: X | F39: 2 | G39: 7 | H39: 2
B40: 10 de abril | D40: X | F40: 1 | J40: Sesión del Proceso Electoral Extraordinario 2024-2025 para diversos cargos del Poder Judicial de la Federación.
B41: 16 de abril (1.a) | D41: X | F41: 3 | I41: 4 | J41: Sesión del Proceso Electoral Extraordinario 2024-2025 para diversos cargos del Poder Judicial de la Federación.
B42: 16 de abril (2.a) | D42: X | F42: 3 | G42: 1 | I42: 1 | J42: INE/CG357/2025 Programa Anual de Trabajo del Órgano Interno de Control correspondiente al ejercicio 2025. (Se contabiliza como Acuerdo)
B43: 19 de abril (1.a) | D43: X | F43: 2 | J43: Sesión del Proceso Electoral Extraordinario 2024-2025 para diversos cargos del Poder Judicial de la Federación.
B44: 19 de abril (2.a) | D44: X | F44: 1
B45: 24 de abril (1.a) | D45: X | F45: 4 | G45: 16 | I45: 1
B46: 24 de abril (2.a) | D46: X | F46: 2 | G46: 3 | I46: 1 | J46: Sesión del Proceso Electoral Extraordinario 2024-2025 para diversos cargos del Poder Judicial de la Federación.
B47: 28 de abril | D47: X | F47: 2 | G47: 2 | H47: 2 | I47: 2 | J47: Primer informe trimestral de actividades de la Junta General Ejecutiva, correspondiente a los meses de enero, febrero y marzo de 2025.
B48: 8 de mayo (1.a) | D48: X | F48: 13 | G48: 6 | I48: 2 | J48: Sesión del Proceso Electoral Extraordinario 2024-2025 para diversos cargos del Poder Judicial de la Federación.
B49: 8 de mayo (2.a) | D49: X | F49: 1 | G49: 80
B50: 15 de mayo (1.a) | D50: X | F50: 1 | I50: 2
B51: 15 de mayo (2.a) | D51: X | F51: 1 | I51: 5 | J51: Sesión del Proceso Electoral Extraordinario 2024-2025 para diversos cargos del Poder Judicial de la Federación. Procedimiento muestral para la verificación de las medidas de seguridad en la documentación electoral y de las características y calidad del líquido indeleble del Proceso Electoral Extraordinario para la elección de diversos cargos del Poder Judicial de la Federación 2024-2025. (No se contabiliza)
A52: 2025 | B52: 17 de mayo (1.a) | D52: X | F52: 2 | J52: Sesión del Proceso Electoral Extraordinario 2024-2025 para diversos cargos del Poder Judicial de la Federación.
B53: 17 de mayo (2.a) | D53: X | F53: 3 | I53: 2
B54: 22 de mayo (1.a) | D54: X | G54: 2 | I54: 1
B55: 22 de mayo (2.a) | D55: X | F55: 4 | I55: 4 | J55: Sesión del Proceso Electoral Extraordinario 2024-2025 para diversos cargos del Poder Judicial de la Federación.
B56: 25 de mayo | D56: X | F56: 5 | J56: Sesión del Proceso Electoral Extraordinario 2024-2025 para diversos cargos del Poder Judicial de la Federación.
B57: 29 de mayo (1.a) | D57: X | F57: 6 | G57: 19
B58: 29 de mayo (2.a) | D58: X | F58: 1 | G58: 18 | I58: 2 | J58: Sesión del Proceso Electoral Extraordinario 2024-2025 para diversos cargos del Poder Judicial de la Federación.
B59: 31 de mayo | D59: X | F59: 3 | J59: Sesión del Proceso Electoral Extraordinario 2024-2025 para diversos cargos del Poder Judicial de la Federación.
B60: 1 de junio | D60: X | I60: 4 | J60: Jornada Electoral del Proceso Electoral Extraordinario 2024-2025 para diversos cargos del Poder Judicial de la Federación. Procedimiento de validación del Sistema Informático de Cómputos para la Elección de diversos cargos del Poder Judicial de la Federación. (No se contabiliza)
B61: 1 al 10 de junio | D61: X | I61: 1 | J61: Sesión Permanente. Cómputo en los 300 Consejos Distritales. (Del 1 al 10 de junio de 2025)
B62: 5 de junio (1.a) | D62: X | F62: 1 | I62: 3
B63: 5 de junio (2.a) | D63: X | I63: 2 | J63: Sesión del Proceso Electoral Extraordinario 2024-2025 para diversos cargos del Poder Judicial de la Federación.
B64: 7 de junio | D64: X | F64: 1 | I64: 1 | J64: Sesión del Proceso Electoral Extraordinario 2024-2025 para diversos cargos del Poder Judicial de la Federación.
B65: 9 de junio | D65: X | F65: 1 | J65: Sesión del Proceso Electoral Extraordinario 2024-2025 para diversos cargos del Poder Judicial de la Federación.
B66: 10 de junio | D66: X | F66: 2 | J66: Sesión del Proceso Electoral Extraordinario 2024-2025 para diversos cargos del Poder Judicial de la Federación.
B67: 15, 16, 18 y 26 de junio | D67: X | F67: 12 | G67: 1 | J67: Sesión del Proceso Electoral Extraordinario 2024-2025 para diversos cargos del Poder Judicial de la Federación. Sumatoria nacional y declaración de validez de la elección de los diversos cargos del Poder Judicial de la Federación 2024-2025.
B68: 15, 16 de junio y 3 de julio | D68: X | J68: Sesión del Proceso Electoral Extraordinario 2024-2025 para diversos cargos del Poder Judicial de la Federación. Acto Protocolario. Entrega de las constancias de mayoría a las candidaturas que resultaron ganadoras conforme a los Acuerdos sobre los cómputos, sumatoria, declaración de validez de la elección. (No se circula ningún tipo de documento)
B69: 23 de junio | D69: X | F69: 5
B70: 26 de junio (1.a) | C70: X | F70: 3 | G70: 58 | I70: 5
B71: 26 de junio (2.a) | D71: X | G71: 24 | I71: 5 | J71: Sesión del Proceso Electoral Extraordinario 2024-2025 para diversos cargos del Poder Judicial de la Federación. NOTA: Se convocó para el día 26 de junio y se realizó el día 27 de junio de 2025.
B72: 2 de julio | D72: X | F72: 1 | G72: 8 | H72: 1 | I72: 4
B73: 15 de julio (1.a) | D73: X | I73: 4 | J73: Sesión del Proceso Electoral Extraordinario 2024-2025 para diversos cargos del Poder Judicial de la Federación.
A74: 2025 | B74: 15 de julio (2.a) | D74: X | F74: 1 | G74: 2 | I74: 2
B75: 28 de julio (1.a) | D75: X | F75: 3 | G75: 169 | H75: 2 | I75: 4 | K75: NOTA: Se repiten las claves alfanuméricas INE/CG845/2025 e INE/CG847/2025. Uno es para Partidos Políticos y Coaliciones, y la misma clave es para las Candidaturas Independientes.
B76: 28 de julio (2.a) | D76: X | F76: 3 | G76: 120 | H76: 20 | I76: 3 | J76: Sesión del Proceso Electoral Extraordinario 2024-2025 para diversos cargos del Poder Judicial de la Federación.
B77: 7 de agosto | D77: X | F77: 6 | I77: 5
B78: 18 de agosto (1.a) | D78: X | F78: 8 | I78: 1 | J78: Sesión del Proceso Electoral Extraordinario 2024-2025 para diversos cargos del Poder Judicial de la Federación. Entrega de las constancias a las candidaturas electas para los cargos de Magistradas y Magistrados de Circuito de los Tribunales Colegiados de Circuito y Juezas y Jueces de Distrito.(No se contabiliza)
B79: 18 de agosto (2.a) | D79: X | F79: 3
B80: 21 de agosto | D80: X | F80: 4 | G80: 96 | I80: 2
B81: 28 de agosto (1.a) | D81: X | F81: 8 | G81: 1 | J81: Sesión del Proceso Electoral Extraordinario 2024-2025 para diversos cargos del Poder Judicial de la Federación. Entrega de las constancias a las candidaturas electas para los cargos de Magistradas y Magistrados de Circuito de los Tribunales Colegiados de Circuito y Juezas y Jueces de Distrito. (No se contabiliza)
B82: 28 de agosto (2.a) | D82: X | F82: 11 | G82: 2 | I82: 1
B83: 31 de agosto | D83: X | F83: 10 | J83: Sesión del Proceso Electoral Extraordinario 2024-2025 para diversos cargos del Poder Judicial de la Federación. Entrega de las constancias a las candidaturas electas para los cargos de Magistradas y Magistrados de Circuito de los Tribunales Colegiados de Circuito y Juezas y Jueces de Distrito. (No se contabiliza)
B84: 17 de septiembre (1.a) | D84: X | F84: 3 | I84: 1
B85: 17 de septiembre (2.a) | D85: X | I85: 11 | J85: Sesión del Proceso Electoral Extraordinario 2024-2025 para diversos cargos del Poder Judicial de la Federación.
B86: 25 de septiembre | C86: X | F86: 2 | I86: 19 | J86: Estrategia Integral de Promoción del Voto de las Mexicanas y los Mexicanos Residentes en el Extranjero 2025-2027. (Se contabiliza como Informe) Proyectos e iniciativas que forman parte de la Estrategia de Transformación Digital del Registro Federal de Electores. (Se contabiliza como Acuerdo) Segundo informe trimestral de actividades de la Junta General Ejecutiva, correspondiente a los meses de abril, mayo y junio de 2025.
B87: 25 de septiembre | D87: X | F87: 6 | J87: Sesión del Proceso Electoral Extraordinario 2024-2025 para diversos cargos del Poder Judicial de la Federación.
B88: 29 de septiembre (1.a) | D88: X | F88: 1 | G88: 1 | H88: 1 | I88: 3 | J88: Programa de Trabajo de la Comisión Temporal para el Seguimiento de los Procesos Electorales Locales 2025-2026. (Se contabiliza como Informe)
B89: 29 de septiembre (2.a) | D89: X | F89: 4 | J89: Sesión del Proceso Electoral Extraordinario 2024-2025 para diversos cargos del Poder Judicial de la Federación.
B90: 31 de octubre (1.a) | D90: X | F90: 19 | G90: 5 | I90: 3 | J90: Programa de Trabajo de la Comisión Temporal del Voto de las y los Mexicanos Residentes en el Extranjero. (Se contabiliza como Informe)
B91: 31 de octubre (2.a) | D91: X | G91: 128 | J91: NOTA: Se decretó receso a la 01:42 a. m. para reanudar el día 4 de noviembre a las 14:00 horas.
B92: 4 de noviembre (1.a) | D92: X | F92: 1 | I92: 3
B93: 4 de noviembre (2.a) | D93: X | F93: 32 | G93: 1 | H93: 1 | J93: Sesión del Proceso Electoral Extraordinario 2024-2025 para diversos cargos del Poder Judicial de la Federación. NOTA: Sesión extraordinaria del PJF convocada para el día 31 de octubre del 2025 y se reprogramó para el día 4 de noviembre del 2025.
B94: 4 de noviembre (3.a) | D94: X | F94: 1 | I94: 2 | J94: Sesión del Proceso Electoral Extraordinario 2024-2025 para diversos cargos del Poder Judicial de la Federación. Plan de trabajo para realizar el estudio para implementar la modalidad del Voto de las Personas en Prisión Preventiva en el Proceso Electoral del Poder Judicial de la Federación 2026-2027 [...] (Se contabiliza como Informe)
B95: 27 de noviembre (1.a) | D95: X | F95: 11 | G95: 39 | I95: 7
B96: 27 de noviembre (2.a) | D96: X | F96: 27 | G96: 2 | J96: Sesión del Proceso Electoral Extraordinario 2024-2025 para diversos cargos del Poder Judicial de la Federación.
B97: 3 de diciembre | D97: X | F97: 2
B98: 11 de diciembre | D98: X | F98: 3 | G98: 10
B99: 18 de diciembre | C99: X | F99: 12 | G99: 71 | I99: 10 | J99: […] sorteo del mes, que junto con el que le sigue en su orden, serán tomados como base para la insaculación de la ciudadanía que integrará las Mesas Directivas de Casilla en el Proceso Electoral Local 2025-2026 en el estado de Coahuila de Zaragoza. (No se contabiliza) INE/CG1526/2025 Programa Anual de Trabajo del Órgano Interno de Control correspondiente al ejercicio 2026. (Se contabiliza como Acuerdo)
B100: 18 de diciembre (1.a) | D100: X | F100: 3 | I100: 1 | J100: Sesión del Proceso Electoral Extraordinario 2024-2025 para diversos cargos del Poder Judicial de la Federación.
B101: 18 de diciembre (2.a) | D101: X | F101: 1
A103: Total | B103: =SUM(C103:E103) -> 93 | C103: =COUNTIF(C9:C101,"X") -> 4 | D103: =COUNTIF(D9:D101,"X") -> 89 | E103: =COUNTIF(E9:E101,"X") -> 0 | F103: =SUM(F9:F101) -> 392 | G103: =SUM(G9:G101) -> 1104 | H103: =SUM(H9:H101) -> 34 | I103: =SUM(I9:I101) -> 175 | J103: Total de números alfanuméricos asignados: 1530 que corresponden a Acuerdos, Resoluciones y Dictámenes | K103: =SUM(F103:H103) -> 1530
A105: % | B105: =F105+G105+H105 -> 1 | F105: =F103/K103 -> 0.25620915 | G105: =G103/K103 -> 0.72156863 | H105: =+H103/K103 -> 0.022222222 | K105: =SUM(F105:I105) -> 1

Sheet 26
J2: Datos
J3: Estadísticos
J4: del Consejo General
A6: Año | B6: Fecha | C6: Tipo de la sesión | F6: Acuerdos | G6: Resoluciones | H6: Dictámenes | I6: Informes | J6: Observaciones
C7: Ord. | D7: Ext. | E7: Esp.
A9: 2026 | B9: 22 de enero | D9: X | F9: 2 | G9: 1
B10: 30 de enero (1.a) | D10: X | F10: 14 | G10: 37 | I10: 8 | J10: INE/CG04/2026 Informes Anuales que las Comisiones rinden al Consejo General del Instituto Nacional Electoral sobre el desarrollo de sus actividades durante el año 2025. (Se contabiliza como Acuerdo) INE/CG05/2026 Programas y Planes Anuales de Trabajo de las Comisiones del Consejo General del Instituto Nacional Electoral para el año 2026. (Se contabiliza como Acuerdo)
B11: 30 de enero (2.a) | D11: X | F11: 1 | J11: Sesión del Proceso Electoral Extraordinario 2024-2025 para diversos cargos del Poder Judicial de la Federación.
B12: 5 de febrero | D12: X | F12: 1 | J12: […] sorteo de la letra, a partir de la cual, con base en el primer apellido, se seleccionará a la ciudadanía que integrará las Mesas Directivas de Casilla en el Proceso Electoral Local 2025-2026, cuya Jornada Electoral se celebrará el domingo 7 de junio de 2026 en Coahuila de Zaragoza. (No se contabiliza)
B13: 19 de febrero | D13: X | F13: 4 | I13: 1
B14: 26 de febrero (1.a) | D14: X | F14: 6 | G14: 10 | I14: 2 | J14: INE/CG73/2026 Informe Anual de Actividades de la Comisión de Quejas y Denuncias correspondiente al año 2025. (Se contabiliza como Acuerdo) INE/CG74/2026 Programa Anual de Trabajo de la Comisión de Quejas y Denuncias correspondiente al año 2026. (Se contabiliza como Acuerdo)
B15: 26 de febrero (2.a) | D15: X | F15: 3
B16: 26 de febrero (3.a) | D16: X | F16: 5 | J16: Sesión del Proceso Electoral Extraordinario 2024-2025 para diversos cargos del Poder Judicial de la Federación.
B17: 5 de marzo (1.a) | D17: X | F17: 2 | G17: 9 | H17: 2 | I17: 4
B18: 5 de marzo (2.a) | D18: X | F18: 1 | J18: Sesión del Proceso Electoral Extraordinario 2024-2025 para diversos cargos del Poder Judicial de la Federación.
B19: 12 de marzo | D19: X | F19: 5 | G19: 4 | H19: 1 | I19: 3
B20: 26 de marzo | C20: X | F20: 22 | G20: 47 | I20: 16 | J20: Cuarto Informe Trimestral de Actividades de la Junta General Ejecutiva, correspondiente a los meses de octubre, noviembre y diciembre de 2025. Informe Anual de Actividades de la Junta General Ejecutiva 2025.
B21: 26 de marzo | D21: X | F21: 1 | J21: Sesión del Proceso Electoral Extraordinario 2024-2025 para diversos cargos del Poder Judicial de la Federación.
B22: 31 de marzo | D22: X | F22: 3 | I22: 2
B23: 7 de abril | D23: X | F23: 1
B24: 15 de abril | D24: X | F24: 1
B25: 16 de abril | D25: X | F25: 2
B26: 22 de abril | D26: X | J26: Sesión PROTOCOLARIA (Se contabiliza como sesión extraordinaria) Toma de Protesta de los Consejeros Electorales, licdo. Arturo Chávez López, licda. Frida Denisse Gómez Puga y licda. Blanca Yassahara Cruz García.
B27: 27 de abril (1.a) | D27: X | F27: 13 | G27: 41 | H27: 2 | I27: 5
B28: 27 de abril (2.a) | D28: X | F28: 1
B29: 27 de abril (3.a) | D29: X | F29: 3 | I29: 1 | J29: Sesión del Proceso Electoral Extraordinario 2024-2025 para diversos cargos del Poder Judicial de la Federación.
B30: 7 de mayo | D30: X | F30: 3 | G30: 21 | H30: 1 | I30: 1
B31: 27 de mayo (1.a) | D31: X | F31: 8 | G31: 19 | I31: 7
A32: 2026 | B32: 27 de mayo (2.a) | D32: X | F32: 3 | G32: 2 | J32: Sesión del Proceso Electoral Extraordinario 2024-2025 para diversos cargos del Poder Judicial de la Federación.
B33: 19 de junio | C33: X | F33: 11 | G33: 22 | H33: 1 | I33: 9
B34: 22 de junio | D34: X | F34: 1
B35: 25 de junio (1.a) | D35: X | F35: 2 | G35: 4 | I35: 1
B36: 25 de junio (2.a) | D36: X | F36: 1 | G36: 5 | J36: Constitución como Partidos Políticos Nacionales: INE/CG344/2026 Procede el otorgamiento de registro como PPN bajo la denominación "Partido Paz". INE/CG347/2026 Procede el otorgamiento de registro como PPN bajo la denominación provisional "Somos México".
B37: 9 de julio | D37: X | F37: 2
B38: 13 de julio (1.a) | D38: X | F38: 1 | G38: 1
B39: 13 de julio (2.a) | D39: X | G39: 1
B40: 23 de julio | D40: X | F40: 13 | G40: 107 | H40: 2 | I40: 8 | J40: Se ordenó la devolución de la resolución identificada como apdo. 11.1 (Se contabiliza como Acuerdo) Estrategia de información para las Personas Privadas de Libertad que no cuentan con una Credencial para Votar vigente. (Se contabiliza como Informe) INE/CG468/2026 Programa Anual de Trabajo de la Comisión de Organización Electoral correspondiente al año 2026. (Se contabiliza como Acuerdo)
B41: 30 de julio | D41: X | F41: 4 | G41: 2 | I41: 2
B42: 18 de agosto | D42: X | F42: 5
B43: 31 de agosto | D43: X | F43: 2 | G43: 1
B44: 31 de agosto | D44: X | G44: 7
B45: 3 de septiembre | D45: X | F45: 25 | G45: 29 | I45: 19 | J45: INE/CG517/2026 Modificaciones al Programa anual de Trabajo de la Comisión de Capacitación Electoral y Educación Cívica 2026, sin asuntos del Proceso Electoral del Poder Judicial de la Federación. (Se contabiliza como Acuerdo) INE/CG518/2026 Presentación del Acuerdo de la Comisión del Registro Federal de Electores del Consejo General del Instituto Nacional Electoral por el que se modifica el Programa Anual de Trabajo de la Comisión para el año 2026. (Se contabiliza como Acuerdo) Estudio Especializado sobre la Eficacia de las Medidas Afirmativas para Candidaturas Federales, Contemplando los Resultados de los Procesos Electorales de 2017-2018, 2020-2021 y 2023-2024. (Se contabiliza como Informe)
B46: 10 de septiembre (1.a) | D46: X | J46: Intervenciones de los miembros del Consejo General con motivo del inicio del Proceso Electoral Federal 2026-2027.
B47: 10 de septiembre (2.a) | D47: X | F47: 2
B48: 10 de septiembre (3.a) | D48: X | F48: 1 | J48: Sesión del Proceso Electoral Extraordinario 2024-2025 para diversos cargos del Poder Judicial de la Federación.
A49: 2026 | B49: 17 de septiembre (1.a) | D49: X | F49: 1 | G49: 2 | I49: 1
B50: 17 de septiembre (2.a) | D50: X | F50: 2 | J50: Sesión del Proceso Electoral Extraordinario 2024-2025 para diversos cargos del Poder Judicial de la Federación.
B51: 24 de septiembre | C51: X | F51: 6 | G51: 2 | I51: 8 | J51: Primer Informe Trimestral de Actividades de la Junta General Ejecutiva, correspondiente a los meses de enero, febrero y marzo de 2026. Segundo Informe Trimestral de Actividades de la Junta General Ejecutiva, correspondiente a los meses de abril, mayo y junio de 2026. INE/CG566/2026 Programa de Trabajo de la Comisión de Capacitación y Organización Electoral. (Se contabiliza como Acuerdo)
B52: 29 de septiembre | D52: X | F52: 6 | G52: 2 | I52: 2 | J52: Toma de protesta protocolaria de las Presidencias de los Consejos Locales, con motivo del Proceso Electoral Federal 2026-2027.
A55: Total | B55: =SUM(C55:E55) -> 44 | C55: =COUNTIF(C9:C53,"X") -> 3 | D55: =COUNTIF(D9:D53,"X") -> 41 | E55: =COUNTIF(E9:E53,"X") -> 0 | F55: =SUM(F9:F53) -> 190 | G55: =SUM(G9:G53) -> 376 | H55: =SUM(H9:H53) -> 9 | I55: =SUM(I9:I53) -> 100 | J55: Total de números alfanuméricos asignados: 575 que corresponden a Acuerdos, Resoluciones y Dictámenes | K55: =SUM(F55:H55) -> 575
A57: % | B57: =F57+G57+H57 -> 1 | F57: =F55/K55 -> 0.33043478 | G57: =G55/K55 -> 0.65391304 | H57: =+H55/K55 -> 0.015652174 | K57: =SUM(F57:I57) -> 1

Sheet concentrado
J2: Datos
J3: Estadísticos
J4: del Consejo General
A6: Año | B6: Total de sesiones | C6: Tipo de sesión | F6: Acuerdos | G6: Resoluciones | H6: Dictámenes | I6: Informes | J6: Observaciones
C7: Ord. | D7: Ext. | E7: Esp.
A9: 2014 | B9: =SUM(C9:E9) -> 49 | C9: =+'14'!C59 -> 4 | D9: =+'14'!D59 -> 45 | E9: 0 | F9: =+'14'!F59 -> 189 | G9: =+'14'!G59 -> 159 | H9: ='14'!H59 -> 3 | I9: =+'14'!I59 -> 58 | K9: =+F9+G9+H9 -> 351
A10: 2015 | B10: =SUM(C10:E10) -> 72 | C10: =+'15'!C82 -> 9 | D10: =+'15'!D82 -> 61 | E10: =+'15'!E82 -> 2 | F10: =+'15'!F82 -> 370 | G10: =+'15'!G82 -> 624 | H10: ='15'!H82 -> 88 | I10: =+'15'!I82 -> 163 | K10: =+F10+G10+H10 -> 1082
A11: 2016 | B11: =SUM(C11:E11) -> 59 | C11: =+'16'!C69 -> 4 | D11: =+'16'!D69 -> 54 | E11: =+'16'!E69 -> 1 | F11: =+'16'!F69 -> 431 | G11: =+'16'!G69 -> 347 | H11: ='16'!H69 -> 105 | I11: =+'16'!I69 -> 112 | K11: =+F11+G11+H11 -> 883
A12: 2017 | B12: =SUM(C12:E12) -> 54 | C12: ='17'!C64 -> 7 | D12: ='17'!D64 -> 47 | E12: ='17'!E64 -> 0 | F12: ='17'!F64 -> 279 | G12: ='17'!G64 -> 314 | H12: ='17'!H64 -> 42 | I12: ='17'!I64 -> 138 | K12: =+F12+G12+H12 -> 635
A13: 2018 | B13: =SUM(C13:E13) -> 58 | C13: ='18'!C68 -> 9 | D13: ='18'!D68 -> 48 | E13: ='18'!E68 -> 1 | F13: ='18'!F68 -> 414 | G13: ='18'!G68 -> 960 | H13: ='18'!H68 -> 129 | I13: ='18'!I68 -> 196 | K13: =+F13+G13+H13 -> 1503
A14: 2019 | B14: =SUM(C14:E14) -> 39 | C14: =+'19'!C49 -> 4 | D14: =+'19'!D49 -> 35 | E14: =+'19'!E49 -> 0 | F14: =+'19'!F49 -> 229 | G14: =+'19'!G49 -> 310 | H14: =+'19'!H49 -> 30 | I14: =+'19'!I49 -> 85 | K14: =+F14+G14+H14 -> 569
A15: 2020 | B15: =SUM(C15:E15) -> 47 | C15: ='20'!C57 -> 6 | D15: ='20'!D57 -> 41 | E15: ='20'!E57 -> 0 | F15: ='20'!F57 -> 290 | G15: ='20'!G57 -> 402 | H15: ='20'!H57 -> 11 | I15: ='20'!I57 -> 115
A16: 2021 | B16: =SUM(C16:E16) -> 77 | C16: ='21'!C87 -> 9 | D16: ='21'!D87 -> 66 | E16: ='21'!E87 -> 2 | F16: ='21'!F87 -> 471 | G16: ='21'!G87 -> 1164 | H16: ='21'!H87 -> 164 | I16: ='21'!I87 -> 214
A17: 2022 | B17: =SUM(C17:E17) -> 31 | C17: ='22'!C41 -> 4 | D17: ='22'!D41 -> 27 | E17: ='22'!E41 -> 0 | F17: ='22'!F41 -> 252 | G17: ='22'!G41 -> 593 | H17: ='22'!H41 -> 38 | I17: ='22'!I41 -> 135
A18: 2023 | B18: =SUM(C18:E18) -> 46 | C18: ='23'!C56 -> 7 | D18: ='23'!D56 -> 39 | E18: ='23'!E56 -> 0 | F18: ='23'!F56 -> 263 | G18: ='23'!G56 -> 413 | H18: ='23'!H56 -> 13 | I18: ='23'!I56 -> 159
A19: 2024 | B19: =SUM(C19:E19) -> 60 | C19: ='24'!C70 -> 10 | D19: ='24'!D70 -> 49 | E19: ='24'!E70 -> 1 | F19: ='24'!F70 -> 334 | G19: ='24'!G70 -> 2033 | H19: ='24'!H70 -> 134 | I19: ='24'!I70 -> 224
A20: 2025 | B20: =SUM(C20:E20) -> 93 | C20: ='25'!C103 -> 4 | D20: ='25'!D103 -> 89 | E20: ='25'!E103 -> 0 | F20: ='25'!F103 -> 392 | G20: ='25'!G103 -> 1104 | H20: ='25'!H103 -> 34 | I20: ='25'!I103 -> 175
A21: 2026 | B21: =SUM(C21:E21) -> 44 | C21: ='26'!C55 -> 3 | D21: ='26'!D55 -> 41 | E21: ='26'!E55 -> 0 | F21: ='26'!F55 -> 190 | G21: ='26'!G55 -> 376 | H21: ='26'!H55 -> 9 | I21: ='26'!I55 -> 100
A23: Total | B23: =SUM(C23:E23) -> 729 | C23: =SUM(C9:C21) -> 80 | D23: =SUM(D9:D21) -> 642 | E23: =SUM(E9:E21) -> 7 | F23: =SUM(F9:F21) -> 4104 | G23: =SUM(G9:G21) -> 8799 | H23: =SUM(H9:H21) -> 800 | I23: =SUM(I9:I21) -> 1874 | K23: =SUM(F23:H23) -> 13703
A25: % | B25: =F25+G25+H25 -> 1 | F25: =+F23/K23 -> 0.29949646 | G25: =+G23/K23 -> 0.64212216 | H25: =+H23/K23 -> 0.058381376 | K25: =SUM(F25:I25) -> 1
D54: X | F54: 3
B82: 10 de noviembre | D82: X | F82: 2
J85: Total de números alfanuméricos asignados: 1648 que corresponden a Acuerdos, Resoluciones y Dictámenes.

Sheet Grafica (pastel)
BZ2: Datos
BZ3: Estadísticos
BZ4: del Consejo General
A7: 2014 | G7: 2015 | M7: 2016 | S7: 2017 | Y7: 2018 | AE7: 2019 | AK7: 2020 | AQ7: 2021 | AW7: 2022 | BC7: 2023 | BI7: 2024 | BO7: 2025 | BU7: 2026
A8: ord. | C8: ext. | E8: esp. | G8: ord. | I8: ext. | K8: esp. | M8: ord. | O8: ext. | Q8: esp. | S8: ord. | U8: ext. | W8: esp. | Y8: ord. | AA8: ext. | AC8: esp. | AE8: ord. | AG8: ext. | AI8: esp. | AK8: ord. | AM8: ext. | AO8: esp. | AQ8: ord. | AS8: ext. | AU8: esp. | AW8: ord. | AY8: ext. | BA8: esp. | BC8: ord. | BE8: ext. | BG8: esp. | BI8: ord. | BK8: ext. | BM8: esp. | BO8: ord. | BQ8: ext. | BS8: esp. | BU8: ord. | BW8: ext. | BY8: esp.
A9: =+concentrado!C9 -> 4 | C9: =+concentrado!D9 -> 45 | E9: =+concentrado!E9 -> 0 | G9: =+concentrado!C10 -> 9 | I9: =+concentrado!D10 -> 61 | K9: =+concentrado!E10 -> 2 | M9: =+concentrado!C11 -> 4 | O9: =+concentrado!D11 -> 54 | Q9: =+concentrado!E11 -> 1 | S9: =concentrado!C12 -> 7 | U9: =concentrado!D12 -> 47 | W9: =concentrado!E12 -> 0 | Y9: =concentrado!C13 -> 9 | AA9: =concentrado!D13 -> 48 | AC9: ='18'!E68 -> 1 | AE9: =concentrado!C14 -> 4 | AG9: =concentrado!D14 -> 35 | AI9: =concentrado!E14 -> 0 | AK9: =concentrado!C15 -> 6 | AM9: =concentrado!D15 -> 41 | AO9: =concentrado!E15 -> 0 | AQ9: =concentrado!C16 -> 9 | AS9: =concentrado!D16 -> 66 | AU9: =concentrado!E16 -> 2 | AW9: =concentrado!C17 -> 4 | AY9: =concentrado!D17 -> 27 | BA9: =concentrado!E17 -> 0 | BC9: =concentrado!C18 -> 7 | BE9: =concentrado!D18 -> 39 | BG9: =concentrado!E18 -> 0 | BI9: =concentrado!C19 -> 10 | BK9: =concentrado!D19 -> 49 | BM9: =concentrado!E19 -> 1 | BO9: =concentrado!C20 -> 4 | BQ9: =concentrado!D20 -> 89 | BS9: =concentrado!E20 -> 0 | BU9: =concentrado!C21 -> 3 | BW9: =concentrado!D21 -> 41 | BY9: =concentrado!E21 -> 0
I23: 1
D24: X
D30: X | I30: 6 | J30: 2 | K30: 1
BA32: Totales
BE33: ordinaria | BK33: extraordinaria | BQ33: especial
B78: 10 de noviembre | D78: X | F78: 2
J81: Total de números alfanuméricos asignados: 1648 que corresponden a Acuerdos, Resoluciones y Dictámenes.

Sheet Grafica (columnas)
BD2: Datos
BD3: Estadísticos
BD4: del Consejo General
I19: 1
B20: 17 de abril | D20: X
B25: 23 de junio | D25: X | I25: 6 | J25: 2 | K25: 1
B28: Documento | H28: Años | AH28: Totales
H29: 2014 | J29: 2015 | L29: 2016 | N29: 2017 | P29: 2018 | R29: 2019 | T29: 2020 | V29: 2021 | X29: 2022 | Z29: 2023 | AB29: 2024 | AD29: 2025 | AF29: 2026
B31: Acuerdos | H31: =+concentrado!F9 -> 189 | J31: =+concentrado!F10 -> 370 | L31: =+concentrado!F11 -> 431 | N31: =concentrado!F12 -> 279 | P31: =concentrado!F13 -> 414 | R31: =concentrado!F14 -> 229 | T31: =concentrado!F15 -> 290 | V31: =concentrado!F16 -> 471 | X31: =concentrado!F17 -> 252 | Z31: =concentrado!F18 -> 263 | AB31: =concentrado!F19 -> 334 | AD31: =concentrado!F20 -> 392 | AF31: =concentrado!F21 -> 190 | AH31: =SUM(H31:AG31) -> 4104
B33: Resoluciones | H33: =+concentrado!G9 -> 159 | J33: =+concentrado!G10 -> 624 | L33: =+concentrado!G11 -> 347 | N33: =concentrado!G12 -> 314 | P33: =concentrado!G13 -> 960 | R33: =concentrado!G14 -> 310 | T33: =concentrado!G15 -> 402 | V33: =concentrado!G16 -> 1164 | X33: =concentrado!G17 -> 593 | Z33: =concentrado!G18 -> 413 | AB33: =concentrado!G19 -> 2033 | AD33: =concentrado!G20 -> 1104 | AF33: =concentrado!G21 -> 376 | AH33: =SUM(H33:AG33) -> 8799
B34: Dictámenes | H34: =concentrado!H9 -> 3 | J34: =concentrado!H10 -> 88 | L34: =concentrado!H11 -> 105 | N34: =concentrado!H12 -> 42 | P34: =concentrado!H13 -> 129 | R34: =concentrado!H14 -> 30 | T34: =concentrado!H15 -> 11 | V34: =concentrado!H16 -> 164 | X34: =concentrado!H17 -> 38 | Z34: =concentrado!H18 -> 13 | AB34: =concentrado!H19 -> 134 | AD34: =concentrado!H20 -> 34 | AF34: =concentrado!H21 -> 9 | AH34: =SUM(H34:AG34) -> 800
B36: Informes | H36: =+concentrado!I9 -> 58 | J36: =+concentrado!I10 -> 163 | L36: =+concentrado!I11 -> 112 | N36: =concentrado!I12 -> 138 | P36: =concentrado!I13 -> 196 | R36: =concentrado!I14 -> 85 | T36: =concentrado!I15 -> 115 | V36: =concentrado!I16 -> 214 | X36: =concentrado!I17 -> 135 | Z36: =concentrado!I18 -> 159 | AB36: =concentrado!I19 -> 224 | AD36: =concentrado!I20 -> 175 | AF36: =concentrado!I21 -> 100 | AH36: =SUM(H36:AG36) -> 1874
D52: X | F52: 3
B78: 10 de noviembre | D78: X | F78: 2
J81: Total de números alfanuméricos asignados: 1648 que corresponden a Acuerdos, Resoluciones y Dictámenes.
