Workbook
Name Experiencia: Combos!$D$1
Name NombreVacante: Combos!$B$1
Name NombreVacantes: Combos!$B$2:$B$50

Sheet Combos
A1: Adscripción | B1: NombreVacante | C1: Vacantes compuestas | D1: Experiencia | E1: Documento | F1: Área academica | H1: Entidad | I1: Documentos | J1: Nivel de estudio | K1: Adscripción | L1: Lengua | M1: Variante | N1: Dominio
A2: Unidad Técnica de Fiscalización | B2: Analista en Auditoria (Junta Local) | C2: Analista en Auditoria (Junta Local) | D2: 0 | E2: Con Título o cédula profesional | F2: Contabilidad | H2: Aguascalientes | I2: Título | J2: Licenciatura | K2: Dirección Ejecutiva de Capacitación Electoral y Educación Cívica | N2: La entiendo
A3: Unidad Técnica de Fiscalización | B3: Analista Jurídico Resolutor A | C3: Analista Jurídico Resolutor A | D3: 0 | E3: Con Título o cédula profesional | F3: Derecho, Contabilidad y fiscalización. | H3: Baja California | I3: Cédula Profesional | J3: Especialidad | K3: Dirección Ejecutiva de Organización Electoral | N3: La hablo fluidamente
A4: Unidad Técnica de Fiscalización | B4: Analista Jurídico Resolutor B | C4: Analista Jurídico Resolutor B | D4: 0 | E4: Con Título o cédula profesional | F4: Derecho, Contabilidad y fiscalización. | H4: Baja California Sur | I4: Título y Cédula Profesional | J4: Maestría | K4: Dirección Ejecutiva de Prerrogativas y Partidos Políticos | N4: La escribo
A5: Junta Local Ejecutiva | B5: Coordinación Operativa A | C5: Coordinación Operativa A | D5: 1 año en los últimos 3 años. | E5: Con Título o cédula profesional | F5: Todas | H5: Campeche | I5: Grado | J5: Doctorado | K5: Dirección Ejecutiva del Registro Federal de Electores | N5: La interpreto
A6: Unidad Técnica de Fiscalización | B6: Enlace de Fiscalización | C6: Enlace de Fiscalización | D6: 1 año en los últimos 3 años. | E6: Con Título o cédula profesional | F6: Contabilidad | H6: Coahuila | I6: Grado y Cédula Profesional | J6: Otro | K6: Junta Distrital Ejecutiva | N6: La traduzco
A7: Junta Local Ejecutiva | B7: Jefatura de Actualización al Padrón | C7: Jefatura de Actualización al Padrón | D7: 0 | E7: Con Título o cédula profesional | F7: Todas | H7: Colima | I7: Otro | K7: Junta Local Ejecutiva | N7: La entiendo y la hablo fluidamente
A8: Dirección Ejecutiva de Organización Electoral | B8: Jefatura de Departamento de Almacenamiento y Distribución | C8: Jefatura de Departamento de Almacenamiento y Distribución | D8: 1 año en los últimos 3 años. | E8: Con Título o cédula profesional | F8: Todas | H8: Chiapas | K8: Unidad Técnica de Fiscalización | N8: La entiendo y la escribo
A9: Unidad Técnica de Fiscalización | B9: Jefatura de Departamento de Auditoría | C9: Jefatura de Departamento de Auditoría | D9: 1 año en los últimos 3 años. | E9: Con Título o cédula profesional | F9: Contabilidad y Fiscalización, Desarrollo de Software, Tecnologías de la Información y Comunicaciones | H9: Chihuahua | K9: Unidad Técnica de lo Contencioso Electoral | N9: La entiendo y la interpreto
A10: Unidad Técnica de Vinculación con Organismos Públicos Locales | B10: Jefatura de Departamento de Convenios y Contenidos Normativos | C10: Jefatura de Departamento de Convenios y Contenidos Normativos | D10: 1 año en los últimos 3 años. | E10: Con Título o cédula profesional | F10: Derecho, Finanzas, banca y seguros, Contabilidad y fiscalización, Administración de empresas, Administración pública | H10: Ciudad de México | K10: Unidad Técnica de Vinculación con Organismos Públicos Locales | N10: La entiendo y la traduzco
A11: Unidad Técnica de Vinculación con Organismos Públicos Locales | B11: Jefatura de Departamento de Coordinación con Organismos Públicos Locales Electorales | C11: Jefatura de Departamento de Coordinación con Organismos Públicos Locales Electorales | D11: 1 año en los últimos 3 años. | E11: Con Título o cédula profesional | F11: Todas | H11: Durango | N11: La hablo fluidamente y la escribo
A12: Dirección Ejecutiva de Organización Electoral | B12: Jefatura de Departamento de Coordinación y Seguimiento de Órganos Desconcentrados | C12: Jefatura de Departamento de Coordinación y Seguimiento de Órganos Desconcentrados | D12: 1 año en los últimos 3 años. | E12: Con Título o cédula profesional | F12: Todas | H12: Guanajuato | N12: La hablo fluidamente y la interpreto
A13: Dirección Ejecutiva de Capacitación Electoral y Educación Cívica | B13: Jefatura de Departamento de Desarrollo de Métodos para la Educación Formal | C13: Jefatura de Departamento de Desarrollo de Métodos para la Educación Formal | D13: 1 año en los últimos 3 años. | E13: Con Título o cédula profesional | F13: Educación, Artes y humanidades, Ciencias sociales y derecho, Administración y negocios, Ciencias naturales, matemáticas y estadística, Tecnologías de la información y la comunicación, Ingeniería, manufactura y construcción, Ciencias de la Salud. | H13: Guerrero | N13: La hablo fluidamente y la traduzco
A14: Dirección Ejecutiva de Capacitación Electoral y Educación Cívica | B14: Jefatura de Departamento de Diseño de Estrategias para la Capacitación Electoral | C14: Jefatura de Departamento de Diseño de Estrategias para la Capacitación Electoral | D14: 1 año en los últimos 3 años. | E14: Con Título o cédula profesional | F14: Educación, Artes y humanidades, Ciencias sociales y derecho, Administración y negocios, Ciencias naturales, matemáticas y estadística, Tecnologías de la información y la comunicación, Ingeniería, manufactura y construcción, Ciencias de la Salud. | H14: Hidalgo | N14: La escribo y la interpreto
A15: Dirección Ejecutiva del Registro Federal de Electores | B15: Jefatura de Departamento de Estrategias de Capacitación | C15: Jefatura de Departamento de Estrategias de Capacitación | D15: 1 año en los últimos 3 años. | E15: Con Título o cédula profesional | F15: Educación, Ciencias sociales y Derecho, Administración y Negocios. | H15: Jalisco | N15: La escribo y la traduzco
A16: Dirección Ejecutiva del Registro Federal de Electores | B16: Jefatura de Departamento de Evaluación Demográfica | C16: Jefatura de Departamento de Evaluación Demográfica | D16: 1 año en los últimos 3 años. | E16: Con Título o cédula profesional | F16: Ciencias Sociales y Estudios del Comportamiento, Demografía, Estadística y Actuaría, Geografía Social. | H16: México | N16: La interpreto y la traduzco
A17: Dirección Ejecutiva de Prerrogativas y Partidos Políticos | B17: Jefatura de Departamento de Financiamiento Público | C17: Jefatura de Departamento de Financiamiento Público | D17: 1 año en los últimos 3 años. | E17: Con Título o cédula profesional | F17: Todas | H17: Michoacán | N17: La entiendo, la hablo fluidamente y la escribo
A18: Dirección Ejecutiva de Capacitación Electoral y Educación Cívica | B18: Jefatura de Departamento de Gestión del Conocimiento e Innovación | C18: Jefatura de Departamento de Gestión del Conocimiento e Innovación | D18: 1 año en los últimos 3 años. | E18: Con Título o cédula profesional | F18: Educación, Artes y humanidades, Ciencias sociales y derecho, Administración y negocios, Ciencias naturales, matemáticas y estadística, Tecnologías de la información y la comunicación, Ingeniería, manufactura y construcción, Ciencias de la Salud. | H18: Morelos | N18: La entiendo, la hablo fluidamente y la interpreto
A19: Dirección Ejecutiva de Organización Electoral | B19: Jefatura de Departamento de Información y Seguimiento | C19: Jefatura de Departamento de Información y Seguimiento | D19: 1 año en los últimos 3 años. | E19: Con Título o cédula profesional | F19: Todas | H19: Nayarit | N19: La entiendo, la hablo fluidamente y la traduzco
A20: Dirección Ejecutiva de Capacitación Electoral y Educación Cívica | B20: Jefatura de Departamento de Investigación y Producción de Información | C20: Jefatura de Departamento de Investigación y Producción de Información | D20: 1 año en los últimos 3 años. | E20: Con Título o cédula profesional | F20: Educación, Artes y humanidades, Ciencias sociales y derecho, Administración y negocios, Ciencias naturales, matemáticas y estadística, Tecnologías de la información y la comunicación, Ingeniería, manufactura y construcción, Ciencias de la Salud. | H20: Nuevo León | N20: La entiendo, la escribo y la interpreto
A21: Dirección Ejecutiva de Capacitación Electoral y Educación Cívica | B21: Jefatura de Departamento de Métodos y Contenidos para la Capacitación Electoral | C21: Jefatura de Departamento de Métodos y Contenidos para la Capacitación Electoral | D21: 1 año en los últimos 3 años. | E21: Con Título o cédula profesional | F21: Educación, Artes y humanidades, Ciencias sociales y derecho, Administración y negocios, Ciencias naturales, matemáticas y estadística, Tecnologías de la información y la comunicación, Ingeniería, manufactura y construcción, Ciencias de la Salud. | H21: Oaxaca | N21: La entiendo, la escribo y la traduzco
A22: Dirección Ejecutiva del Registro Federal de Electores | B22: Jefatura de Departamento de Planeación y Análisis de Programas | C22: Jefatura de Departamento de Planeación y Análisis de Programas | D22: 1 año en los últimos 3 años. | E22: Con Título o cédula profesional | F22: Todas | H22: Puebla | N22: La entiendo, la interpreto y la traduzco
... A30: Dirección Ejecutiva de Capacitación Electoral y Educación Cívica | B30: Jefatura de Departamento de Vinculación con Órganos Desconcentrados | C30: Jefatura de Departamento de Vinculación con Órganos Desconcentrados | D30: 1 año en los últimos 3 años. | E30: Con Título o cédula profesional | F30: Educación, Artes y humanidades, Ciencias sociales y derecho, Administración y negocios, Ciencias naturales, matemáticas y estadística, Tecnologías de la información y la comunicación, Ingeniería, manufactura y construcción, Ciencias de la Salud. | H30: Tlaxcala | N30: La entiendo, la escribo, la interpreto y la traduzco
A31: Junta Local Ejecutiva | B31: Jefatura de Depuración al Padrón | C31: Jefatura de Depuración al Padrón | D31: 0 | E31: Con Título o cédula profesional | F31: Todas | H31: Veracruz | N31: La hablo fluidamente, la escribo, la interpreto y la traduzco
A32: Junta Local Ejecutiva | B32: Jefatura de Oficina de Cartografía Estatal | C32: Jefatura de Oficina de Cartografía Estatal | D32: 0 | E32: Con Título o cédula profesional | F32: Todas | H32: Yucatán | N32: La entiendo, la hablo fluidamente, la escribo, la interpreto y la traduzco
A33: Dirección Ejecutiva de Capacitación Electoral y Educación Cívica | B33: Jefatura de Oficina de Relaciones Institucionales y Convenios | C33: Jefatura de Oficina de Relaciones Institucionales y Convenios | D33: 1 año en los últimos 3 años. | E33: Con Título o cédula profesional | F33: Educación, Artes y humanidades, Ciencias sociales y derecho, Administración y negocios, Ciencias naturales, matemáticas y estadística, Tecnologías de la información y la comunicación, Ingeniería, manufactura y construcción | H33: Zacatecas
A34: Junta Local Ejecutiva | B34: Jefatura de Oficina de Seguimiento y Análisis | C34: Jefatura de Oficina de Seguimiento y Análisis - JLE | D34: 0 | E34: Con Título o cédula profesional | F34: Todas
A35: Junta Distrital Ejecutiva | B35: Jefatura de Oficina de Seguimiento y Análisis | C35: Jefatura de Oficina de Seguimiento y Análisis - JDE | D35: 0 | E35: Con Título o cédula profesional | F35: Todas
A36: Junta Local Ejecutiva | B36: Jefatura del Centro Estatal de Consulta Electoral y Orientación Ciudadana | C36: Jefatura del Centro Estatal de Consulta Electoral y Orientación Ciudadana - JLE | D36: 0 | E36: Con Título o cédula profesional | F36: Todas
A37: Dirección Ejecutiva de Prerrogativas y Partidos Políticos | B37: Subdirección de Planeación y Gestión de Transmisiones | C37: Subdirección de Planeación y Gestión de Transmisiones | D37: 3 años en los últimos 6 años. | E37: Con Título o cédula profesional | F37: Todas
A38: Unidad Técnica de lo Contencioso Electoral | B38: Subdirección de Procedimientos Administrativos Sancionadores | C38: Subdirección de Procedimientos Administrativos Sancionadores | D38: 3 años en los últimos 6 años. | E38: Con Título o cédula profesional | F38: Preferentemente egresados de la licenciatura en Derecho, o cualquier otra carrera profesional, siempre que demuestren experiencia y conocimientos del orden jurídico nacional e internacional, interpretación y argumentación jurídica, valoración de pruebas y redacción de documentos jurídicos.
A39: Unidad Técnica de Fiscalización | B39: Subdirección de Resoluciones y Normatividad | C39: Subdirección de Resoluciones y Normatividad | D39: 3 años en los últimos 6 años. | E39: Con Título o cédula profesional | F39: Derecho
A40: Dirección Ejecutiva del Registro Federal de Electores | B40: Subdirección de Verificación en Campo | C40: Subdirección de Verificación en Campo | D40: 3 años en los últimos 6 años. | E40: Con Título o cédula profesional | F40: Todas.
A41: Junta Local Ejecutiva | B41: Vocalía de Capacitación Electoral y Educación Cívica | C41: Vocalía de Capacitación Electoral y Educación Cívica - JLE | D41: 3 años en los últimos 6 años. | E41: Con Título o cédula profesional | F41: Todas
A42: Junta Distrital Ejecutiva | B42: Vocalía de Capacitación Electoral y Educación Cívica | C42: Vocalía de Capacitación Electoral y Educación Cívica - JDE | D42: 2 años en los últimos 4 años. | E42: Con Título o cédula profesional | F42: Todas
A43: Junta Local Ejecutiva | B43: Vocalía de Organización Electoral | C43: Vocalía de Organización Electoral -JLE | D43: 3 años en los últimos 6 años. | E43: Con Título o cédula profesional | F43: Todas
A44: Junta Distrital Ejecutiva | B44: Vocalía de Organización Electoral | C44: Vocalía de Organización Electoral - JDE | D44: 2 años en los últimos 4 años. | E44: Con Título o cédula profesional | F44: Todas
A45: Junta Local Ejecutiva | B45: Vocalía del Registro Federal de Electores | C45: Vocalía del Registro Federal de Electores -JLE | D45: 3 años en los últimos 6 años. | E45: Con Título o cédula profesional | F45: Todas
A46: Junta Distrital Ejecutiva | B46: Vocalía del Registro Federal de Electores | C46: Vocalía del Registro Federal de Electores - JDE | D46: 2 años en los últimos 4 años. | E46: Con Título o cédula profesional | F46: Todas
A47: Junta Local Ejecutiva | B47: Vocalía Ejecutiva | C47: Vocalía Ejecutiva - JLE | D47: 4 años en los últimos 8 años. | E47: Con Título o cédula profesional | F47: Todas
...

Sheet Instructivo
A1: Instructivo para el llenado del CV-DESPEN
A3: Consideraciones generales
A5: Antes de iniciar el llenado del formato, toma en cuenta lo siguiente:
A7: Lee cuidadosamente la Convocatoria y el Instructivo de la etapa.
A8: La información capturada deberá coincidir exactamente con la documentación que adjuntes.
A9: Todos los documentos deberán ser legibles y encontrarse completos.
A10: No omitas información requerida en ninguno de los apartados.
A11: La información proporcionada se considera presentada bajo protesta de decir verdad.
A12: La DESPEN podrá verificar la autenticidad de la documentación presentada.
A13: En caso de proporcionar información falsa o documentación alterada, se aplicarán las consecuencias previstas en la Convocatoria y demás normatividad aplicable.
A15: Datos Generales
A16: En este apartado deberás proporcionar tus datos de identificación.
... A138: Revisaste cuidadosamente cada apartado antes del envío.

Sheet EJEMPLO
B1: Currículum vitae para la acreditación de requisitos
B2: Verificación del cumplimiento de requisitos del 3 al 10 de julio 2026
B4: DATOS GENERALES
B5: Nombre Completo: | C5: Juan Pérez González
B6: Folio de Registro: | C6: CPINE-01-2026- | E6: 000000
B7: Cargo o Puesto por el que Concursa: | C7: Coordinación Operativa A
B8: Entidad de Residencia: | C8: Campeche
B10: PERFIL DEL CARGO O PUESTO
B11: Nivel de Estudio | C11: Licenciatura | E11: Grado de avance | F11: =IFERROR(VLOOKUP(C7, Combos!C2:F50, 3, FALSE), "") -> Con Título o cédula profesional
B12: Área acádémica | C12: =IFERROR(VLOOKUP(C7, Combos!C2:F50, 4, FALSE), "") -> Todas | E12: Años de experiencia | F12: =IFERROR(VLOOKUP(C7, Combos!C2:F50, 2, FALSE), "") -> 1 año en los últimos 3 años.
B14: INFORMACIÓN ACADÉMICA
B15: No | C15: Nivel de Estudios | D15: Carrera | E15: Fecha de Término | F15: Comprobante Exhibido | G15: Observaciones
B16: 1 | C16: Licenciatura | D16: Sistemas computacionales | E16: 45983 | F16: Título y Cédula Profesional
B17: 2 | C17: Maestría | D17: Derecho | E17: 43840 | F17: Grado
B18: 3 | C18: Doctorado | D18: Administración | E18: 45777 | F18: Grado y Cédula Profesional
B20: EXPERIENCIA LABORAL
B21: Empresa o Institución | C21: Cargo o puesto desempeñado | D21: Funciones desempeñadas | E21: Comprobante de experiencia | F21: Fecha de inicio | G21: Fecha fin | H21: Tiempo computado
B22: Instituto Nacional Electoral | C22: Analista de BD | D22: Levantemiento de requerimiento, diseño de bases, analisis de información y seguimiento de reuniones | E22: Carta de recomendación y 34 comprobantes de pago | F22: 44753 | G22: 46194 | H22: =IF(OR(F22="", G22=""), "", DATEDIF(F22, G22, "y") & " años y " & DATEDIF(F22, G22, "ym") & " meses") -> 3 años y 11 meses | I22: =IF(OR(F22="", G22=""), "", DATEDIF(F22, G22, "m")) -> 47
I23: =IF(OR(F23="", G23=""), "", DATEDIF(F23, G23, "m"))
H24: =IF(OR(F24="", G24=""), "", DATEDIF(F24, G24, "y") & " años y " & DATEDIF(F24, G24, "ym") & " meses") | I24: =IF(OR(F24="", G24=""), "", DATEDIF(F24, G24, "m"))
H25: =IF(OR(F25="", G25=""), "", DATEDIF(F25, G25, "y") & " años y " & DATEDIF(F25, G25, "ym") & " meses") | I25: =IF(OR(F25="", G25=""), "", DATEDIF(F25, G25, "m"))
H26: =IF(OR(F26="", G26=""), "", DATEDIF(F26, G26, "y") & " años y " & DATEDIF(F26, G26, "ym") & " meses") | I26: =IF(OR(F26="", G26=""), "", DATEDIF(F26, G26, "m"))
F27: Total computado | H27: =IF(I27=0, "", INT(I27/12) & " años y " & MOD(I27, 12) & " meses") -> 3 años y 11 meses | I27: =SUM(I22:I26) -> 47
C29: DOMINIO DE LENGUAS INDÍGENAS NACIONALES
C30: Bajo protesta de decir verdad, manifiesto que poseo habilidades de comunicación en la o las siguientes lenguas indígenas nacionales:
C31: NO. | D31: LENGUA | E31: VARIANTE | F31: NIVEL DE DOMINIO
C32: 1 | D32: Náhuatl | E32: Náhuatl | F32: La entiendo, La hablo fluidamente y La escribo
C33: 2
C34: 3
C37: =IF(C5="","",C5) -> Juan Pérez González
C38: NOMBRE Y FIRMA DE LA PERSONA ASPIRANTE

Sheet CV-DESPEN
B1: Currículum vitae para la acreditación de requisitos
B2: Verificación del cumplimiento de requisitos del 3 al 10 de julio 2026
B4: DATOS GENERALES
B5: Nombre Completo:
B6: Folio de Registro: | C6: CPINE-01-2026-
B7: Cargo o Puesto por el que Concursa:
B8: Entidad de Residencia:
B10: PERFIL DEL CARGO O PUESTO
B11: Nivel de Estudio | C11: Licenciatura | E11: Grado de avance | F11: =IFERROR(VLOOKUP(C7, Combos!C2:F50, 3, FALSE), "")
B12: Área acádémica | C12: =IFERROR(VLOOKUP(C7, Combos!C2:F50, 4, FALSE), "") | E12: Años de experiencia | F12: =IFERROR(VLOOKUP(C7, Combos!C2:F50, 2, FALSE), "")
B14: INFORMACIÓN ACADÉMICA
B15: No | C15: Nivel de Estudios | D15: Carrera | E15: Fecha de Término | F15: Comprobante Exhibido | G15: Observaciones
B16: 1
B17: 2
B18: 3
B20: EXPERIENCIA LABORAL
B21: Empresa o Institución | C21: Cargo o puesto desempeñado | D21: Funciones desempeñadas | E21: Comprobante de experiencia | F21: Fecha de inicio | G21: Fecha fin | H21: Tiempo computado | I21: Columna1
H22: =IF(OR(F22="", G22=""), "", DATEDIF(F22, G22+1, "y") & " años, " & DATEDIF(F22, G22+1, "ym") & " mes y " & DATEDIF(F22, G22+1, "md") & " días") | I22: =IF(OR(F22="", G22=""), 0, DATEDIF(F22,G22+1,"y")*1000000 + DATEDIF(F22,G22+1,"ym")*1000 + DATEDIF(F22,G22+1,"md")) -> 0
H23: =IF(OR(F23="", G23=""), "", DATEDIF(F23, G23+1, "y") & " años, " & DATEDIF(F23, G23+1, "ym") & " mes y " & DATEDIF(F23, G23+1, "md") & " días") | I23: =IF(OR(F23="", G23=""), 0, DATEDIF(F23,G23+1,"y")*1000000 + DATEDIF(F23,G23+1,"ym")*1000 + DATEDIF(F23,G23+1,"md")) -> 0
H24: =IF(OR(F24="", G24=""), "", DATEDIF(F24, G24+1, "y") & " años, " & DATEDIF(F24, G24+1, "ym") & " mes y " & DATEDIF(F24, G24+1, "md") & " días") | I24: =IF(OR(F24="", G24=""), 0, DATEDIF(F24,G24+1,"y")*1000000 + DATEDIF(F24,G24+1,"ym")*1000 + DATEDIF(F24,G24+1,"md")) -> 0
H25: =IF(OR(F25="", G25=""), "", DATEDIF(F25, G25+1, "y") & " años, " & DATEDIF(F25, G25+1, "ym") & " mes y " & DATEDIF(F25, G25+1, "md") & " días") | I25: =IF(OR(F25="", G25=""), 0, DATEDIF(F25,G25+1,"y")*1000000 + DATEDIF(F25,G25+1,"ym")*1000 + DATEDIF(F25,G25+1,"md")) -> 0
H26: =IF(OR(F26="", G26=""), "", DATEDIF(F26, G26+1, "y") & " años, " & DATEDIF(F26, G26+1, "ym") & " mes y " & DATEDIF(F26, G26+1, "md") & " días") | I26: =IF(OR(F26="", G26=""), 0, DATEDIF(F26,G26+1,"y")*1000000 + DATEDIF(F26,G26+1,"ym")*1000 + DATEDIF(F26,G26+1,"md")) -> 0
H27: =IF(OR(F27="", G27=""), "", DATEDIF(F27, G27+1, "y") & " años, " & DATEDIF(F27, G27+1, "ym") & " mes y " & DATEDIF(F27, G27+1, "md") & " días") | I27: =IF(OR(F27="", G27=""), 0, DATEDIF(F27,G27+1,"y")*1000000 + DATEDIF(F27,G27+1,"ym")*1000 + DATEDIF(F27,G27+1,"md")) -> 0
H28: =IF(OR(F28="", G28=""), "", DATEDIF(F28, G28+1, "y") & " años, " & DATEDIF(F28, G28+1, "ym") & " mes y " & DATEDIF(F28, G28+1, "md") & " días") | I28: =IF(OR(F28="", G28=""), 0, DATEDIF(F28,G28+1,"y")*1000000 + DATEDIF(F28,G28+1,"ym")*1000 + DATEDIF(F28,G28+1,"md")) -> 0
H29: =IF(OR(F29="", G29=""), "", DATEDIF(F29, G29+1, "y") & " años, " & DATEDIF(F29, G29+1, "ym") & " mes y " & DATEDIF(F29, G29+1, "md") & " días") | I29: =IF(OR(F29="", G29=""), 0, DATEDIF(F29,G29+1,"y")*1000000 + DATEDIF(F29,G29+1,"ym")*1000 + DATEDIF(F29,G29+1,"md")) -> 0
F30: Total computado | H30: =IF(I30=0, "", (INT(I30/1000000)+INT((MOD(INT(I30/1000),1000)+INT(MOD(I30,1000)/30))/12)) & " años, " & MOD(MOD(INT(I30/1000),1000)+INT(MOD(I30,1000)/30),12) & " mes y " & MOD(MOD(I30,1000),30) & " días") | I30: =SUM(I22:I29) -> 0
C32: DOMINIO DE LENGUAS INDÍGENAS NACIONALES
C33: Bajo protesta de decir verdad, manifiesto que poseo habilidades de comunicación en la o las siguientes lenguas indígenas nacionales:
C34: NO. | D34: LENGUA | E34: VARIANTE | F34: NIVEL DE DOMINIO
C35: 1
C36: 2
C37: 3
C40: =IF(C5="","",C5)
C41: NOMBRE Y FIRMA DE LA PERSONA ASPIRANTE
